PDS_VERSION_ID = PDS3
/* FILE DATA ELEMENTS */
RECORD_TYPE = UNDEFINED
/* POINTERS TO DATA OBJECTS */
^IMAGE = ("HD823_0000_RE4.TIF")
/* IDENTIFICATION DATA ELEMENTS */
DATA_SET_ID = "MEX-M-HRSC-4-REFDR-MAPPROJECT-EXT4-V4.0"
DATA_SET_NAME = "MARS EXPRESS HRSC MAP PROJECTED REFDR EXTENSION4 V4.0"
DETECTOR_ID = MEX_HRSC_RED
EVENT_TYPE = "MARS-CLOUD-VARIABLE-At"
INSTRUMENT_HOST_ID = MEX
INSTRUMENT_HOST_NAME = "MARS EXPRESS"
INSTRUMENT_ID = HRSC
INSTRUMENT_NAME = "HIGH RESOLUTION STEREO CAMERA"
MISSION_NAME = "MARS EXPRESS"
MISSION_PHASE_NAME = ME_Phase_31
PROCESSING_LEVEL_ID = 4
PRODUCT_CREATION_TIME = 2023-02-01T02:09:17.000Z
PRODUCT_ID = "HD823_0000_RE4.TIF"
RELEASE_ID = 0005
REVISION_ID = 0000
/* QUALITY DATA ELEMENTS */
DATA_QUALITY_ID = 1
DATA_QUALITY_DESC = "Data calculated based on original SPICE kernels"
/* TIME DATA ELEMENTS */
SPACECRAFT_CLOCK_START_COUNT = "1/0364692334.09062"
SPACECRAFT_CLOCK_STOP_COUNT = "1/0364692709.63419"
START_TIME = 2014-11-21T23:26:20.710Z
STOP_TIME = 2014-11-21T23:31:53.839Z
/* ORBITAL DATA ELEMENTS */
ASCENDING_NODE_LONGITUDE = 314.18
MAXIMUM_RESOLUTION = 0.0737
FOOTPRINT_POINT_LATITUDE = (50.0155,50.0043,49.9854,49.9592, 49.9585,50.0422,49.391,48.569,47.9077, 47.4038,46.7319,46.2205,45.8789,45.3647 ,45.0171,44.6704,44.3198,43.9675, 43.6161,43.259,42.7237,42.1809,41.8191, 41.4516,41.0844,40.5272,40.1557,39.7778 ,39.4005,39.0187,38.4433,38.056,37.6651 ,37.2751,36.8787,36.2773,35.8764, 35.4706,35.0599,34.6482,34.2334,33.8139 ,33.3931,32.9702,32.5415,32.112,31.6766 ,31.4578,31.4551,31.462,31.4552,31.4594 ,31.4491,31.4485,31.4483,31.4496,32.105 ,32.5367,32.9678,33.3951,33.8179, 34.2376,34.6529,35.0652,35.4771,35.8846 ,36.287,36.6898,37.0869,37.4835,37.8765 ,38.4611,38.8477,39.2302,39.6107, 39.9898,40.3664,40.74,41.2972,41.8494, 42.2126,42.7576,43.2949,43.6536,44.006, 44.3593,44.7106,45.0585,45.4069,45.9237 ,46.4373,46.779,47.1159,47.4534,47.9591 ,48.6223,49.4472,49.9371,50.1008, 50.0155)
FOOTPRINT_POINT_LONGITUDE = (357.056,356.474,355.677,354.773, 354.751,354.691,354.737,354.79,354.83, 354.858,354.893,354.917,354.933,354.955 ,354.969,354.983,354.996,355.008,355.02 ,355.031,355.046,355.061,355.069, 355.077,355.085,355.095,355.101,355.107 ,355.112,355.116,355.121,355.124, 355.127,355.128,355.129,355.13,355.129, 355.128,355.127,355.125,355.121,355.118 ,355.114,355.108,355.102,355.095, 355.088,355.084,355.084,355.642,356.076 ,356.534,357.272,357.783,357.808, 357.817,357.8,357.788,357.777,357.767, 357.755,357.744,357.732,357.72,357.709, 357.697,357.685,357.673,357.661,357.649 ,357.636,357.618,357.606,357.593,357.58 ,357.567,357.554,357.54,357.52,357.499, 357.485,357.464,357.442,357.427,357.412 ,357.397,357.381,357.366,357.35,357.326 ,357.301,357.284,357.267,357.25,357.223 ,357.187,357.14,357.111,357.101, 357.056)
ORBIT_NUMBER = 13823
ORBITAL_ECCENTRICITY = 0.571
ORBITAL_INCLINATION = 86.92
ORBITAL_SEMIMAJOR_AXIS = 8776.19
PERIAPSIS_ALTITUDE = 382.36
PERIAPSIS_ARGUMENT_ANGLE = 115.5
PERIAPSIS_TIME = 2014-11-21T23:22:02.000Z
SPACECRAFT_ORIENTATION = (0.0,-1.0,0.0)
^MEX_ORIENTATION_DESC = "MEX_ORIENTATION_DESC.TXT"
SPACECRAFT_POINTING_MODE = NADIR
^MEX_POINTING_DESC = "MEX_POINTING_DESC.TXT"
RIGHT_ASCENSION = -1e+32
DECLINATION = -1e+32
OFFSET_ANGLE = -1e+32
SPACECRAFT_SOLAR_DISTANCE = 2.07075e+08
TARGET_NAME = MARS
/* CAMERA DATA ELEMENTS */
DETECTOR_TEMPERATURE = 19.1861
FOCAL_PLANE_TEMPERATURE = 9.195
INST_CMPRS_NAME = "DISCRETE COSINE TRANSFORMATION (DCT)"
INST_CMPRS_RATIO = 23.3112
INST_CMPRS_QUALITY = 0
INST_CMPRS_QUANTZ_TBL_ID = 0
INSTRUMENT_TEMPERATURE = 12.0496
LENS_TEMPERATURE = 9.3989
MACROPIXEL_SIZE = 4
MISSING_FRAMES = 0
PIXEL_SUBSAMPLING_FLAG = N
SIGNAL_CHAIN_ID = 2
/* RADIOMETRIC DATA ELEMENTS */
BANDWIDTH = 48.0
CENTER_FILTER_WAVELENGTH = 748.0
RADIANCE_OFFSET = 0.598428
RADIANCE_SCALING_FACTOR = 0.006967
REFLECTANCE_SCALING_FACTOR = 0.000681753
MEX:REFLECTANCE_OFFSET = 0.058559
/* IMAGE OBJECT DEFINITIONS */
OBJECT = IMAGE
  INTERCHANGE_FORMAT = BINARY
  LINES = 22122
  LINE_SAMPLES = 2697
  SAMPLE_TYPE = UNSIGNED_INTEGER
  SAMPLE_BITS = 8
  BANDS = 1
  BAND_STORAGE_TYPE = BAND_SEQUENTIAL
  MAXIMUM = 255
  MEAN = 112.914
  MINIMUM = 1
  STANDARD_DEVIATION = 64.0387
END_OBJECT = IMAGE
/* MAP OBJECT DEFINITIONS */
OBJECT = IMAGE_MAP_PROJECTION
  ^DATA_SET_MAP_PROJECTION_CATALOG= "DSMAP.CAT"
  A_AXIS_RADIUS = 3396.0
  B_AXIS_RADIUS = 3396.0
  C_AXIS_RADIUS = 3396.0
  CENTER_LATITUDE = 0.0
  CENTER_LONGITUDE = 356.0
  COORDINATE_SYSTEM_NAME = PLANETOGRAPHIC
  COORDINATE_SYSTEM_TYPE = "BODY-FIXED ROTATING"
  EASTERNMOST_LONGITUDE = 357.817
  FIRST_STANDARD_PARALLEL = "N/A"
  LINE_FIRST_PIXEL = 1
  LINE_LAST_PIXEL = 22122
  LINE_PROJECTION_OFFSET = 59388.0
  MAP_PROJECTION_ROTATION = 0.0
  MAP_PROJECTION_TYPE = SINUSOIDAL
  MAP_RESOLUTION = 1185.42760773333
  MAP_SCALE = 0.05
  MAXIMUM_LATITUDE = 50.1008
  MINIMUM_LATITUDE = 31.4483
  POSITIVE_LONGITUDE_DIRECTION = EAST
  REFERENCE_LATITUDE = "N/A"
  REFERENCE_LONGITUDE = "N/A"
  SAMPLE_FIRST_PIXEL = 1
  SAMPLE_LAST_PIXEL = 2697
  SAMPLE_PROJECTION_OFFSET = 963.0
  SECOND_STANDARD_PARALLEL = "N/A"
  WESTERNMOST_LONGITUDE = 354.691
END_OBJECT = IMAGE_MAP_PROJECTION
END
