PDS_VERSION_ID = PDS3
/* FILE DATA ELEMENTS */
RECORD_TYPE = UNDEFINED
/* POINTERS TO DATA OBJECTS */
^IMAGE = ("HD820_0000_ND4.TIF")
/* IDENTIFICATION DATA ELEMENTS */
DATA_SET_ID = "MEX-M-HRSC-4-REFDR-MAPPROJECT-EXT4-V4.0"
DATA_SET_NAME = "MARS EXPRESS HRSC MAP PROJECTED REFDR EXTENSION4 V4.0"
DETECTOR_ID = MEX_HRSC_NADIR
EVENT_TYPE = "MARS-REGIONAL-MAPPING-Vo-Te-Fl"
INSTRUMENT_HOST_ID = MEX
INSTRUMENT_HOST_NAME = "MARS EXPRESS"
INSTRUMENT_ID = HRSC
INSTRUMENT_NAME = "HIGH RESOLUTION STEREO CAMERA"
MISSION_NAME = "MARS EXPRESS"
MISSION_PHASE_NAME = ME_Phase_31
PROCESSING_LEVEL_ID = 4
PRODUCT_CREATION_TIME = 2023-02-01T02:09:17.000Z
PRODUCT_ID = "HD820_0000_ND4.TIF"
RELEASE_ID = 0005
REVISION_ID = 0000
/* QUALITY DATA ELEMENTS */
DATA_QUALITY_ID = 1
DATA_QUALITY_DESC = "Data calculated based on original SPICE kernels"
/* TIME DATA ELEMENTS */
SPACECRAFT_CLOCK_START_COUNT = "1/0364616889.07343"
SPACECRAFT_CLOCK_STOP_COUNT = "1/0364617230.06843"
START_TIME = 2014-11-21T02:28:56.558Z
STOP_TIME = 2014-11-21T02:32:42.525Z
/* ORBITAL DATA ELEMENTS */
ASCENDING_NODE_LONGITUDE = 314.24
MAXIMUM_RESOLUTION = 0.0185
FOOTPRINT_POINT_LATITUDE = (43.983,43.9735,43.959,43.9406,43.94, 43.94,43.2197,42.738,42.1259,41.6356, 41.3872,41.1372,40.8875,40.6382,40.3856 ,40.1314,39.8775,39.624,39.237,38.9788, 38.7211,38.3281,38.0659,37.804,37.5375, 37.271,37.0049,36.7349,36.4642,36.1941, 35.9199,35.6453,35.3712,35.0926,34.675, 34.2519,33.9696,33.5407,33.2545,32.8199 ,32.5299,32.0886,31.7944,31.496,31.1985 ,30.7458,30.595,30.5817,30.5851,30.5879 ,30.5888,30.5887,30.587,30.5844,30.5842 ,30.5845,30.8871,31.1902,31.4891, 31.9363,32.2314,32.5267,32.8178,33.2539 ,33.5411,33.9716,34.2549,34.6796, 34.9587,35.2384,35.6532,35.9287,36.2039 ,36.4749,36.7465,37.0175,37.2843, 37.5515,37.8191,38.0818,38.3448,38.7392 ,38.9977,39.2566,39.645,39.8993,40.1539 ,40.4088,40.6623,40.9124,41.1628, 41.4135,41.6628,42.1545,42.4009,42.7686 ,43.2517,43.8559,43.9743,43.983)
FOOTPRINT_POINT_LONGITUDE = (304.009,303.298,302.566,301.854, 301.833,301.793,301.818,301.835,301.853 ,301.867,301.873,301.878,301.884, 301.889,301.894,301.899,301.904,301.908 ,301.914,301.918,301.922,301.927,301.93 ,301.932,301.935,301.937,301.94,301.942 ,301.943,301.944,301.945,301.945, 301.945,301.945,301.944,301.943,301.942 ,301.94,301.938,301.935,301.931,301.93, 301.926,301.923,301.914,301.907,301.905 ,301.905,302.275,302.768,303.112, 303.507,304.0,304.371,304.395,304.407, 304.401,304.394,304.391,304.378,304.373 ,304.367,304.361,304.351,304.345, 304.334,304.33,304.32,304.314,304.307, 304.297,304.291,304.284,304.277,304.273 ,304.265,304.257,304.248,304.241, 304.234,304.228,304.216,304.209,304.202 ,304.19,304.182,304.174,304.166,304.158 ,304.15,304.142,304.133,304.124,304.107 ,304.098,304.085,304.067,304.045,304.04 ,304.009)
ORBIT_NUMBER = 13820
ORBITAL_ECCENTRICITY = 0.571
ORBITAL_INCLINATION = 86.92
ORBITAL_SEMIMAJOR_AXIS = 8776.42
PERIAPSIS_ALTITUDE = 382.09
PERIAPSIS_ARGUMENT_ANGLE = 116.06
PERIAPSIS_TIME = 2014-11-21T02:23:42.000Z
SPACECRAFT_ORIENTATION = (0.0,-1.0,0.0)
^MEX_ORIENTATION_DESC = "MEX_ORIENTATION_DESC.TXT"
SPACECRAFT_POINTING_MODE = NADIR
^MEX_POINTING_DESC = "MEX_POINTING_DESC.TXT"
RIGHT_ASCENSION = -1e+32
DECLINATION = -1e+32
OFFSET_ANGLE = -1e+32
SPACECRAFT_SOLAR_DISTANCE = 2.07114e+08
TARGET_NAME = MARS
/* CAMERA DATA ELEMENTS */
DETECTOR_TEMPERATURE = 18.7783
FOCAL_PLANE_TEMPERATURE = 9.195
INST_CMPRS_NAME = "DISCRETE COSINE TRANSFORMATION (DCT)"
INST_CMPRS_RATIO = 6.82298
INST_CMPRS_QUALITY = 0
INST_CMPRS_QUANTZ_TBL_ID = 0
INSTRUMENT_TEMPERATURE = 11.8457
LENS_TEMPERATURE = 9.6028
MACROPIXEL_SIZE = 1
MISSING_FRAMES = 0
PIXEL_SUBSAMPLING_FLAG = N
SIGNAL_CHAIN_ID = 0
/* RADIOMETRIC DATA ELEMENTS */
BANDWIDTH = 177.0
CENTER_FILTER_WAVELENGTH = 677.5
RADIANCE_OFFSET = 3.27896
RADIANCE_SCALING_FACTOR = 0.0187369
REFLECTANCE_SCALING_FACTOR = 0.000426974
MEX:REFLECTANCE_OFFSET = 0.0747205
/* IMAGE OBJECT DEFINITIONS */
OBJECT = IMAGE
  INTERCHANGE_FORMAT = BINARY
  LINES = 63553
  LINE_SAMPLES = 10219
  SAMPLE_TYPE = UNSIGNED_INTEGER
  SAMPLE_BITS = 8
  BANDS = 1
  BAND_STORAGE_TYPE = BAND_SEQUENTIAL
  MAXIMUM = 255
  MEAN = 97.3505
  MINIMUM = 1
  STANDARD_DEVIATION = 40.0084
END_OBJECT = IMAGE
/* MAP OBJECT DEFINITIONS */
OBJECT = IMAGE_MAP_PROJECTION
  ^DATA_SET_MAP_PROJECTION_CATALOG= "DSMAP.CAT"
  A_AXIS_RADIUS = 3396.0
  B_AXIS_RADIUS = 3396.0
  C_AXIS_RADIUS = 3396.0
  CENTER_LATITUDE = 0.0
  CENTER_LONGITUDE = 303.0
  COORDINATE_SYSTEM_NAME = PLANETOGRAPHIC
  COORDINATE_SYSTEM_TYPE = "BODY-FIXED ROTATING"
  EASTERNMOST_LONGITUDE = 304.407
  FIRST_STANDARD_PARALLEL = "N/A"
  LINE_FIRST_PIXEL = 1
  LINE_LAST_PIXEL = 63553
  LINE_PROJECTION_OFFSET = 208563.0
  MAP_PROJECTION_ROTATION = 0.0
  MAP_PROJECTION_TYPE = SINUSOIDAL
  MAP_RESOLUTION = 4741.71043093333
  MAP_SCALE = 0.0125
  MAXIMUM_LATITUDE = 43.983
  MINIMUM_LATITUDE = 30.5817
  POSITIVE_LONGITUDE_DIRECTION = EAST
  REFERENCE_LATITUDE = "N/A"
  REFERENCE_LONGITUDE = "N/A"
  SAMPLE_FIRST_PIXEL = 1
  SAMPLE_LAST_PIXEL = 10219
  SAMPLE_PROJECTION_OFFSET = 4472.0
  SECOND_STANDARD_PARALLEL = "N/A"
  WESTERNMOST_LONGITUDE = 301.793
END_OBJECT = IMAGE_MAP_PROJECTION
END
