PDS_VERSION_ID = PDS3
/* FILE DATA ELEMENTS */
RECORD_TYPE = UNDEFINED
/* POINTERS TO DATA OBJECTS */
^IMAGE = ("HD813_0000_S14.TIF")
/* IDENTIFICATION DATA ELEMENTS */
DATA_SET_ID = "MEX-M-HRSC-4-REFDR-MAPPROJECT-EXT4-V4.0"
DATA_SET_NAME = "MARS EXPRESS HRSC MAP PROJECTED REFDR EXTENSION4 V4.0"
DETECTOR_ID = MEX_HRSC_S1
EVENT_TYPE = "MARS-REGIONAL-STEREO-Te"
INSTRUMENT_HOST_ID = MEX
INSTRUMENT_HOST_NAME = "MARS EXPRESS"
INSTRUMENT_ID = HRSC
INSTRUMENT_NAME = "HIGH RESOLUTION STEREO CAMERA"
MISSION_NAME = "MARS EXPRESS"
MISSION_PHASE_NAME = ME_Phase_31
PROCESSING_LEVEL_ID = 4
PRODUCT_CREATION_TIME = 2023-02-01T02:09:17.000Z
PRODUCT_ID = "HD813_0000_S14.TIF"
RELEASE_ID = 0005
REVISION_ID = 0000
/* QUALITY DATA ELEMENTS */
DATA_QUALITY_ID = 1
DATA_QUALITY_DESC = "Data calculated based on original SPICE kernels"
/* TIME DATA ELEMENTS */
SPACECRAFT_CLOCK_START_COUNT = "1/0364440553.07342"
SPACECRAFT_CLOCK_STOP_COUNT = "1/0364440762.56520"
START_TIME = 2014-11-19T01:29:19.030Z
STOP_TIME = 2014-11-19T01:31:23.031Z
/* ORBITAL DATA ELEMENTS */
ASCENDING_NODE_LONGITUDE = 314.37
MAXIMUM_RESOLUTION = 0.0167
FOOTPRINT_POINT_LATITUDE = (53.263,53.2519,53.2427,53.2293,53.2167 ,53.2055,53.1906,53.1896,53.094,52.7785 ,52.5408,52.303,52.1445,51.9851,51.7468 ,51.5875,51.4285,51.2702,51.0322, 50.8733,50.5565,50.3966,50.2377,49.9221 ,49.7637,49.6048,49.4448,49.2856,49.126 ,48.9601,48.7978,48.6393,48.4049, 48.0162,47.8574,47.6185,47.4591,47.2966 ,47.1329,46.888,46.7242,46.4796,46.3162 ,46.0712,45.908,45.6632,45.4144,45.1635 ,45.0797,45.0728,45.0807,45.0902, 45.1018,45.1081,45.1156,45.12,45.1203, 45.1206,45.3724,45.5405,45.7061,45.8699 ,46.0334,46.1972,46.4428,46.6067, 46.7706,46.9343,47.0981,47.2613,47.5064 ,47.6655,47.9048,48.0643,48.2245, 48.4647,48.6242,48.8626,49.1812,49.4185 ,49.7321,49.8916,50.0504,50.2119, 50.3727,50.6123,50.772,51.0118,51.3291, 51.489,51.7264,51.8862,52.2034,52.3637, 52.5237,52.6832,52.8418,53.0789,53.1584 ,53.263)
FOOTPRINT_POINT_LONGITUDE = (299.169,298.711,298.385,297.971, 297.623,297.341,296.993,296.971,296.924 ,296.958,296.982,297.006,297.022, 297.037,297.059,297.074,297.088,297.103 ,297.124,297.138,297.165,297.178, 297.191,297.217,297.23,297.242,297.254, 297.266,297.277,297.286,297.296,297.307 ,297.325,297.355,297.365,297.38,297.39, 297.4,297.41,297.424,297.433,297.447, 297.456,297.469,297.478,297.49,297.503, 297.515,297.519,297.519,297.769,298.103 ,298.542,298.855,299.295,299.609,299.63 ,299.64,299.63,299.624,299.617,299.61, 299.603,299.596,299.586,299.579,299.572 ,299.564,299.557,299.55,299.539,299.532 ,299.52,299.513,299.505,299.493,299.485 ,299.473,299.457,299.446,299.432, 299.424,299.415,299.406,299.396,299.382 ,299.373,299.359,299.341,299.331, 299.318,299.308,299.289,299.278,299.268 ,299.257,299.247,299.232,299.227, 299.169)
ORBIT_NUMBER = 13813
ORBITAL_ECCENTRICITY = 0.571
ORBITAL_INCLINATION = 86.91
ORBITAL_SEMIMAJOR_AXIS = 8778.32
PERIAPSIS_ALTITUDE = 381.54
PERIAPSIS_ARGUMENT_ANGLE = 117.26
PERIAPSIS_TIME = 2014-11-19T01:27:26.000Z
SPACECRAFT_ORIENTATION = (0.0,-1.0,0.0)
^MEX_ORIENTATION_DESC = "MEX_ORIENTATION_DESC.TXT"
SPACECRAFT_POINTING_MODE = NADIR
^MEX_POINTING_DESC = "MEX_POINTING_DESC.TXT"
RIGHT_ASCENSION = -1e+32
DECLINATION = -1e+32
OFFSET_ANGLE = -1e+32
SPACECRAFT_SOLAR_DISTANCE = 2.07211e+08
TARGET_NAME = MARS
/* CAMERA DATA ELEMENTS */
DETECTOR_TEMPERATURE = 17.5549
FOCAL_PLANE_TEMPERATURE = 8.7872
INST_CMPRS_NAME = "DISCRETE COSINE TRANSFORMATION (DCT)"
INST_CMPRS_RATIO = 6.9151
INST_CMPRS_QUALITY = 0
INST_CMPRS_QUANTZ_TBL_ID = 0
INSTRUMENT_TEMPERATURE = 11.234
LENS_TEMPERATURE = 9.3989
MACROPIXEL_SIZE = 1
MISSING_FRAMES = 0
PIXEL_SUBSAMPLING_FLAG = N
SIGNAL_CHAIN_ID = 2
/* RADIOMETRIC DATA ELEMENTS */
BANDWIDTH = 180.0
CENTER_FILTER_WAVELENGTH = 677.0
RADIANCE_OFFSET = 2.20435
RADIANCE_SCALING_FACTOR = 0.0123354
REFLECTANCE_SCALING_FACTOR = 0.000276327
MEX:REFLECTANCE_OFFSET = 0.0493799
/* IMAGE OBJECT DEFINITIONS */
OBJECT = IMAGE
  INTERCHANGE_FORMAT = BINARY
  LINES = 38423
  LINE_SAMPLES = 8721
  SAMPLE_TYPE = UNSIGNED_INTEGER
  SAMPLE_BITS = 8
  BANDS = 1
  BAND_STORAGE_TYPE = BAND_SEQUENTIAL
  MAXIMUM = 255
  MEAN = 134.47
  MINIMUM = 1
  STANDARD_DEVIATION = 42.8423
END_OBJECT = IMAGE
/* MAP OBJECT DEFINITIONS */
OBJECT = IMAGE_MAP_PROJECTION
  ^DATA_SET_MAP_PROJECTION_CATALOG= "DSMAP.CAT"
  A_AXIS_RADIUS = 3396.0
  B_AXIS_RADIUS = 3396.0
  C_AXIS_RADIUS = 3396.0
  CENTER_LATITUDE = 0.0
  CENTER_LONGITUDE = 298.0
  COORDINATE_SYSTEM_NAME = PLANETOGRAPHIC
  COORDINATE_SYSTEM_TYPE = "BODY-FIXED ROTATING"
  EASTERNMOST_LONGITUDE = 299.64
  FIRST_STANDARD_PARALLEL = "N/A"
  LINE_FIRST_PIXEL = 1
  LINE_LAST_PIXEL = 38423
  LINE_PROJECTION_OFFSET = 252200.0
  MAP_PROJECTION_ROTATION = 0.0
  MAP_PROJECTION_TYPE = SINUSOIDAL
  MAP_RESOLUTION = 4741.71043093333
  MAP_SCALE = 0.0125
  MAXIMUM_LATITUDE = 53.263
  MINIMUM_LATITUDE = 45.0728
  POSITIVE_LONGITUDE_DIRECTION = EAST
  REFERENCE_LATITUDE = "N/A"
  REFERENCE_LONGITUDE = "N/A"
  SAMPLE_FIRST_PIXEL = 1
  SAMPLE_LAST_PIXEL = 8721
  SAMPLE_PROJECTION_OFFSET = 3135.0
  SECOND_STANDARD_PARALLEL = "N/A"
  WESTERNMOST_LONGITUDE = 296.924
END_OBJECT = IMAGE_MAP_PROJECTION
END
