PDS_VERSION_ID = PDS3
/* FILE DATA ELEMENTS */
RECORD_TYPE = UNDEFINED
/* POINTERS TO DATA OBJECTS */
^IMAGE = ("HD811_0000_P24.TIF")
/* IDENTIFICATION DATA ELEMENTS */
DATA_SET_ID = "MEX-M-HRSC-4-REFDR-MAPPROJECT-EXT4-V4.0"
DATA_SET_NAME = "MARS EXPRESS HRSC MAP PROJECTED REFDR EXTENSION4 V4.0"
DETECTOR_ID = MEX_HRSC_P2
EVENT_TYPE = "MARS-REGIONAL-MAPPING-Im-Pf"
INSTRUMENT_HOST_ID = MEX
INSTRUMENT_HOST_NAME = "MARS EXPRESS"
INSTRUMENT_ID = HRSC
INSTRUMENT_NAME = "HIGH RESOLUTION STEREO CAMERA"
MISSION_NAME = "MARS EXPRESS"
MISSION_PHASE_NAME = ME_Phase_31
PROCESSING_LEVEL_ID = 4
PRODUCT_CREATION_TIME = 2023-02-01T02:09:17.000Z
PRODUCT_ID = "HD811_0000_P24.TIF"
RELEASE_ID = 0005
REVISION_ID = 0000
/* QUALITY DATA ELEMENTS */
DATA_QUALITY_ID = 1
DATA_QUALITY_DESC = "Data calculated based on original SPICE kernels"
/* TIME DATA ELEMENTS */
SPACECRAFT_CLOCK_START_COUNT = "1/0364390261.07346"
SPACECRAFT_CLOCK_STOP_COUNT = "1/0364390446.30471"
START_TIME = 2014-11-18T11:32:09.536Z
STOP_TIME = 2014-11-18T11:33:54.181Z
/* ORBITAL DATA ELEMENTS */
ASCENDING_NODE_LONGITUDE = 314.41
MAXIMUM_RESOLUTION = 0.0349
FOOTPRINT_POINT_LATITUDE = (49.7985,49.7922,49.7818,49.776,49.7653 ,49.7553,49.7425,49.7418,49.8052, 49.5648,49.3243,49.1403,48.8942,48.71, 48.5263,48.2202,47.8535,47.5434,47.4185 ,47.2935,47.1683,47.0436,46.9191, 46.6707,46.4223,46.2967,46.1694,46.0425 ,45.8521,45.7249,45.5982,45.4714, 45.3448,45.2181,45.0917,44.9629,44.8337 ,44.7043,44.5107,44.382,44.2533,44.0602 ,43.9315,43.7351,43.6039,43.5383, 43.5025,43.5073,43.5113,43.5153,43.5189 ,43.5242,43.5298,43.5325,43.535,43.5387 ,43.542,43.5422,43.5429,43.6745,43.8061 ,43.9377,44.0664,44.1953,44.3245, 44.4537,44.5832,44.7128,44.9072,45.0368 ,45.1653,45.292,45.4192,45.5462,45.6734 ,45.8643,46.0553,46.1828,46.3103, 46.4369,46.5616,46.6864,46.8113,46.9364 ,47.0614,47.1866,47.3117,47.4371, 47.6251,47.8742,48.1196,48.3036,48.5494 ,48.7339,49.1034,49.3499,49.5908, 49.7715,49.8318,49.7985)
FOOTPRINT_POINT_LONGITUDE = (143.919,143.596,143.123,142.887, 142.479,142.136,141.728,141.706,141.649 ,141.666,141.684,141.697,141.714, 141.726,141.738,141.758,141.78,141.799, 141.806,141.813,141.82,141.827,141.834, 141.846,141.859,141.866,141.872,141.878 ,141.887,141.893,141.899,141.905, 141.911,141.917,141.922,141.928,141.933 ,141.939,141.946,141.951,141.956, 141.964,141.969,141.976,141.98,141.983, 141.984,142.182,142.359,142.536,142.712 ,142.999,143.33,143.507,143.684,143.949 ,144.237,144.259,144.267,144.261, 144.256,144.25,144.245,144.24,144.234, 144.229,144.223,144.218,144.21,144.204, 144.198,144.193,144.187,144.181,144.176 ,144.167,144.158,144.152,144.146,144.14 ,144.135,144.129,144.123,144.117, 144.111,144.104,144.098,144.092,144.082 ,144.07,144.057,144.047,144.034,144.024 ,144.004,143.99,143.977,143.966,143.963 ,143.919)
ORBIT_NUMBER = 13811
ORBITAL_ECCENTRICITY = 0.572
ORBITAL_INCLINATION = 86.91
ORBITAL_SEMIMAJOR_AXIS = 8780.48
PERIAPSIS_ALTITUDE = 381.88
PERIAPSIS_ARGUMENT_ANGLE = 117.59
PERIAPSIS_TIME = 2014-11-18T11:28:28.000Z
SPACECRAFT_ORIENTATION = (0.0,-1.0,0.0)
^MEX_ORIENTATION_DESC = "MEX_ORIENTATION_DESC.TXT"
SPACECRAFT_POINTING_MODE = NADIR
^MEX_POINTING_DESC = "MEX_POINTING_DESC.TXT"
RIGHT_ASCENSION = -1e+32
DECLINATION = -1e+32
OFFSET_ANGLE = -1e+32
SPACECRAFT_SOLAR_DISTANCE = 2.07241e+08
TARGET_NAME = MARS
/* CAMERA DATA ELEMENTS */
DETECTOR_TEMPERATURE = 19.1861
FOCAL_PLANE_TEMPERATURE = 8.7872
INST_CMPRS_NAME = "DISCRETE COSINE TRANSFORMATION (DCT)"
INST_CMPRS_RATIO = 6.57914
INST_CMPRS_QUALITY = 0
INST_CMPRS_QUANTZ_TBL_ID = 0
INSTRUMENT_TEMPERATURE = 11.6418
LENS_TEMPERATURE = 9.3989
MACROPIXEL_SIZE = 2
MISSING_FRAMES = 0
PIXEL_SUBSAMPLING_FLAG = N
SIGNAL_CHAIN_ID = 3
/* RADIOMETRIC DATA ELEMENTS */
BANDWIDTH = 177.0
CENTER_FILTER_WAVELENGTH = 676.5
RADIANCE_OFFSET = 2.75849
RADIANCE_SCALING_FACTOR = 0.00938586
REFLECTANCE_SCALING_FACTOR = 0.000213738
MEX:REFLECTANCE_OFFSET = 0.0628172
/* IMAGE OBJECT DEFINITIONS */
OBJECT = IMAGE
  INTERCHANGE_FORMAT = BINARY
  LINES = 15074
  LINE_SAMPLES = 4123
  SAMPLE_TYPE = UNSIGNED_INTEGER
  SAMPLE_BITS = 8
  BANDS = 1
  BAND_STORAGE_TYPE = BAND_SEQUENTIAL
  MAXIMUM = 255
  MEAN = 119.438
  MINIMUM = 1
  STANDARD_DEVIATION = 53.4086
END_OBJECT = IMAGE
/* MAP OBJECT DEFINITIONS */
OBJECT = IMAGE_MAP_PROJECTION
  ^DATA_SET_MAP_PROJECTION_CATALOG= "DSMAP.CAT"
  A_AXIS_RADIUS = 3396.0
  B_AXIS_RADIUS = 3396.0
  C_AXIS_RADIUS = 3396.0
  CENTER_LATITUDE = 0.0
  CENTER_LONGITUDE = 143.0
  COORDINATE_SYSTEM_NAME = PLANETOGRAPHIC
  COORDINATE_SYSTEM_TYPE = "BODY-FIXED ROTATING"
  EASTERNMOST_LONGITUDE = 144.267
  FIRST_STANDARD_PARALLEL = "N/A"
  LINE_FIRST_PIXEL = 1
  LINE_LAST_PIXEL = 15074
  LINE_PROJECTION_OFFSET = 118164.25
  MAP_PROJECTION_ROTATION = 0.0
  MAP_PROJECTION_TYPE = SINUSOIDAL
  MAP_RESOLUTION = 2370.85521546667
  MAP_SCALE = 0.025
  MAXIMUM_LATITUDE = 49.8318
  MINIMUM_LATITUDE = 43.5025
  POSITIVE_LONGITUDE_DIRECTION = EAST
  REFERENCE_LATITUDE = "N/A"
  REFERENCE_LONGITUDE = "N/A"
  SAMPLE_FIRST_PIXEL = 1
  SAMPLE_LAST_PIXEL = 4123
  SAMPLE_PROJECTION_OFFSET = 2022.25
  SECOND_STANDARD_PARALLEL = "N/A"
  WESTERNMOST_LONGITUDE = 141.649
END_OBJECT = IMAGE_MAP_PROJECTION
END
