PDS_VERSION_ID = PDS3
/* FILE DATA ELEMENTS */
RECORD_TYPE = UNDEFINED
/* POINTERS TO DATA OBJECTS */
^IMAGE = ("HD809_0000_IR4.TIF")
/* IDENTIFICATION DATA ELEMENTS */
DATA_SET_ID = "MEX-M-HRSC-4-REFDR-MAPPROJECT-EXT4-V4.0"
DATA_SET_NAME = "MARS EXPRESS HRSC MAP PROJECTED REFDR EXTENSION4 V4.0"
DETECTOR_ID = MEX_HRSC_IR
EVENT_TYPE = "MARS-REGIONAL-MAPPING-Im-Fl"
INSTRUMENT_HOST_ID = MEX
INSTRUMENT_HOST_NAME = "MARS EXPRESS"
INSTRUMENT_ID = HRSC
INSTRUMENT_NAME = "HIGH RESOLUTION STEREO CAMERA"
MISSION_NAME = "MARS EXPRESS"
MISSION_PHASE_NAME = ME_Phase_31
PROCESSING_LEVEL_ID = 4
PRODUCT_CREATION_TIME = 2023-02-01T02:09:17.000Z
PRODUCT_ID = "HD809_0000_IR4.TIF"
RELEASE_ID = 0005
REVISION_ID = 0000
/* QUALITY DATA ELEMENTS */
DATA_QUALITY_ID = 1
DATA_QUALITY_DESC = "Data calculated based on original SPICE kernels"
/* TIME DATA ELEMENTS */
SPACECRAFT_CLOCK_START_COUNT = "1/0364340245.07310"
SPACECRAFT_CLOCK_STOP_COUNT = "1/0364340514.01702"
START_TIME = 2014-11-17T21:37:40.556Z
STOP_TIME = 2014-11-17T21:39:27.720Z
/* ORBITAL DATA ELEMENTS */
ASCENDING_NODE_LONGITUDE = 314.45
MAXIMUM_RESOLUTION = 0.0962
FOOTPRINT_POINT_LATITUDE = (28.8037,28.8033,28.8026,28.8016, 28.8004,28.7988,28.7968,28.7945,28.7919 ,28.7889,28.7856,28.782,28.7759,28.7753 ,28.7318,28.5535,28.3141,28.1327, 27.8909,27.5868,27.3415,27.158,26.7871, 26.538,26.2262,26.0364,25.7221,25.5313, 25.4031,25.2751,25.02,24.8911,24.7614, 24.6314,24.5017,24.3718,24.1754,24.0439 ,23.913,23.7814,23.6492,23.5158,23.3825 ,23.2467,23.1126,22.9774,22.7774, 22.6432,22.5081,22.3711,22.3028,22.2443 ,22.2478,22.2476,22.2507,22.2546, 22.2555,22.2565,22.2573,22.257,22.2565, 22.2554,22.2528,22.2526,22.2541,22.3915 ,22.5288,22.664,22.7987,23.0016,23.1373 ,23.2708,23.4717,23.6061,23.7429, 23.8736,24.1304,24.2627,24.4606,24.66, 24.7897,24.9202,25.1136,25.369,25.4966, 25.8146,26.0661,26.1935,26.3837,26.6323 ,26.9442,27.2529,27.4983,27.8062, 27.9881,28.2309,28.4728,28.6522,28.711, 28.8037)
FOOTPRINT_POINT_LONGITUDE = (348.722,348.428,348.26,348.091,347.923 ,347.754,347.585,347.416,347.247, 347.078,346.908,346.738,346.483,346.461 ,346.435,346.433,346.43,346.427,346.424 ,346.42,346.416,346.413,346.407,346.402 ,346.397,346.393,346.387,346.383,346.38 ,346.378,346.372,346.37,346.367,346.364 ,346.361,346.357,346.353,346.35,346.346 ,346.343,346.34,346.336,346.333,346.328 ,346.324,346.32,346.315,346.312,346.308 ,346.303,346.301,346.3,346.581,346.77, 346.982,347.288,347.453,347.711,347.922 ,348.109,348.32,348.46,348.787,348.81, 348.818,348.817,348.815,348.814,348.813 ,348.811,348.809,348.808,348.805, 348.804,348.801,348.8,348.799,348.797, 348.795,348.791,348.79,348.788,348.786, 348.783,348.781,348.778,348.775,348.773 ,348.77,348.767,348.763,348.758,348.755 ,348.75,348.747,348.743,348.74,348.737, 348.736,348.722)
ORBIT_NUMBER = 13809
ORBITAL_ECCENTRICITY = 0.571
ORBITAL_INCLINATION = 86.92
ORBITAL_SEMIMAJOR_AXIS = 8778.58
PERIAPSIS_ALTITUDE = 381.19
PERIAPSIS_ARGUMENT_ANGLE = 117.91
PERIAPSIS_TIME = 2014-11-17T21:29:29.000Z
SPACECRAFT_ORIENTATION = (0.0,-1.0,0.0)
^MEX_ORIENTATION_DESC = "MEX_ORIENTATION_DESC.TXT"
SPACECRAFT_POINTING_MODE = ACROSSTRACK
^MEX_POINTING_DESC = "MEX_POINTING_DESC.TXT"
RIGHT_ASCENSION = -1e+32
DECLINATION = -1e+32
OFFSET_ANGLE = -0.25
SPACECRAFT_SOLAR_DISTANCE = 2.07271e+08
TARGET_NAME = MARS
/* CAMERA DATA ELEMENTS */
DETECTOR_TEMPERATURE = 17.7588
FOCAL_PLANE_TEMPERATURE = 8.7872
INST_CMPRS_NAME = "DISCRETE COSINE TRANSFORMATION (DCT)"
INST_CMPRS_RATIO = 14.156
INST_CMPRS_QUALITY = 0
INST_CMPRS_QUANTZ_TBL_ID = 0
INSTRUMENT_TEMPERATURE = 11.8457
LENS_TEMPERATURE = 9.195
MACROPIXEL_SIZE = 4
MISSING_FRAMES = 0
PIXEL_SUBSAMPLING_FLAG = N
SIGNAL_CHAIN_ID = 2
/* RADIOMETRIC DATA ELEMENTS */
BANDWIDTH = 81.0
CENTER_FILTER_WAVELENGTH = 955.5
RADIANCE_OFFSET = 1.32956
RADIANCE_SCALING_FACTOR = 0.00458049
REFLECTANCE_SCALING_FACTOR = 0.000424537
MEX:REFLECTANCE_OFFSET = 0.123229
/* IMAGE OBJECT DEFINITIONS */
OBJECT = IMAGE
  INTERCHANGE_FORMAT = BINARY
  LINES = 3876
  LINE_SAMPLES = 1495
  SAMPLE_TYPE = UNSIGNED_INTEGER
  SAMPLE_BITS = 8
  BANDS = 1
  BAND_STORAGE_TYPE = BAND_SEQUENTIAL
  MAXIMUM = 255
  MEAN = 119.56
  MINIMUM = 1
  STANDARD_DEVIATION = 23.239
END_OBJECT = IMAGE
/* MAP OBJECT DEFINITIONS */
OBJECT = IMAGE_MAP_PROJECTION
  ^DATA_SET_MAP_PROJECTION_CATALOG= "DSMAP.CAT"
  A_AXIS_RADIUS = 3396.0
  B_AXIS_RADIUS = 3396.0
  C_AXIS_RADIUS = 3396.0
  CENTER_LATITUDE = 0.0
  CENTER_LONGITUDE = 348.0
  COORDINATE_SYSTEM_NAME = PLANETOGRAPHIC
  COORDINATE_SYSTEM_TYPE = "BODY-FIXED ROTATING"
  EASTERNMOST_LONGITUDE = 348.818
  FIRST_STANDARD_PARALLEL = "N/A"
  LINE_FIRST_PIXEL = 1
  LINE_LAST_PIXEL = 3876
  LINE_PROJECTION_OFFSET = 17059.125
  MAP_PROJECTION_ROTATION = 0.0
  MAP_PROJECTION_TYPE = SINUSOIDAL
  MAP_RESOLUTION = 592.713803866667
  MAP_SCALE = 0.1
  MAXIMUM_LATITUDE = 28.8037
  MINIMUM_LATITUDE = 22.2443
  POSITIVE_LONGITUDE_DIRECTION = EAST
  REFERENCE_LATITUDE = "N/A"
  REFERENCE_LONGITUDE = "N/A"
  SAMPLE_FIRST_PIXEL = 1
  SAMPLE_LAST_PIXEL = 1495
  SAMPLE_PROJECTION_OFFSET = 994.625
  SECOND_STANDARD_PARALLEL = "N/A"
  WESTERNMOST_LONGITUDE = 346.3
END_OBJECT = IMAGE_MAP_PROJECTION
END
