PDS_VERSION_ID = PDS3
/* FILE DATA ELEMENTS */
RECORD_TYPE = UNDEFINED
/* POINTERS TO DATA OBJECTS */
^IMAGE = ("HD809_0000_GR4.TIF")
/* IDENTIFICATION DATA ELEMENTS */
DATA_SET_ID = "MEX-M-HRSC-4-REFDR-MAPPROJECT-EXT4-V4.0"
DATA_SET_NAME = "MARS EXPRESS HRSC MAP PROJECTED REFDR EXTENSION4 V4.0"
DETECTOR_ID = MEX_HRSC_GREEN
EVENT_TYPE = "MARS-REGIONAL-MAPPING-Im-Fl"
INSTRUMENT_HOST_ID = MEX
INSTRUMENT_HOST_NAME = "MARS EXPRESS"
INSTRUMENT_ID = HRSC
INSTRUMENT_NAME = "HIGH RESOLUTION STEREO CAMERA"
MISSION_NAME = "MARS EXPRESS"
MISSION_PHASE_NAME = ME_Phase_31
PROCESSING_LEVEL_ID = 4
PRODUCT_CREATION_TIME = 2023-02-01T02:09:17.000Z
PRODUCT_ID = "HD809_0000_GR4.TIF"
RELEASE_ID = 0005
REVISION_ID = 0000
/* QUALITY DATA ELEMENTS */
DATA_QUALITY_ID = 1
DATA_QUALITY_DESC = "Data calculated based on original SPICE kernels"
/* TIME DATA ELEMENTS */
SPACECRAFT_CLOCK_START_COUNT = "1/0364340245.07310"
SPACECRAFT_CLOCK_STOP_COUNT = "1/0364340514.01702"
START_TIME = 2014-11-17T21:38:18.167Z
STOP_TIME = 2014-11-17T21:40:13.865Z
/* ORBITAL DATA ELEMENTS */
ASCENDING_NODE_LONGITUDE = 314.45
MAXIMUM_RESOLUTION = 0.0969
FOOTPRINT_POINT_LATITUDE = (28.7875,28.7889,28.7896,28.7902, 28.7905,28.7905,28.79,28.7894,28.7885, 28.7873,28.7859,28.7843,28.7818,28.7815 ,28.7721,28.5902,28.3452,28.1617, 27.9157,27.6677,27.4201,27.1692,26.7929 ,26.5386,26.2847,25.8998,25.6431,25.448 ,25.1878,24.992,24.8603,24.663,24.5316, 24.3987,24.2655,24.1325,23.9996,23.8655 ,23.7307,23.5963,23.4619,23.3257, 23.1893,23.0531,22.9173,22.7803,22.5742 ,22.368,22.2984,22.2563,22.2565,22.2563 ,22.2555,22.2549,22.2534,22.2522, 22.2505,22.2473,22.2446,22.2401,22.237, 22.2366,22.2381,22.3776,22.5156,22.6537 ,22.7919,22.9293,23.1343,23.2709, 23.4077,23.543,23.6786,23.8136,23.9479, 24.0809,24.2144,24.3482,24.4824,24.6151 ,24.7474,24.8795,25.0776,25.2079, 25.3385,25.4691,25.7933,26.0511,26.2443 ,26.5631,26.818,27.0696,27.3218,27.5713 ,27.758,28.0688,28.437,28.6827,28.7432, 28.7875)
FOOTPRINT_POINT_LONGITUDE = (348.772,348.53,348.376,348.2,348.024, 347.847,347.538,347.361,347.184,347.007 ,346.829,346.651,346.429,346.406, 346.379,346.376,346.373,346.37,346.366, 346.362,346.357,346.353,346.345,346.34, 346.335,346.326,346.32,346.316,346.309, 346.304,346.301,346.296,346.293,346.289 ,346.285,346.282,346.278,346.274,346.27 ,346.267,346.263,346.257,346.252, 346.248,346.244,346.24,346.234,346.227, 346.225,346.224,346.472,346.646,346.945 ,347.144,347.393,347.566,347.789, 348.112,348.334,348.656,348.853,348.878 ,348.886,348.885,348.883,348.881, 348.879,348.877,348.874,348.872,348.871 ,348.868,348.866,348.864,348.864, 348.862,348.861,348.859,348.856,348.853 ,348.851,348.849,348.846,348.844, 348.842,348.84,348.836,348.832,348.829, 348.824,348.82,348.816,348.811,348.807, 348.804,348.798,348.792,348.787,348.786 ,348.772)
ORBIT_NUMBER = 13809
ORBITAL_ECCENTRICITY = 0.571
ORBITAL_INCLINATION = 86.92
ORBITAL_SEMIMAJOR_AXIS = 8778.58
PERIAPSIS_ALTITUDE = 381.19
PERIAPSIS_ARGUMENT_ANGLE = 117.91
PERIAPSIS_TIME = 2014-11-17T21:29:29.000Z
SPACECRAFT_ORIENTATION = (0.0,-1.0,0.0)
^MEX_ORIENTATION_DESC = "MEX_ORIENTATION_DESC.TXT"
SPACECRAFT_POINTING_MODE = ACROSSTRACK
^MEX_POINTING_DESC = "MEX_POINTING_DESC.TXT"
RIGHT_ASCENSION = -1e+32
DECLINATION = -1e+32
OFFSET_ANGLE = -0.25
SPACECRAFT_SOLAR_DISTANCE = 2.07271e+08
TARGET_NAME = MARS
/* CAMERA DATA ELEMENTS */
DETECTOR_TEMPERATURE = 18.7783
FOCAL_PLANE_TEMPERATURE = 8.7872
INST_CMPRS_NAME = "DISCRETE COSINE TRANSFORMATION (DCT)"
INST_CMPRS_RATIO = 15.5632
INST_CMPRS_QUALITY = 0
INST_CMPRS_QUANTZ_TBL_ID = 0
INSTRUMENT_TEMPERATURE = 11.8457
LENS_TEMPERATURE = 9.195
MACROPIXEL_SIZE = 4
MISSING_FRAMES = 0
PIXEL_SUBSAMPLING_FLAG = N
SIGNAL_CHAIN_ID = 2
/* RADIOMETRIC DATA ELEMENTS */
BANDWIDTH = 88.0
CENTER_FILTER_WAVELENGTH = 538.0
RADIANCE_OFFSET = 2.02406
RADIANCE_SCALING_FACTOR = 0.00359757
REFLECTANCE_SCALING_FACTOR = 0.000133068
MEX:REFLECTANCE_OFFSET = 0.0748667
/* IMAGE OBJECT DEFINITIONS */
OBJECT = IMAGE
  INTERCHANGE_FORMAT = BINARY
  LINES = 3876
  LINE_SAMPLES = 1495
  SAMPLE_TYPE = UNSIGNED_INTEGER
  SAMPLE_BITS = 8
  BANDS = 1
  BAND_STORAGE_TYPE = BAND_SEQUENTIAL
  MAXIMUM = 255
  MEAN = 88.8734
  MINIMUM = 1
  STANDARD_DEVIATION = 25.2464
END_OBJECT = IMAGE
/* MAP OBJECT DEFINITIONS */
OBJECT = IMAGE_MAP_PROJECTION
  ^DATA_SET_MAP_PROJECTION_CATALOG= "DSMAP.CAT"
  A_AXIS_RADIUS = 3396.0
  B_AXIS_RADIUS = 3396.0
  C_AXIS_RADIUS = 3396.0
  CENTER_LATITUDE = 0.0
  CENTER_LONGITUDE = 348.0
  COORDINATE_SYSTEM_NAME = PLANETOGRAPHIC
  COORDINATE_SYSTEM_TYPE = "BODY-FIXED ROTATING"
  EASTERNMOST_LONGITUDE = 348.886
  FIRST_STANDARD_PARALLEL = "N/A"
  LINE_FIRST_PIXEL = 1
  LINE_LAST_PIXEL = 3876
  LINE_PROJECTION_OFFSET = 17059.125
  MAP_PROJECTION_ROTATION = 0.0
  MAP_PROJECTION_TYPE = SINUSOIDAL
  MAP_RESOLUTION = 592.713803866667
  MAP_SCALE = 0.1
  MAXIMUM_LATITUDE = 28.7905
  MINIMUM_LATITUDE = 22.2366
  POSITIVE_LONGITUDE_DIRECTION = EAST
  REFERENCE_LATITUDE = "N/A"
  REFERENCE_LONGITUDE = "N/A"
  SAMPLE_FIRST_PIXEL = 1
  SAMPLE_LAST_PIXEL = 1495
  SAMPLE_PROJECTION_OFFSET = 994.625
  SECOND_STANDARD_PARALLEL = "N/A"
  WESTERNMOST_LONGITUDE = 346.224
END_OBJECT = IMAGE_MAP_PROJECTION
END
