PDS_VERSION_ID = PDS3
/* FILE DATA ELEMENTS */
RECORD_TYPE = UNDEFINED
/* POINTERS TO DATA OBJECTS */
^IMAGE = ("HD807_0000_IR4.TIF")
/* IDENTIFICATION DATA ELEMENTS */
DATA_SET_ID = "MEX-M-HRSC-4-REFDR-MAPPROJECT-EXT4-V4.0"
DATA_SET_NAME = "MARS EXPRESS HRSC MAP PROJECTED REFDR EXTENSION4 V4.0"
DETECTOR_ID = MEX_HRSC_IR
EVENT_TYPE = "MARS-REGIONAL-MAPPING-Vo-Te-Pf"
INSTRUMENT_HOST_ID = MEX
INSTRUMENT_HOST_NAME = "MARS EXPRESS"
INSTRUMENT_ID = HRSC
INSTRUMENT_NAME = "HIGH RESOLUTION STEREO CAMERA"
MISSION_NAME = "MARS EXPRESS"
MISSION_PHASE_NAME = ME_Phase_31
PROCESSING_LEVEL_ID = 4
PRODUCT_CREATION_TIME = 2023-02-01T02:09:17.000Z
PRODUCT_ID = "HD807_0000_IR4.TIF"
RELEASE_ID = 0005
REVISION_ID = 0000
/* QUALITY DATA ELEMENTS */
DATA_QUALITY_ID = 1
DATA_QUALITY_DESC = "Data calculated based on original SPICE kernels"
/* TIME DATA ELEMENTS */
SPACECRAFT_CLOCK_START_COUNT = "1/0364289634.09044"
SPACECRAFT_CLOCK_STOP_COUNT = "1/0364289943.12317"
START_TIME = 2014-11-17T07:34:06.486Z
STOP_TIME = 2014-11-17T07:37:25.403Z
/* ORBITAL DATA ELEMENTS */
ASCENDING_NODE_LONGITUDE = 314.48
MAXIMUM_RESOLUTION = 0.1398 <m/pixel>
FOOTPRINT_POINT_LATITUDE = (46.1973,46.2083,46.2119,46.2113, 46.2112,46.1363,45.5605,45.2152,44.8618 ,44.3895,43.9179,43.5641,43.204,42.9625 ,42.6001,42.3588,42.1175,41.8739, 41.6268,41.2561,41.0094,40.6393,40.388, 40.1356,39.8839,39.6311,39.379,39.1226, 38.8649,38.6074,38.2214,37.9604,37.6975 ,37.4349,37.0411,36.7738,36.5059, 36.2381,35.9705,35.6981,35.4249,35.1521 ,34.879,34.6007,34.3225,34.0448,33.6222 ,33.4805,33.4342,33.4311,33.4267, 33.4211,33.4137,33.4052,33.3901,33.3894 ,33.3916,33.6755,33.958,34.2366,34.5153 ,34.9323,35.2057,35.4793,35.7532, 36.1583,36.4268,36.6954,36.9641,37.2271 ,37.6221,37.8855,38.1479,38.4057, 38.6638,38.9219,39.1811,39.4382,39.6891 ,39.9407,40.3201,40.5731,40.8204, 41.0678,41.3153,41.5628,41.8105,42.0558 ,42.2977,42.5394,42.7817,43.0236, 43.5065,44.0973,44.452,44.807,45.3929, 45.9699,46.0855,46.1973)
FOOTPRINT_POINT_LONGITUDE = (194.069,193.266,192.651,192.044, 192.025,192.02,192.038,192.048,192.058, 192.07,192.082,192.09,192.097,192.102, 192.109,192.113,192.117,192.121,192.124 ,192.129,192.132,192.136,192.139, 192.141,192.143,192.145,192.147,192.148 ,192.15,192.151,192.152,192.153,192.153 ,192.153,192.153,192.152,192.152, 192.151,192.15,192.149,192.147,192.145, 192.144,192.141,192.139,192.137,192.132 ,192.131,192.13,192.449,192.773,193.098 ,193.447,193.777,194.276,194.296,194.31 ,194.308,194.306,194.304,194.302, 194.299,194.297,194.295,194.292,194.289 ,194.286,194.284,194.282,194.279, 194.275,194.273,194.27,194.267,194.264, 194.261,194.258,194.253,194.251,194.249 ,194.245,194.241,194.238,194.235, 194.231,194.228,194.224,194.22,194.217, 194.213,194.209,194.206,194.198,194.188 ,194.182,194.175,194.164,194.153,194.15 ,194.069)
ORBIT_NUMBER = 13807
ORBITAL_ECCENTRICITY = 0.571
ORBITAL_INCLINATION = 86.92
ORBITAL_SEMIMAJOR_AXIS = 8777.68
PERIAPSIS_ALTITUDE = 380.95
PERIAPSIS_ARGUMENT_ANGLE = 118.28
PERIAPSIS_TIME = 2014-11-17T07:30:35.000Z
SPACECRAFT_ORIENTATION = (0.0,-1.0,0.0)
^MEX_ORIENTATION_DESC = "MEX_ORIENTATION_DESC.TXT"
SPACECRAFT_POINTING_MODE = ACROSSTRACK
^MEX_POINTING_DESC = "MEX_POINTING_DESC.TXT"
RIGHT_ASCENSION = -1e+32
DECLINATION = -1e+32
OFFSET_ANGLE = 0.7
SPACECRAFT_SOLAR_DISTANCE = 2.07302e+08
TARGET_NAME = MARS
/* CAMERA DATA ELEMENTS */
DETECTOR_TEMPERATURE = 18.1666 <degC>
FOCAL_PLANE_TEMPERATURE = 9.6028 <degC>
INST_CMPRS_NAME = "DISCRETE COSINE TRANSFORMATION (DCT)"
INST_CMPRS_RATIO = 27.3635
INST_CMPRS_QUALITY = 0
INST_CMPRS_QUANTZ_TBL_ID = 0
INSTRUMENT_TEMPERATURE = 12.0496 <degC>
LENS_TEMPERATURE = 10.0106 <degC>
MACROPIXEL_SIZE = 8
MISSING_FRAMES = 0
PIXEL_SUBSAMPLING_FLAG = N
SIGNAL_CHAIN_ID = 2
/* RADIOMETRIC DATA ELEMENTS */
BANDWIDTH = 81.0 <nm>
CENTER_FILTER_WAVELENGTH = 955.5 <nm>
RADIANCE_OFFSET = 0.982857 <W*m**-2*sr**-1>
RADIANCE_SCALING_FACTOR = 0.00385434 <W*m**-2*sr**-1>
REFLECTANCE_SCALING_FACTOR = 0.000357342
MEX:REFLECTANCE_OFFSET = 0.0911222
/* IMAGE OBJECT DEFINITIONS */
OBJECT = IMAGE
  INTERCHANGE_FORMAT = BINARY
  LINES = 7551
  LINE_SAMPLES = 1146
  SAMPLE_TYPE = UNSIGNED_INTEGER
  SAMPLE_BITS = 8
  BANDS = 1
  BAND_STORAGE_TYPE = BAND_SEQUENTIAL
  MAXIMUM = 255
  MEAN = 126.384
  MINIMUM = 2
  STANDARD_DEVIATION = 60.4119
END_OBJECT = IMAGE
/* MAP OBJECT DEFINITIONS */
OBJECT = IMAGE_MAP_PROJECTION
  ^DATA_SET_MAP_PROJECTION_CATALOG= "DSMAP.CAT"
  A_AXIS_RADIUS = 3396.0 <km>
  B_AXIS_RADIUS = 3396.0 <km>
  C_AXIS_RADIUS = 3396.0 <km>
  CENTER_LATITUDE = 0.0
  CENTER_LONGITUDE = 193.0
  COORDINATE_SYSTEM_NAME = PLANETOGRAPHIC
  COORDINATE_SYSTEM_TYPE = "BODY-FIXED ROTATING"
  EASTERNMOST_LONGITUDE = 194.31
  FIRST_STANDARD_PARALLEL = "N/A"
  LINE_FIRST_PIXEL = 1
  LINE_LAST_PIXEL = 7551
  LINE_PROJECTION_OFFSET = 27370.1875
  MAP_PROJECTION_ROTATION = 0.0
  MAP_PROJECTION_TYPE = SINUSOIDAL
  MAP_RESOLUTION = 592.713803866667 <pixel/degree>
  MAP_SCALE = 0.1 <km/pixel>
  MAXIMUM_LATITUDE = 46.2119
  MINIMUM_LATITUDE = 33.3894
  POSITIVE_LONGITUDE_DIRECTION = EAST
  REFERENCE_LATITUDE = "N/A"
  REFERENCE_LONGITUDE = "N/A"
  SAMPLE_FIRST_PIXEL = 1
  SAMPLE_LAST_PIXEL = 1146
  SAMPLE_PROJECTION_OFFSET = 474.5625
  SECOND_STANDARD_PARALLEL = "N/A"
  WESTERNMOST_LONGITUDE = 192.02
END_OBJECT = IMAGE_MAP_PROJECTION
END
