PDS_VERSION_ID = PDS3
/* FILE DATA ELEMENTS */
RECORD_TYPE = UNDEFINED
/* POINTERS TO DATA OBJECTS */
^IMAGE = ("HD806_0000_S14.TIF")
/* IDENTIFICATION DATA ELEMENTS */
DATA_SET_ID = "MEX-M-HRSC-4-REFDR-MAPPROJECT-EXT4-V4.0"
DATA_SET_NAME = "MARS EXPRESS HRSC MAP PROJECTED REFDR EXTENSION4 V4.0"
DETECTOR_ID = MEX_HRSC_S1
EVENT_TYPE = "MARS-REGIONAL-STEREO-Te"
INSTRUMENT_HOST_ID = MEX
INSTRUMENT_HOST_NAME = "MARS EXPRESS"
INSTRUMENT_ID = HRSC
INSTRUMENT_NAME = "HIGH RESOLUTION STEREO CAMERA"
MISSION_NAME = "MARS EXPRESS"
MISSION_PHASE_NAME = ME_Phase_31
PROCESSING_LEVEL_ID = 4
PRODUCT_CREATION_TIME = 2023-02-01T02:09:17.000Z
PRODUCT_ID = "HD806_0000_S14.TIF"
RELEASE_ID = 0005
REVISION_ID = 0000
/* QUALITY DATA ELEMENTS */
DATA_QUALITY_ID = 1
DATA_QUALITY_DESC = "Data calculated based on original SPICE kernels"
/* TIME DATA ELEMENTS */
SPACECRAFT_CLOCK_START_COUNT = "1/0364264428.08283"
SPACECRAFT_CLOCK_STOP_COUNT = "1/0364264713.37842"
START_TIME = 2014-11-17T00:33:54.057Z
STOP_TIME = 2014-11-17T00:36:57.275Z
/* ORBITAL DATA ELEMENTS */
ASCENDING_NODE_LONGITUDE = 314.5
MAXIMUM_RESOLUTION = 0.0341
FOOTPRINT_POINT_LATITUDE = (48.7767,48.7306,48.6788,48.6505, 48.6091,48.6071,48.5235,48.0854,47.4336 ,47.2149,46.9956,46.7731,46.5499, 46.2194,45.9919,45.6559,45.432,45.2111, 44.9909,44.7635,44.5394,44.2999,43.9579 ,43.7295,43.3868,43.1555,42.92,42.6842, 42.4494,42.2144,41.859,41.5012,41.2607, 40.9,40.5387,40.2976,40.0519,39.8051, 39.5591,39.3122,39.0652,38.8145,38.5616 ,38.3094,37.9317,37.55,37.2927,36.9069, 36.7782,36.7316,36.7732,36.7958,36.8269 ,36.8492,36.8667,36.8677,36.8687, 37.2555,37.5131,37.8992,38.1519,38.4046 ,38.6566,38.9094,39.1605,39.4082, 39.6559,39.9029,40.2735,40.6379,40.8795 ,41.1223,41.4856,41.848,42.0819,42.3182 ,42.5556,42.9108,43.1492,43.3843, 43.6136,43.9565,44.3022,44.6484,44.8792 ,45.1079,45.3318,45.5587,45.7819, 46.0051,46.4448,46.6726,46.9022,47.1291 ,47.3479,47.5678,47.8958,48.5518, 48.6612,48.7767)
FOOTPRINT_POINT_LONGITUDE = (293.6,292.962,292.31,291.979,291.518, 291.496,291.41,291.453,291.52,291.54, 291.559,291.579,291.6,291.635,291.651, 291.679,291.697,291.717,291.738,291.757 ,291.779,291.787,291.814,291.831, 291.856,291.871,291.886,291.9,291.915, 291.93,291.948,291.967,291.98,292.0, 292.018,292.029,292.04,292.051,292.063, 292.073,292.082,292.091,292.1,292.109, 292.123,292.135,292.144,292.156,292.159 ,292.161,292.728,293.06,293.552,293.937 ,294.258,294.278,294.286,294.27,294.259 ,294.243,294.232,294.221,294.21,294.198 ,294.187,294.175,294.164,294.152, 294.134,294.115,294.103,294.091,294.072 ,294.052,294.039,294.026,294.013, 293.993,293.979,293.965,293.951,293.93, 293.908,293.886,293.871,293.856,293.841 ,293.826,293.81,293.794,293.761,293.745 ,293.729,293.713,293.696,293.68,293.654 ,293.601,293.592,293.6)
ORBIT_NUMBER = 13806
ORBITAL_ECCENTRICITY = 0.572
ORBITAL_INCLINATION = 86.91
ORBITAL_SEMIMAJOR_AXIS = 8780.3
PERIAPSIS_ALTITUDE = 380.94
PERIAPSIS_ARGUMENT_ANGLE = 118.47
PERIAPSIS_TIME = 2014-11-17T00:31:11.000Z
SPACECRAFT_ORIENTATION = (0.0,-1.0,0.0)
^MEX_ORIENTATION_DESC = "MEX_ORIENTATION_DESC.TXT"
SPACECRAFT_POINTING_MODE = ACROSSTRACK
^MEX_POINTING_DESC = "MEX_POINTING_DESC.TXT"
RIGHT_ASCENSION = -1e+32
DECLINATION = -1e+32
OFFSET_ANGLE = -1.0
SPACECRAFT_SOLAR_DISTANCE = 2.07317e+08
TARGET_NAME = MARS
/* CAMERA DATA ELEMENTS */
DETECTOR_TEMPERATURE = 17.9627
FOCAL_PLANE_TEMPERATURE = 11.0301
INST_CMPRS_NAME = "DISCRETE COSINE TRANSFORMATION (DCT)"
INST_CMPRS_RATIO = 9.39164
INST_CMPRS_QUALITY = 0
INST_CMPRS_QUANTZ_TBL_ID = 0
INSTRUMENT_TEMPERATURE = 12.6613
LENS_TEMPERATURE = 11.234
MACROPIXEL_SIZE = 2
MISSING_FRAMES = 0
PIXEL_SUBSAMPLING_FLAG = N
SIGNAL_CHAIN_ID = 1
/* RADIOMETRIC DATA ELEMENTS */
BANDWIDTH = 180.0
CENTER_FILTER_WAVELENGTH = 677.0
RADIANCE_OFFSET = 3.3866
RADIANCE_SCALING_FACTOR = 0.021093
REFLECTANCE_SCALING_FACTOR = 0.000472991
MEX:REFLECTANCE_OFFSET = 0.0759413
/* IMAGE OBJECT DEFINITIONS */
OBJECT = IMAGE
  INTERCHANGE_FORMAT = BINARY
  LINES = 28153
  LINE_SAMPLES = 5091
  SAMPLE_TYPE = UNSIGNED_INTEGER
  SAMPLE_BITS = 8
  BANDS = 1
  BAND_STORAGE_TYPE = BAND_SEQUENTIAL
  MAXIMUM = 255
  MEAN = 116.11
  MINIMUM = 1
  STANDARD_DEVIATION = 49.7019
END_OBJECT = IMAGE
/* MAP OBJECT DEFINITIONS */
OBJECT = IMAGE_MAP_PROJECTION
  ^DATA_SET_MAP_PROJECTION_CATALOG= "DSMAP.CAT"
  A_AXIS_RADIUS = 3396.0
  B_AXIS_RADIUS = 3396.0
  C_AXIS_RADIUS = 3396.0
  CENTER_LATITUDE = 0.0
  CENTER_LONGITUDE = 293.0
  COORDINATE_SYSTEM_NAME = PLANETOGRAPHIC
  COORDINATE_SYSTEM_TYPE = "BODY-FIXED ROTATING"
  EASTERNMOST_LONGITUDE = 294.286
  FIRST_STANDARD_PARALLEL = "N/A"
  LINE_FIRST_PIXEL = 1
  LINE_LAST_PIXEL = 28153
  LINE_PROJECTION_OFFSET = 115344.75
  MAP_PROJECTION_ROTATION = 0.0
  MAP_PROJECTION_TYPE = SINUSOIDAL
  MAP_RESOLUTION = 2370.85521546667
  MAP_SCALE = 0.025
  MAXIMUM_LATITUDE = 48.7767
  MINIMUM_LATITUDE = 36.7316
  POSITIVE_LONGITUDE_DIRECTION = EAST
  REFERENCE_LATITUDE = "N/A"
  REFERENCE_LONGITUDE = "N/A"
  SAMPLE_FIRST_PIXEL = 1
  SAMPLE_LAST_PIXEL = 5091
  SAMPLE_PROJECTION_OFFSET = 2537.25
  SECOND_STANDARD_PARALLEL = "N/A"
  WESTERNMOST_LONGITUDE = 291.41
END_OBJECT = IMAGE_MAP_PROJECTION
END
