PDS_VERSION_ID = PDS3
/* FILE DATA ELEMENTS */
RECORD_TYPE = UNDEFINED
/* POINTERS TO DATA OBJECTS */
^IMAGE = ("HD805_0000_P14.TIF")
/* IDENTIFICATION DATA ELEMENTS */
DATA_SET_ID = "MEX-M-HRSC-4-REFDR-MAPPROJECT-EXT4-V4.0"
DATA_SET_NAME = "MARS EXPRESS HRSC MAP PROJECTED REFDR EXTENSION4 V4.0"
DETECTOR_ID = MEX_HRSC_P1
EVENT_TYPE = "MARS-REGIONAL-STEREO-Im-Fl"
INSTRUMENT_HOST_ID = MEX
INSTRUMENT_HOST_NAME = "MARS EXPRESS"
INSTRUMENT_ID = HRSC
INSTRUMENT_NAME = "HIGH RESOLUTION STEREO CAMERA"
MISSION_NAME = "MARS EXPRESS"
MISSION_PHASE_NAME = ME_Phase_31
PROCESSING_LEVEL_ID = 4
PRODUCT_CREATION_TIME = 2023-02-01T02:09:17.000Z
PRODUCT_ID = "HD805_0000_P14.TIF"
RELEASE_ID = 0005
REVISION_ID = 0000
/* QUALITY DATA ELEMENTS */
DATA_QUALITY_ID = 1
DATA_QUALITY_DESC = "Data calculated based on original SPICE kernels"
/* TIME DATA ELEMENTS */
SPACECRAFT_CLOCK_START_COUNT = "1/0364239161.07356"
SPACECRAFT_CLOCK_STOP_COUNT = "1/0364239359.56583"
START_TIME = 2014-11-16T17:32:59.530Z
STOP_TIME = 2014-11-16T17:34:54.789Z
/* ORBITAL DATA ELEMENTS */
ASCENDING_NODE_LONGITUDE = 314.52
MAXIMUM_RESOLUTION = 0.0325
FOOTPRINT_POINT_LATITUDE = (54.5938,54.56,54.5242,54.4863,54.4461, 54.4036,54.3408,54.3379,54.2504,53.964, 53.6765,53.4616,53.2463,53.1027,52.8161 ,52.6723,52.5284,52.3131,52.0259, 51.8101,51.5949,51.309,51.1649,50.8785, 50.6618,50.5169,50.2976,50.1506,50.0025 ,49.855,49.636,49.4131,49.2663,49.1187, 48.9693,48.7452,48.5971,48.3754,48.1538 ,48.0058,47.8581,47.7088,47.5574, 47.4058,47.254,47.0264,46.9506,46.9114, 46.9555,46.9881,47.029,47.0728,47.0962, 47.1381,47.1399,47.1411,47.3691,47.5214 ,47.6736,47.9018,48.1278,48.2762, 48.4248,48.6475,48.7963,49.0191,49.2417 ,49.3902,49.613,49.7618,49.911,50.0592, 50.2818,50.5054,50.6537,50.7988,51.0154 ,51.1598,51.3769,51.5221,51.7392,51.884 ,52.0287,52.1732,52.318,52.4623,52.6063 ,52.7514,52.8964,53.0412,53.1858, 53.3302,53.4748,53.6193,53.7641,54.0526 ,54.197,54.4139,54.4864,54.5938)
FOOTPRINT_POINT_LONGITUDE = (33.7791,33.4209,33.0556,32.6823, 32.3014,31.9124,31.3625,31.3371,31.1299 ,31.1918,31.2504,31.2951,31.3385,31.367 ,31.4243,31.4513,31.4781,31.5189, 31.5719,31.6103,31.6494,31.7029,31.7266 ,31.7774,31.8108,31.832,31.8648,31.8896 ,31.9119,31.9352,31.9744,32.0048, 32.0284,32.0503,32.0679,32.0941,32.114, 32.1443,32.1743,32.1933,32.2129,32.234, 32.2539,32.273,32.2915,32.3189,32.3281, 32.3331,32.7348,33.0375,33.4259,33.8701 ,34.1293,34.6161,34.637,34.6445,34.6207 ,34.6049,34.5888,34.5643,34.54,34.5238, 34.5076,34.4828,34.4665,34.4412,34.4154 ,34.398,34.3717,34.3544,34.3372,34.3188 ,34.2912,34.2642,34.2455,34.2276, 34.1992,34.1801,34.1517,34.133,34.104, 34.0845,34.0646,34.0444,34.0244,34.0035 ,33.9821,33.962,33.9415,33.9204,33.899, 33.8772,33.8555,33.8334,33.8115,33.7658 ,33.7429,33.7084,33.6971,33.7791)
ORBIT_NUMBER = 13805
ORBITAL_ECCENTRICITY = 0.572
ORBITAL_INCLINATION = 86.91
ORBITAL_SEMIMAJOR_AXIS = 8783.24
PERIAPSIS_ALTITUDE = 380.97
PERIAPSIS_ARGUMENT_ANGLE = 118.63
PERIAPSIS_TIME = 2014-11-16T17:31:39.000Z
SPACECRAFT_ORIENTATION = (0.0,-1.0,0.0)
^MEX_ORIENTATION_DESC = "MEX_ORIENTATION_DESC.TXT"
SPACECRAFT_POINTING_MODE = ACROSSTRACK
^MEX_POINTING_DESC = "MEX_POINTING_DESC.TXT"
RIGHT_ASCENSION = -1e+32
DECLINATION = -1e+32
OFFSET_ANGLE = -1.9
SPACECRAFT_SOLAR_DISTANCE = 2.07333e+08
TARGET_NAME = MARS
/* CAMERA DATA ELEMENTS */
DETECTOR_TEMPERATURE = 17.7588
FOCAL_PLANE_TEMPERATURE = 9.3989
INST_CMPRS_NAME = "DISCRETE COSINE TRANSFORMATION (DCT)"
INST_CMPRS_RATIO = 7.34994
INST_CMPRS_QUALITY = 0
INST_CMPRS_QUANTZ_TBL_ID = 0
INSTRUMENT_TEMPERATURE = 11.6418
LENS_TEMPERATURE = 8.7872
MACROPIXEL_SIZE = 2
MISSING_FRAMES = 0
PIXEL_SUBSAMPLING_FLAG = N
SIGNAL_CHAIN_ID = 3
/* RADIOMETRIC DATA ELEMENTS */
BANDWIDTH = 174.0
CENTER_FILTER_WAVELENGTH = 675.0
RADIANCE_OFFSET = 2.39346
RADIANCE_SCALING_FACTOR = 0.0135875
REFLECTANCE_SCALING_FACTOR = 0.00031417
MEX:REFLECTANCE_OFFSET = 0.0553415
/* IMAGE OBJECT DEFINITIONS */
OBJECT = IMAGE
  INTERCHANGE_FORMAT = BINARY
  LINES = 17762
  LINE_SAMPLES = 5314
  SAMPLE_TYPE = UNSIGNED_INTEGER
  SAMPLE_BITS = 8
  BANDS = 1
  BAND_STORAGE_TYPE = BAND_SEQUENTIAL
  MAXIMUM = 255
  MEAN = 82.4504
  MINIMUM = 1
  STANDARD_DEVIATION = 30.7645
END_OBJECT = IMAGE
/* MAP OBJECT DEFINITIONS */
OBJECT = IMAGE_MAP_PROJECTION
  ^DATA_SET_MAP_PROJECTION_CATALOG= "DSMAP.CAT"
  A_AXIS_RADIUS = 3396.0
  B_AXIS_RADIUS = 3396.0
  C_AXIS_RADIUS = 3396.0
  CENTER_LATITUDE = 0.0
  CENTER_LONGITUDE = 33.0
  COORDINATE_SYSTEM_NAME = PLANETOGRAPHIC
  COORDINATE_SYSTEM_TYPE = "BODY-FIXED ROTATING"
  EASTERNMOST_LONGITUDE = 34.6445
  FIRST_STANDARD_PARALLEL = "N/A"
  LINE_FIRST_PIXEL = 1
  LINE_LAST_PIXEL = 17762
  LINE_PROJECTION_OFFSET = 129139.75
  MAP_PROJECTION_ROTATION = 0.0
  MAP_PROJECTION_TYPE = SINUSOIDAL
  MAP_RESOLUTION = 2370.85521546667
  MAP_SCALE = 0.025
  MAXIMUM_LATITUDE = 54.5938
  MINIMUM_LATITUDE = 46.9114
  POSITIVE_LONGITUDE_DIRECTION = EAST
  REFERENCE_LATITUDE = "N/A"
  REFERENCE_LONGITUDE = "N/A"
  SAMPLE_FIRST_PIXEL = 1
  SAMPLE_LAST_PIXEL = 5314
  SAMPLE_PROJECTION_OFFSET = 2608.75
  SECOND_STANDARD_PARALLEL = "N/A"
  WESTERNMOST_LONGITUDE = 31.1299
END_OBJECT = IMAGE_MAP_PROJECTION
END
