PDS_VERSION_ID = PDS3
/* FILE DATA ELEMENTS */
RECORD_TYPE = UNDEFINED
/* POINTERS TO DATA OBJECTS */
^IMAGE = ("HD802_0000_RE4.TIF")
/* IDENTIFICATION DATA ELEMENTS */
DATA_SET_ID = "MEX-M-HRSC-4-REFDR-MAPPROJECT-EXT4-V4.0"
DATA_SET_NAME = "MARS EXPRESS HRSC MAP PROJECTED REFDR EXTENSION4 V4.0"
DETECTOR_ID = MEX_HRSC_RED
EVENT_TYPE = "MARS-CLOUD-VARIABLE-At"
INSTRUMENT_HOST_ID = MEX
INSTRUMENT_HOST_NAME = "MARS EXPRESS"
INSTRUMENT_ID = HRSC
INSTRUMENT_NAME = "HIGH RESOLUTION STEREO CAMERA"
MISSION_NAME = "MARS EXPRESS"
MISSION_PHASE_NAME = ME_Phase_31
PROCESSING_LEVEL_ID = 4
PRODUCT_CREATION_TIME = 2023-02-01T02:09:17.000Z
PRODUCT_ID = "HD802_0000_RE4.TIF"
RELEASE_ID = 0005
REVISION_ID = 0000
/* QUALITY DATA ELEMENTS */
DATA_QUALITY_ID = 1
DATA_QUALITY_DESC = "Data calculated based on original SPICE kernels"
/* TIME DATA ELEMENTS */
SPACECRAFT_CLOCK_START_COUNT = "1/0364163726.09042"
SPACECRAFT_CLOCK_STOP_COUNT = "1/0364164167.50035"
START_TIME = 2014-11-15T20:36:09.202Z
STOP_TIME = 2014-11-15T20:42:51.823Z
/* ORBITAL DATA ELEMENTS */
ASCENDING_NODE_LONGITUDE = 314.58
MAXIMUM_RESOLUTION = 0.0684
FOOTPRINT_POINT_LATITUDE = (51.5775,51.5456,51.5187,51.5181, 51.6051,51.0058,50.2093,49.1984,48.3883 ,47.9782,47.5644,47.1517,46.7405, 46.3206,45.9003,45.4812,45.0568,44.6296 ,44.2033,43.7715,43.3377,42.684,42.2433 ,41.8035,41.3553,40.9088,40.456,40.0023 ,39.5435,39.0829,38.6174,38.1512, 37.6777,36.963,36.2397,35.5071,34.7658, 34.2671,33.7619,33.252,32.7393,32.2208, 31.6974,31.1694,30.6346,30.0961,29.5496 ,29.0008,28.7227,28.6222,28.6204, 28.6133,28.6087,28.607,28.6065,28.6078, 29.1627,29.7137,30.259,30.7989,31.3338, 31.8647,32.3891,32.9081,33.4197,33.9298 ,34.4355,34.9365,35.4312,36.1673, 36.8941,37.3748,37.8495,38.556,39.0252, 39.4866,39.9485,40.4023,40.858,41.3059, 41.9772,42.4185,43.0797,43.7314,44.1667 ,44.5937,45.0221,45.4492,45.8697, 46.2906,46.9196,47.3326,47.7467,48.3675 ,49.1803,49.5882,50.1963,51.3957, 51.5964,51.5775)
FOOTPRINT_POINT_LONGITUDE = (344.005,342.688,341.824,341.803, 341.738,341.79,341.855,341.929,341.984, 342.01,342.035,342.059,342.081,342.103, 342.124,342.144,342.163,342.182,342.199 ,342.215,342.231,342.252,342.266, 342.278,342.29,342.3,342.31,342.319, 342.328,342.335,342.342,342.347,342.352 ,342.357,342.361,342.363,342.362,342.36 ,342.358,342.355,342.35,342.345,342.34, 342.332,342.324,342.315,342.305,342.294 ,342.288,342.286,342.818,343.786, 344.366,344.852,344.876,344.884,344.872 ,344.86,344.848,344.836,344.824,344.812 ,344.8,344.787,344.774,344.762,344.749, 344.736,344.723,344.703,344.682,344.669 ,344.655,344.633,344.619,344.604,344.59 ,344.574,344.559,344.543,344.519, 344.503,344.478,344.453,344.435,344.418 ,344.4,344.381,344.363,344.343,344.314, 344.294,344.273,344.242,344.199,344.176 ,344.141,344.069,344.056,344.005)
ORBIT_NUMBER = 13802
ORBITAL_ECCENTRICITY = 0.572
ORBITAL_INCLINATION = 86.92
ORBITAL_SEMIMAJOR_AXIS = 8779.8
PERIAPSIS_ALTITUDE = 380.56
PERIAPSIS_ARGUMENT_ANGLE = 119.13
PERIAPSIS_TIME = 2014-11-15T20:33:15.000Z
SPACECRAFT_ORIENTATION = (0.0,-1.0,0.0)
^MEX_ORIENTATION_DESC = "MEX_ORIENTATION_DESC.TXT"
SPACECRAFT_POINTING_MODE = NADIR
^MEX_POINTING_DESC = "MEX_POINTING_DESC.TXT"
RIGHT_ASCENSION = -1e+32
DECLINATION = -1e+32
OFFSET_ANGLE = -1e+32
SPACECRAFT_SOLAR_DISTANCE = 2.07382e+08
TARGET_NAME = MARS
/* CAMERA DATA ELEMENTS */
DETECTOR_TEMPERATURE = 19.5939
FOCAL_PLANE_TEMPERATURE = 10.6223
INST_CMPRS_NAME = "DISCRETE COSINE TRANSFORMATION (DCT)"
INST_CMPRS_RATIO = 37.0271
INST_CMPRS_QUALITY = 0
INST_CMPRS_QUANTZ_TBL_ID = 0
INSTRUMENT_TEMPERATURE = 12.0496
LENS_TEMPERATURE = 11.0301
MACROPIXEL_SIZE = 4
MISSING_FRAMES = 0
PIXEL_SUBSAMPLING_FLAG = N
SIGNAL_CHAIN_ID = 2
/* RADIOMETRIC DATA ELEMENTS */
BANDWIDTH = 48.0
CENTER_FILTER_WAVELENGTH = 748.0
RADIANCE_OFFSET = 0.504421
RADIANCE_SCALING_FACTOR = 0.00636207
REFLECTANCE_SCALING_FACTOR = 0.000624405
MEX:REFLECTANCE_OFFSET = 0.0495064
/* IMAGE OBJECT DEFINITIONS */
OBJECT = IMAGE
  INTERCHANGE_FORMAT = BINARY
  LINES = 27314
  LINE_SAMPLES = 2767
  SAMPLE_TYPE = UNSIGNED_INTEGER
  SAMPLE_BITS = 8
  BANDS = 1
  BAND_STORAGE_TYPE = BAND_SEQUENTIAL
  MAXIMUM = 255
  MEAN = 97.5866
  MINIMUM = 1
  STANDARD_DEVIATION = 58.944
END_OBJECT = IMAGE
/* MAP OBJECT DEFINITIONS */
OBJECT = IMAGE_MAP_PROJECTION
  ^DATA_SET_MAP_PROJECTION_CATALOG= "DSMAP.CAT"
  A_AXIS_RADIUS = 3396.0
  B_AXIS_RADIUS = 3396.0
  C_AXIS_RADIUS = 3396.0
  CENTER_LATITUDE = 0.0
  CENTER_LONGITUDE = 343.0
  COORDINATE_SYSTEM_NAME = PLANETOGRAPHIC
  COORDINATE_SYSTEM_TYPE = "BODY-FIXED ROTATING"
  EASTERNMOST_LONGITUDE = 344.884
  FIRST_STANDARD_PARALLEL = "N/A"
  LINE_FIRST_PIXEL = 1
  LINE_LAST_PIXEL = 27314
  LINE_PROJECTION_OFFSET = 61221.0
  MAP_PROJECTION_ROTATION = 0.0
  MAP_PROJECTION_TYPE = SINUSOIDAL
  MAP_RESOLUTION = 1185.42760773333
  MAP_SCALE = 0.05
  MAXIMUM_LATITUDE = 51.6051
  MINIMUM_LATITUDE = 28.6065
  POSITIVE_LONGITUDE_DIRECTION = EAST
  REFERENCE_LATITUDE = "N/A"
  REFERENCE_LONGITUDE = "N/A"
  SAMPLE_FIRST_PIXEL = 1
  SAMPLE_LAST_PIXEL = 2767
  SAMPLE_PROJECTION_OFFSET = 904.0
  SECOND_STANDARD_PARALLEL = "N/A"
  WESTERNMOST_LONGITUDE = 341.738
END_OBJECT = IMAGE_MAP_PROJECTION
END
