PDS_VERSION_ID = PDS3
/* FILE DATA ELEMENTS */
RECORD_TYPE = UNDEFINED
/* POINTERS TO DATA OBJECTS */
^IMAGE = ("HD795_0000_P24.TIF")
/* IDENTIFICATION DATA ELEMENTS */
DATA_SET_ID = "MEX-M-HRSC-4-REFDR-MAPPROJECT-EXT4-V4.0"
DATA_SET_NAME = "MARS EXPRESS HRSC MAP PROJECTED REFDR EXTENSION4 V4.0"
DETECTOR_ID = MEX_HRSC_P2
EVENT_TYPE = "MARS-REGIONAL-MAPPING-Te-Im-Pf"
INSTRUMENT_HOST_ID = MEX
INSTRUMENT_HOST_NAME = "MARS EXPRESS"
INSTRUMENT_ID = HRSC
INSTRUMENT_NAME = "HIGH RESOLUTION STEREO CAMERA"
MISSION_NAME = "MARS EXPRESS"
MISSION_PHASE_NAME = ME_Phase_31
PROCESSING_LEVEL_ID = 4
PRODUCT_CREATION_TIME = 2023-02-01T02:09:17.000Z
PRODUCT_ID = "HD795_0000_P24.TIF"
RELEASE_ID = 0005
REVISION_ID = 0000
/* QUALITY DATA ELEMENTS */
DATA_QUALITY_ID = 1
DATA_QUALITY_DESC = "Data calculated based on original SPICE kernels"
/* TIME DATA ELEMENTS */
SPACECRAFT_CLOCK_START_COUNT = "1/0363987697.07341"
SPACECRAFT_CLOCK_STOP_COUNT = "1/0363988034.14913"
START_TIME = 2014-11-13T19:42:55.885Z
STOP_TIME = 2014-11-13T19:46:51.275Z
/* ORBITAL DATA ELEMENTS */
ASCENDING_NODE_LONGITUDE = 314.71
MAXIMUM_RESOLUTION = 0.0399
FOOTPRINT_POINT_LATITUDE = (39.0969,39.0997,39.1019,39.1035, 39.1045,39.1049,39.1042,39.1042,39.1577 ,38.8052,38.3367,37.8604,37.1427, 36.5386,36.1716,35.6818,35.3093,35.0606 ,34.8127,34.5604,34.3085,34.0568, 33.8013,33.5457,33.2912,33.0324,32.6442 ,32.3831,32.121,31.7265,31.4611,31.1965 ,30.9277,30.5257,30.2535,29.9821, 29.5707,29.2963,29.0183,28.7408,28.4603 ,28.1797,27.8964,27.6126,27.3261, 27.0394,26.7496,26.3134,26.1669,26.1571 ,26.1485,26.1403,26.1275,26.1179, 26.1079,26.0976,26.097,26.0974,26.3921, 26.6829,26.9745,27.2628,27.551,27.8359, 28.1206,28.4028,28.6848,28.9635,29.2426 ,29.5182,29.9316,30.204,30.6117,30.8809 ,31.1509,31.4167,31.6828,31.9477,32.342 ,32.6046,32.8638,33.1234,33.5092, 33.7661,34.0229,34.2752,34.5283,34.7818 ,35.0307,35.2802,35.6542,35.8998, 36.1458,36.5145,37.1205,37.8405,38.3188 ,39.0252,39.1432,39.0969)
FOOTPRINT_POINT_LONGITUDE = (338.939,338.611,338.28,337.945,337.607 ,337.266,336.79,336.768,336.687,336.701 ,336.717,336.733,336.756,336.772, 336.782,336.793,336.801,336.806,336.81, 336.815,336.819,336.823,336.826,336.83, 336.832,336.835,336.839,336.841,336.843 ,336.845,336.847,336.847,336.848, 336.848,336.848,336.848,336.847,336.846 ,336.844,336.843,336.84,336.838,336.835 ,336.832,336.829,336.825,336.821, 336.815,336.813,336.812,337.251,337.635 ,338.193,338.595,338.994,339.391, 339.415,339.424,339.416,339.407,339.399 ,339.39,339.382,339.373,339.364,339.356 ,339.347,339.338,339.329,339.32,339.307 ,339.298,339.284,339.275,339.266, 339.256,339.247,339.238,339.223,339.214 ,339.204,339.194,339.18,339.17,339.16, 339.15,339.14,339.129,339.119,339.109, 339.093,339.083,339.072,339.056,339.029 ,338.995,338.973,338.938,338.932, 338.939)
ORBIT_NUMBER = 13795
ORBITAL_ECCENTRICITY = 0.572
ORBITAL_INCLINATION = 86.93
ORBITAL_SEMIMAJOR_AXIS = 8781.15
PERIAPSIS_ALTITUDE = 379.98
PERIAPSIS_ARGUMENT_ANGLE = 120.34
PERIAPSIS_TIME = 2014-11-13T19:37:02.000Z
SPACECRAFT_ORIENTATION = (0.0,-1.0,0.0)
^MEX_ORIENTATION_DESC = "MEX_ORIENTATION_DESC.TXT"
SPACECRAFT_POINTING_MODE = ACROSSTRACK
^MEX_POINTING_DESC = "MEX_POINTING_DESC.TXT"
RIGHT_ASCENSION = -1e+32
DECLINATION = -1e+32
OFFSET_ANGLE = -1.0
SPACECRAFT_SOLAR_DISTANCE = 2.07502e+08
TARGET_NAME = MARS
/* CAMERA DATA ELEMENTS */
DETECTOR_TEMPERATURE = 18.9822
FOCAL_PLANE_TEMPERATURE = 9.3989
INST_CMPRS_NAME = "DISCRETE COSINE TRANSFORMATION (DCT)"
INST_CMPRS_RATIO = 7.41655
INST_CMPRS_QUALITY = 0
INST_CMPRS_QUANTZ_TBL_ID = 0
INSTRUMENT_TEMPERATURE = 11.8457
LENS_TEMPERATURE = 9.6028
MACROPIXEL_SIZE = 2
MISSING_FRAMES = 0
PIXEL_SUBSAMPLING_FLAG = N
SIGNAL_CHAIN_ID = 3
/* RADIOMETRIC DATA ELEMENTS */
BANDWIDTH = 177.0
CENTER_FILTER_WAVELENGTH = 676.5
RADIANCE_OFFSET = 4.17945
RADIANCE_SCALING_FACTOR = 0.0120193
REFLECTANCE_SCALING_FACTOR = 0.000274397
MEX:REFLECTANCE_OFFSET = 0.0954154
/* IMAGE OBJECT DEFINITIONS */
OBJECT = IMAGE
  INTERCHANGE_FORMAT = BINARY
  LINES = 30986
  LINE_SAMPLES = 5194
  SAMPLE_TYPE = UNSIGNED_INTEGER
  SAMPLE_BITS = 8
  BANDS = 1
  BAND_STORAGE_TYPE = BAND_SEQUENTIAL
  MAXIMUM = 255
  MEAN = 118.059
  MINIMUM = 1
  STANDARD_DEVIATION = 56.0431
END_OBJECT = IMAGE
/* MAP OBJECT DEFINITIONS */
OBJECT = IMAGE_MAP_PROJECTION
  ^DATA_SET_MAP_PROJECTION_CATALOG= "DSMAP.CAT"
  A_AXIS_RADIUS = 3396.0
  B_AXIS_RADIUS = 3396.0
  C_AXIS_RADIUS = 3396.0
  CENTER_LATITUDE = 0.0
  CENTER_LONGITUDE = 338.0
  COORDINATE_SYSTEM_NAME = PLANETOGRAPHIC
  COORDINATE_SYSTEM_TYPE = "BODY-FIXED ROTATING"
  EASTERNMOST_LONGITUDE = 339.424
  FIRST_STANDARD_PARALLEL = "N/A"
  LINE_FIRST_PIXEL = 1
  LINE_LAST_PIXEL = 30986
  LINE_PROJECTION_OFFSET = 92855.25
  MAP_PROJECTION_ROTATION = 0.0
  MAP_PROJECTION_TYPE = SINUSOIDAL
  MAP_RESOLUTION = 2370.85521546667
  MAP_SCALE = 0.025
  MAXIMUM_LATITUDE = 39.1577
  MINIMUM_LATITUDE = 26.097
  POSITIVE_LONGITUDE_DIRECTION = EAST
  REFERENCE_LATITUDE = "N/A"
  REFERENCE_LONGITUDE = "N/A"
  SAMPLE_FIRST_PIXEL = 1
  SAMPLE_LAST_PIXEL = 5194
  SAMPLE_PROJECTION_OFFSET = 2339.25
  SECOND_STANDARD_PARALLEL = "N/A"
  WESTERNMOST_LONGITUDE = 336.687
END_OBJECT = IMAGE_MAP_PROJECTION
END
