PDS_VERSION_ID = PDS3
/* FILE DATA ELEMENTS */
RECORD_TYPE = UNDEFINED
/* POINTERS TO DATA OBJECTS */
^IMAGE = ("HD795_0000_GR4.TIF")
/* IDENTIFICATION DATA ELEMENTS */
DATA_SET_ID = "MEX-M-HRSC-4-REFDR-MAPPROJECT-EXT4-V4.0"
DATA_SET_NAME = "MARS EXPRESS HRSC MAP PROJECTED REFDR EXTENSION4 V4.0"
DETECTOR_ID = MEX_HRSC_GREEN
EVENT_TYPE = "MARS-REGIONAL-MAPPING-Te-Im-Pf"
INSTRUMENT_HOST_ID = MEX
INSTRUMENT_HOST_NAME = "MARS EXPRESS"
INSTRUMENT_ID = HRSC
INSTRUMENT_NAME = "HIGH RESOLUTION STEREO CAMERA"
MISSION_NAME = "MARS EXPRESS"
MISSION_PHASE_NAME = ME_Phase_31
PROCESSING_LEVEL_ID = 4
PRODUCT_CREATION_TIME = 2023-02-01T02:09:17.000Z
PRODUCT_ID = "HD795_0000_GR4.TIF"
RELEASE_ID = 0005
REVISION_ID = 0000
/* QUALITY DATA ELEMENTS */
DATA_QUALITY_ID = 1
DATA_QUALITY_DESC = "Data calculated based on original SPICE kernels"
/* TIME DATA ELEMENTS */
SPACECRAFT_CLOCK_START_COUNT = "1/0363987697.07341"
SPACECRAFT_CLOCK_STOP_COUNT = "1/0363988034.14913"
START_TIME = 2014-11-13T19:42:17.884Z
STOP_TIME = 2014-11-13T19:45:55.825Z
/* ORBITAL DATA ELEMENTS */
ASCENDING_NODE_LONGITUDE = 314.71
MAXIMUM_RESOLUTION = 0.074
FOOTPRINT_POINT_LATITUDE = (39.1745,39.1598,39.1413,39.1307, 39.1113,39.1105,39.0946,38.5067,38.0373 ,37.4396,36.9615,36.5974,36.3537, 36.1103,35.8671,35.6192,35.3712,35.1236 ,34.7499,34.4975,34.2455,33.9939, 33.6105,33.3542,33.0983,32.7085,32.4482 ,32.1883,31.9237,31.6592,31.3951, 31.1268,30.8583,30.5902,30.3179,29.9093 ,29.6343,29.3577,29.0816,28.8011, 28.3807,27.9547,27.6707,27.2388,26.9507 ,26.6583,26.3665,26.2196,26.0744, 26.0807,26.086,26.0893,26.0932,26.0956, 26.0973,26.0973,26.0987,26.3948,26.6877 ,26.9813,27.2702,27.7037,27.9888, 28.4163,28.8381,29.1196,29.3967,29.6742 ,29.9502,30.2234,30.6334,30.9025, 31.1719,31.4411,31.7061,31.9714,32.2369 ,32.4977,32.7588,33.15,33.4067,33.6637, 34.0483,34.3008,34.5536,34.8067,35.1816 ,35.4301,35.6788,35.9274,36.1713, 36.4155,36.66,37.0253,37.5049,38.1044, 38.5752,38.9289,39.047,39.1745)
FOOTPRINT_POINT_LONGITUDE = (338.887,338.287,337.675,337.364, 336.853,336.833,336.758,336.781,336.799 ,336.82,336.835,336.847,336.854,336.86, 336.867,336.873,336.879,336.885,336.893 ,336.898,336.903,336.908,336.915, 336.919,336.923,336.928,336.931,336.934 ,336.937,336.939,336.942,336.943, 336.945,336.947,336.948,336.949,336.95, 336.95,336.95,336.949,336.948,336.946, 336.945,336.942,336.94,336.937,336.935, 336.933,336.931,337.295,337.657,337.926 ,338.349,338.703,339.294,339.315, 339.323,339.316,339.309,339.302,339.294 ,339.284,339.276,339.265,339.254, 339.246,339.238,339.231,339.223,339.215 ,339.203,339.195,339.187,339.178,339.17 ,339.162,339.153,339.144,339.136, 339.123,339.114,339.105,339.091,339.082 ,339.073,339.063,339.049,339.04,339.03, 339.02,339.01,339.0,338.99,338.975, 338.955,338.928,338.907,338.89,338.885, 338.887)
ORBIT_NUMBER = 13795
ORBITAL_ECCENTRICITY = 0.572
ORBITAL_INCLINATION = 86.93
ORBITAL_SEMIMAJOR_AXIS = 8781.15
PERIAPSIS_ALTITUDE = 379.98
PERIAPSIS_ARGUMENT_ANGLE = 120.34
PERIAPSIS_TIME = 2014-11-13T19:37:02.000Z
SPACECRAFT_ORIENTATION = (0.0,-1.0,0.0)
^MEX_ORIENTATION_DESC = "MEX_ORIENTATION_DESC.TXT"
SPACECRAFT_POINTING_MODE = ACROSSTRACK
^MEX_POINTING_DESC = "MEX_POINTING_DESC.TXT"
RIGHT_ASCENSION = -1e+32
DECLINATION = -1e+32
OFFSET_ANGLE = -1.0
SPACECRAFT_SOLAR_DISTANCE = 2.07502e+08
TARGET_NAME = MARS
/* CAMERA DATA ELEMENTS */
DETECTOR_TEMPERATURE = 18.5744
FOCAL_PLANE_TEMPERATURE = 9.3989
INST_CMPRS_NAME = "DISCRETE COSINE TRANSFORMATION (DCT)"
INST_CMPRS_RATIO = 13.6723
INST_CMPRS_QUALITY = 0
INST_CMPRS_QUANTZ_TBL_ID = 0
INSTRUMENT_TEMPERATURE = 11.8457
LENS_TEMPERATURE = 9.6028
MACROPIXEL_SIZE = 4
MISSING_FRAMES = 0
PIXEL_SUBSAMPLING_FLAG = N
SIGNAL_CHAIN_ID = 2
/* RADIOMETRIC DATA ELEMENTS */
BANDWIDTH = 88.0
CENTER_FILTER_WAVELENGTH = 538.0
RADIANCE_OFFSET = 1.9025
RADIANCE_SCALING_FACTOR = 0.00289739
REFLECTANCE_SCALING_FACTOR = 0.000107409
MEX:REFLECTANCE_OFFSET = 0.0705272
/* IMAGE OBJECT DEFINITIONS */
OBJECT = IMAGE
  INTERCHANGE_FORMAT = BINARY
  LINES = 15493
  LINE_SAMPLES = 2597
  SAMPLE_TYPE = UNSIGNED_INTEGER
  SAMPLE_BITS = 8
  BANDS = 1
  BAND_STORAGE_TYPE = BAND_SEQUENTIAL
  MAXIMUM = 255
  MEAN = 121.309
  MINIMUM = 1
  STANDARD_DEVIATION = 49.9712
END_OBJECT = IMAGE
/* MAP OBJECT DEFINITIONS */
OBJECT = IMAGE_MAP_PROJECTION
  ^DATA_SET_MAP_PROJECTION_CATALOG= "DSMAP.CAT"
  A_AXIS_RADIUS = 3396.0
  B_AXIS_RADIUS = 3396.0
  C_AXIS_RADIUS = 3396.0
  CENTER_LATITUDE = 0.0
  CENTER_LONGITUDE = 338.0
  COORDINATE_SYSTEM_NAME = PLANETOGRAPHIC
  COORDINATE_SYSTEM_TYPE = "BODY-FIXED ROTATING"
  EASTERNMOST_LONGITUDE = 339.323
  FIRST_STANDARD_PARALLEL = "N/A"
  LINE_FIRST_PIXEL = 1
  LINE_LAST_PIXEL = 15493
  LINE_PROJECTION_OFFSET = 46427.375
  MAP_PROJECTION_ROTATION = 0.0
  MAP_PROJECTION_TYPE = SINUSOIDAL
  MAP_RESOLUTION = 1185.42760773333
  MAP_SCALE = 0.05
  MAXIMUM_LATITUDE = 39.1745
  MINIMUM_LATITUDE = 26.0744
  POSITIVE_LONGITUDE_DIRECTION = EAST
  REFERENCE_LATITUDE = "N/A"
  REFERENCE_LONGITUDE = "N/A"
  SAMPLE_FIRST_PIXEL = 1
  SAMPLE_LAST_PIXEL = 2597
  SAMPLE_PROJECTION_OFFSET = 1169.375
  SECOND_STANDARD_PARALLEL = "N/A"
  WESTERNMOST_LONGITUDE = 336.758
END_OBJECT = IMAGE_MAP_PROJECTION
END
