PDS_VERSION_ID = PDS3
/* FILE DATA ELEMENTS */
RECORD_TYPE = UNDEFINED
/* POINTERS TO DATA OBJECTS */
^IMAGE = ("HD792_0000_P14.TIF")
/* IDENTIFICATION DATA ELEMENTS */
DATA_SET_ID = "MEX-M-HRSC-4-REFDR-MAPPROJECT-EXT4-V4.0"
DATA_SET_NAME = "MARS EXPRESS HRSC MAP PROJECTED REFDR EXTENSION4 V4.0"
DETECTOR_ID = MEX_HRSC_P1
EVENT_TYPE = "MARS-REGIONAL-STEREO-Te"
INSTRUMENT_HOST_ID = MEX
INSTRUMENT_HOST_NAME = "MARS EXPRESS"
INSTRUMENT_ID = HRSC
INSTRUMENT_NAME = "HIGH RESOLUTION STEREO CAMERA"
MISSION_NAME = "MARS EXPRESS"
MISSION_PHASE_NAME = ME_Phase_31
PROCESSING_LEVEL_ID = 4
PRODUCT_CREATION_TIME = 2023-02-01T02:09:17.000Z
PRODUCT_ID = "HD792_0000_P14.TIF"
RELEASE_ID = 0005
REVISION_ID = 0000
/* QUALITY DATA ELEMENTS */
DATA_QUALITY_ID = 1
DATA_QUALITY_DESC = "Data calculated based on original SPICE kernels"
/* TIME DATA ELEMENTS */
SPACECRAFT_CLOCK_START_COUNT = "1/0363912106.09037"
SPACECRAFT_CLOCK_STOP_COUNT = "1/0363912333.57755"
START_TIME = 2014-11-12T22:42:04.430Z
STOP_TIME = 2014-11-12T22:44:18.190Z
/* ORBITAL DATA ELEMENTS */
ASCENDING_NODE_LONGITUDE = 314.77
MAXIMUM_RESOLUTION = 0.0335
FOOTPRINT_POINT_LATITUDE = (44.8496,44.8422,44.8358,44.8293, 44.8214,44.8124,44.8044,44.8037,44.7662 ,44.2909,43.9669,43.6419,43.398,43.0724 ,42.7443,42.4174,42.2502,41.9993,41.832 ,41.6649,41.4981,41.3311,41.1643, 40.9974,40.8307,40.6601,40.4894,40.232, 40.0583,39.8894,39.7195,39.5482,39.2916 ,39.1173,38.9422,38.7669,38.5918, 38.4169,38.2421,38.0677,37.8005,37.6223 ,37.4443,37.2664,37.0886,36.9104, 36.7301,36.5476,36.3653,36.2743,36.2407 ,36.2492,36.2547,36.2584,36.262,36.2654 ,36.2673,36.2674,36.268,36.4504,36.6332 ,36.9061,37.0847,37.2632,37.4416, 37.6205,37.8889,38.0679,38.2438,38.4189 ,38.5937,38.7683,38.9414,39.2047, 39.3805,39.5534,39.7244,39.8952,40.0662 ,40.3226,40.5794,40.7506,40.9201, 41.0868,41.2539,41.505,41.6725,41.8396, 42.0071,42.1745,42.3424,42.5913,42.9193 ,43.2463,43.5725,44.0623,44.307,44.7051 ,44.7843,44.8496)
FOOTPRINT_POINT_LONGITUDE = (286.65,286.174,285.85,285.564,285.26, 284.955,284.708,284.689,284.661,284.684 ,284.7,284.715,284.726,284.739,284.751, 284.762,284.768,284.777,284.783,284.788 ,284.794,284.799,284.804,284.809, 284.814,284.819,284.824,284.83,284.833, 284.839,284.843,284.847,284.854,284.858 ,284.862,284.865,284.868,284.871, 284.874,284.877,284.882,284.885,284.888 ,284.891,284.894,284.896,284.898,284.9, 284.902,284.903,284.904,285.294,285.607 ,285.841,286.134,286.525,286.896, 286.915,286.922,286.918,286.914,286.908 ,286.903,286.899,286.895,286.891, 286.884,286.88,286.875,286.871,286.866, 286.862,286.859,286.851,286.846,286.841 ,286.837,286.832,286.828,286.821, 286.813,286.809,286.804,286.799,286.794 ,286.787,286.781,286.777,286.771, 286.766,286.761,286.752,286.74,286.729, 286.719,286.702,286.694,286.679,286.677 ,286.65)
ORBIT_NUMBER = 13792
ORBITAL_ECCENTRICITY = 0.572
ORBITAL_INCLINATION = 86.91
ORBITAL_SEMIMAJOR_AXIS = 8784.68
PERIAPSIS_ALTITUDE = 379.72
PERIAPSIS_ARGUMENT_ANGLE = 120.88
PERIAPSIS_TIME = 2014-11-12T22:38:46.000Z
SPACECRAFT_ORIENTATION = (0.0,-1.0,0.0)
^MEX_ORIENTATION_DESC = "MEX_ORIENTATION_DESC.TXT"
SPACECRAFT_POINTING_MODE = NADIR
^MEX_POINTING_DESC = "MEX_POINTING_DESC.TXT"
RIGHT_ASCENSION = -1e+32
DECLINATION = -1e+32
OFFSET_ANGLE = -1e+32
SPACECRAFT_SOLAR_DISTANCE = 2.07555e+08
TARGET_NAME = MARS
/* CAMERA DATA ELEMENTS */
DETECTOR_TEMPERATURE = 18.1666
FOCAL_PLANE_TEMPERATURE = 11.234
INST_CMPRS_NAME = "DISCRETE COSINE TRANSFORMATION (DCT)"
INST_CMPRS_RATIO = 6.41502
INST_CMPRS_QUALITY = 0
INST_CMPRS_QUANTZ_TBL_ID = 0
INSTRUMENT_TEMPERATURE = 12.0496
LENS_TEMPERATURE = 11.6418
MACROPIXEL_SIZE = 2
MISSING_FRAMES = 0
PIXEL_SUBSAMPLING_FLAG = N
SIGNAL_CHAIN_ID = 3
/* RADIOMETRIC DATA ELEMENTS */
BANDWIDTH = 174.0
CENTER_FILTER_WAVELENGTH = 675.0
RADIANCE_OFFSET = 3.61884
RADIANCE_SCALING_FACTOR = 0.0163837
REFLECTANCE_SCALING_FACTOR = 0.000379634
MEX:REFLECTANCE_OFFSET = 0.0838536
/* IMAGE OBJECT DEFINITIONS */
OBJECT = IMAGE
  INTERCHANGE_FORMAT = BINARY
  LINES = 20293
  LINE_SAMPLES = 4119
  SAMPLE_TYPE = UNSIGNED_INTEGER
  SAMPLE_BITS = 8
  BANDS = 1
  BAND_STORAGE_TYPE = BAND_SEQUENTIAL
  MAXIMUM = 255
  MEAN = 116.996
  MINIMUM = 1
  STANDARD_DEVIATION = 41.6291
END_OBJECT = IMAGE
/* MAP OBJECT DEFINITIONS */
OBJECT = IMAGE_MAP_PROJECTION
  ^DATA_SET_MAP_PROJECTION_CATALOG= "DSMAP.CAT"
  A_AXIS_RADIUS = 3396.0
  B_AXIS_RADIUS = 3396.0
  C_AXIS_RADIUS = 3396.0
  CENTER_LATITUDE = 0.0
  CENTER_LONGITUDE = 286.0
  COORDINATE_SYSTEM_NAME = PLANETOGRAPHIC
  COORDINATE_SYSTEM_TYPE = "BODY-FIXED ROTATING"
  EASTERNMOST_LONGITUDE = 286.922
  FIRST_STANDARD_PARALLEL = "N/A"
  LINE_FIRST_PIXEL = 1
  LINE_LAST_PIXEL = 20293
  LINE_PROJECTION_OFFSET = 106205.75
  MAP_PROJECTION_ROTATION = 0.0
  MAP_PROJECTION_TYPE = SINUSOIDAL
  MAP_RESOLUTION = 2370.85521546667
  MAP_SCALE = 0.025
  MAXIMUM_LATITUDE = 44.8496
  MINIMUM_LATITUDE = 36.2407
  POSITIVE_LONGITUDE_DIRECTION = EAST
  REFERENCE_LATITUDE = "N/A"
  REFERENCE_LONGITUDE = "N/A"
  SAMPLE_FIRST_PIXEL = 1
  SAMPLE_LAST_PIXEL = 4119
  SAMPLE_PROJECTION_OFFSET = 2295.25
  SECOND_STANDARD_PARALLEL = "N/A"
  WESTERNMOST_LONGITUDE = 284.661
END_OBJECT = IMAGE_MAP_PROJECTION
END
