PDS_VERSION_ID = PDS3
/* FILE DATA ELEMENTS */
RECORD_TYPE = UNDEFINED
/* POINTERS TO DATA OBJECTS */
^IMAGE = ("HD788_0000_ND4.TIF")
/* IDENTIFICATION DATA ELEMENTS */
DATA_SET_ID = "MEX-M-HRSC-4-REFDR-MAPPROJECT-EXT4-V4.0"
DATA_SET_NAME = "MARS EXPRESS HRSC MAP PROJECTED REFDR EXTENSION4 V4.0"
DETECTOR_ID = MEX_HRSC_NADIR
EVENT_TYPE = "MARS-REGIONAL-MAPPING-Te-Im-Pf"
INSTRUMENT_HOST_ID = MEX
INSTRUMENT_HOST_NAME = "MARS EXPRESS"
INSTRUMENT_ID = HRSC
INSTRUMENT_NAME = "HIGH RESOLUTION STEREO CAMERA"
MISSION_NAME = "MARS EXPRESS"
MISSION_PHASE_NAME = ME_Phase_31
PROCESSING_LEVEL_ID = 4
PRODUCT_CREATION_TIME = 2023-02-01T02:09:17.000Z
PRODUCT_ID = "HD788_0000_ND4.TIF"
RELEASE_ID = 0005
REVISION_ID = 0000
/* QUALITY DATA ELEMENTS */
DATA_QUALITY_ID = 1
DATA_QUALITY_DESC = "Data calculated based on original SPICE kernels"
/* TIME DATA ELEMENTS */
SPACECRAFT_CLOCK_START_COUNT = "1/0363811506.09034"
SPACECRAFT_CLOCK_STOP_COUNT = "1/0363811835.63514"
START_TIME = 2014-11-11T18:45:53.286Z
STOP_TIME = 2014-11-11T18:49:31.273Z
/* ORBITAL DATA ELEMENTS */
ASCENDING_NODE_LONGITUDE = 314.84
MAXIMUM_RESOLUTION = 0.0182
FOOTPRINT_POINT_LATITUDE = (39.187,39.1887,39.1891,39.1885,39.187, 39.1816,39.1813,39.1827,38.8329,38.363, 37.8873,37.4128,36.8076,36.3246,36.0786 ,35.8323,35.3407,35.0914,34.8409, 34.5908,34.341,33.96,33.7057,33.4517, 33.0652,32.8068,32.5487,32.1558,31.8934 ,31.6313,31.3646,31.0981,30.832,30.5619 ,30.2914,29.8841,29.6095,29.3354, 29.0584,28.78,28.3608,28.0786,27.7969, 27.5109,27.0824,26.7923,26.3571,26.2102 ,26.1886,26.1863,26.1837,26.18,26.1742, 26.1687,26.1627,26.1622,26.1623,26.4562 ,26.7465,27.1808,27.4673,27.7545, 28.0369,28.3199,28.6012,28.88,29.2978, 29.5726,29.8478,30.2565,30.5277,30.7989 ,31.0656,31.3327,31.6003,31.8631, 32.1261,32.5203,32.779,33.038,33.4257, 33.6803,33.9352,34.3174,34.5678,34.8185 ,35.0695,35.3197,35.5659,35.8124, 36.0592,36.3061,36.7902,37.2754,37.6346 ,38.1107,38.587,39.054,39.1709,39.187)
FOOTPRINT_POINT_LONGITUDE = (337.32,336.903,336.574,336.249,335.928 ,335.296,335.276,335.28,335.279,335.278 ,335.276,335.273,335.268,335.264, 335.262,335.259,335.253,335.25,335.247, 335.244,335.24,335.234,335.23,335.226, 335.219,335.215,335.21,335.202,335.197, 335.192,335.186,335.18,335.174,335.168, 335.162,335.152,335.145,335.138,335.13, 335.123,335.111,335.103,335.095,335.086 ,335.073,335.064,335.05,335.045,335.045 ,335.524,335.87,336.242,336.689,337.045 ,337.381,337.405,337.417,337.416, 337.416,337.416,337.415,337.418,337.414 ,337.414,337.414,337.414,337.413, 337.413,337.412,337.412,337.412,337.412 ,337.411,337.411,337.41,337.41,337.409, 337.409,337.409,337.408,337.408,337.408 ,337.408,337.407,337.406,337.406, 337.405,337.405,337.405,337.404,337.404 ,337.404,337.403,337.401,337.401, 337.399,337.398,337.397,337.397,337.32)
ORBIT_NUMBER = 13788
ORBITAL_ECCENTRICITY = 0.572
ORBITAL_INCLINATION = 86.93
ORBITAL_SEMIMAJOR_AXIS = 8782.65
PERIAPSIS_ALTITUDE = 379.39
PERIAPSIS_ARGUMENT_ANGLE = 121.56
PERIAPSIS_TIME = 2014-11-11T18:40:50.000Z
SPACECRAFT_ORIENTATION = (0.0,-1.0,0.0)
^MEX_ORIENTATION_DESC = "MEX_ORIENTATION_DESC.TXT"
SPACECRAFT_POINTING_MODE = ACROSSTRACK
^MEX_POINTING_DESC = "MEX_POINTING_DESC.TXT"
RIGHT_ASCENSION = -1e+32
DECLINATION = -1e+32
OFFSET_ANGLE = 1.1
SPACECRAFT_SOLAR_DISTANCE = 2.0763e+08
TARGET_NAME = MARS
/* CAMERA DATA ELEMENTS */
DETECTOR_TEMPERATURE = 18.5744
FOCAL_PLANE_TEMPERATURE = 10.4184
INST_CMPRS_NAME = "DISCRETE COSINE TRANSFORMATION (DCT)"
INST_CMPRS_RATIO = 7.23881
INST_CMPRS_QUALITY = 0
INST_CMPRS_QUANTZ_TBL_ID = 0
INSTRUMENT_TEMPERATURE = 11.8457
LENS_TEMPERATURE = 9.8067
MACROPIXEL_SIZE = 1
MISSING_FRAMES = 0
PIXEL_SUBSAMPLING_FLAG = N
SIGNAL_CHAIN_ID = 0
/* RADIOMETRIC DATA ELEMENTS */
BANDWIDTH = 177.0
CENTER_FILTER_WAVELENGTH = 677.5
RADIANCE_OFFSET = 3.15405
RADIANCE_SCALING_FACTOR = 0.0146956
REFLECTANCE_SCALING_FACTOR = 0.000336551
MEX:REFLECTANCE_OFFSET = 0.0722323
/* IMAGE OBJECT DEFINITIONS */
OBJECT = IMAGE
  INTERCHANGE_FORMAT = BINARY
  LINES = 61777
  LINE_SAMPLES = 10093
  SAMPLE_TYPE = UNSIGNED_INTEGER
  SAMPLE_BITS = 8
  BANDS = 1
  BAND_STORAGE_TYPE = BAND_SEQUENTIAL
  MAXIMUM = 255
  MEAN = 122.774
  MINIMUM = 1
  STANDARD_DEVIATION = 64.0083
END_OBJECT = IMAGE
/* MAP OBJECT DEFINITIONS */
OBJECT = IMAGE_MAP_PROJECTION
  ^DATA_SET_MAP_PROJECTION_CATALOG= "DSMAP.CAT"
  A_AXIS_RADIUS = 3396.0
  B_AXIS_RADIUS = 3396.0
  C_AXIS_RADIUS = 3396.0
  CENTER_LATITUDE = 0.0
  CENTER_LONGITUDE = 336.0
  COORDINATE_SYSTEM_NAME = PLANETOGRAPHIC
  COORDINATE_SYSTEM_TYPE = "BODY-FIXED ROTATING"
  EASTERNMOST_LONGITUDE = 337.418
  FIRST_STANDARD_PARALLEL = "N/A"
  LINE_FIRST_PIXEL = 1
  LINE_LAST_PIXEL = 61777
  LINE_PROJECTION_OFFSET = 185830.0
  MAP_PROJECTION_ROTATION = 0.0
  MAP_PROJECTION_TYPE = SINUSOIDAL
  MAP_RESOLUTION = 4741.71043093333
  MAP_SCALE = 0.0125
  MAXIMUM_LATITUDE = 39.1891
  MINIMUM_LATITUDE = 26.1622
  POSITIVE_LONGITUDE_DIRECTION = EAST
  REFERENCE_LATITUDE = "N/A"
  REFERENCE_LONGITUDE = "N/A"
  SAMPLE_FIRST_PIXEL = 1
  SAMPLE_LAST_PIXEL = 10093
  SAMPLE_PROJECTION_OFFSET = 4064.0
  SECOND_STANDARD_PARALLEL = "N/A"
  WESTERNMOST_LONGITUDE = 335.045
END_OBJECT = IMAGE_MAP_PROJECTION
END
