PDS_VERSION_ID = PDS3
/* FILE DATA ELEMENTS */
RECORD_TYPE = UNDEFINED
/* POINTERS TO DATA OBJECTS */
^IMAGE = ("HD785_0000_P14.TIF")
/* IDENTIFICATION DATA ELEMENTS */
DATA_SET_ID = "MEX-M-HRSC-4-REFDR-MAPPROJECT-EXT4-V4.0"
DATA_SET_NAME = "MARS EXPRESS HRSC MAP PROJECTED REFDR EXTENSION4 V4.0"
DETECTOR_ID = MEX_HRSC_P1
EVENT_TYPE = "MARS-REGIONAL-STEREO-Te"
INSTRUMENT_HOST_ID = MEX
INSTRUMENT_HOST_NAME = "MARS EXPRESS"
INSTRUMENT_ID = HRSC
INSTRUMENT_NAME = "HIGH RESOLUTION STEREO CAMERA"
MISSION_NAME = "MARS EXPRESS"
MISSION_PHASE_NAME = ME_Phase_31
PROCESSING_LEVEL_ID = 4
PRODUCT_CREATION_TIME = 2023-02-01T02:09:17.000Z
PRODUCT_ID = "HD785_0000_P14.TIF"
RELEASE_ID = 0005
REVISION_ID = 0000
/* QUALITY DATA ELEMENTS */
DATA_QUALITY_ID = 1
DATA_QUALITY_DESC = "Data calculated based on original SPICE kernels"
/* TIME DATA ELEMENTS */
SPACECRAFT_CLOCK_START_COUNT = "1/0363735966.09040"
SPACECRAFT_CLOCK_STOP_COUNT = "1/0363736244.39678"
START_TIME = 2014-11-10T21:46:24.891Z
STOP_TIME = 2014-11-10T21:49:17.931Z
/* ORBITAL DATA ELEMENTS */
ASCENDING_NODE_LONGITUDE = 314.9
MAXIMUM_RESOLUTION = 0.0344
FOOTPRINT_POINT_LATITUDE = (41.5055,41.4983,41.4828,41.4729, 41.4619,41.4427,41.4419,41.4127,40.9095 ,40.5027,39.9945,39.5887,39.3792, 39.0668,38.7546,38.5467,38.3393,38.0227 ,37.8098,37.5985,37.3893,37.1776, 36.8596,36.6436,36.4259,36.2081,35.8838 ,35.6673,35.3377,35.1164,34.8955, 34.6746,34.3401,34.1141,33.8887,33.5507 ,33.205,32.9748,32.7452,32.5151,32.2853 ,31.9341,31.7001,31.4664,31.2303, 30.9914,30.6332,30.5127,30.4706,30.4881 ,30.4946,30.5018,30.5055,30.5084, 30.5086,30.5092,30.8676,31.1067,31.4637 ,31.6983,31.933,32.1681,32.4021,32.6323 ,32.978,33.2086,33.4379,33.6685,34.0072 ,34.2334,34.46,34.6823,35.0164,35.2396, 35.4613,35.682,35.8982,36.1156,36.3329, 36.6594,36.8772,37.0898,37.3024,37.5149 ,37.8334,38.0469,38.2588,38.4663,38.778 ,38.988,39.1965,39.4055,39.6138,39.8186 ,40.2257,40.7346,40.9385,41.3436, 41.4428,41.5055)
FOOTPRINT_POINT_LONGITUDE = (281.968,281.672,281.135,280.837, 280.538,280.068,280.049,280.019,280.039 ,280.054,280.071,280.086,280.091,280.1, 280.109,280.114,280.12,280.127,280.132, 280.138,280.145,280.15,280.157,280.162, 280.165,280.169,280.175,280.179,280.184 ,280.187,280.191,280.194,280.197, 280.199,280.202,280.205,280.208,280.209 ,280.211,280.212,280.213,280.215, 280.216,280.217,280.217,280.217,280.216 ,280.215,280.214,280.8,281.141,281.62, 281.938,282.256,282.276,282.283,282.276 ,282.271,282.264,282.259,282.254, 282.249,282.244,282.239,282.231,282.226 ,282.221,282.215,282.207,282.202, 282.196,282.19,282.181,282.175,282.169, 282.164,282.158,282.152,282.146,282.137 ,282.13,282.124,282.118,282.112,282.102 ,282.096,282.089,282.083,282.073, 282.065,282.059,282.051,282.044,282.037 ,282.023,282.005,281.998,281.983, 281.979,281.968)
ORBIT_NUMBER = 13785
ORBITAL_ECCENTRICITY = 0.572
ORBITAL_INCLINATION = 86.91
ORBITAL_SEMIMAJOR_AXIS = 8787.12
PERIAPSIS_ALTITUDE = 379.13
PERIAPSIS_ARGUMENT_ANGLE = 122.09
PERIAPSIS_TIME = 2014-11-10T21:42:33.000Z
SPACECRAFT_ORIENTATION = (0.0,-1.0,0.0)
^MEX_ORIENTATION_DESC = "MEX_ORIENTATION_DESC.TXT"
SPACECRAFT_POINTING_MODE = ACROSSTRACK
^MEX_POINTING_DESC = "MEX_POINTING_DESC.TXT"
RIGHT_ASCENSION = -1e+32
DECLINATION = -1e+32
OFFSET_ANGLE = -0.35
SPACECRAFT_SOLAR_DISTANCE = 2.07687e+08
TARGET_NAME = MARS
/* CAMERA DATA ELEMENTS */
DETECTOR_TEMPERATURE = 18.5744
FOCAL_PLANE_TEMPERATURE = 9.195
INST_CMPRS_NAME = "DISCRETE COSINE TRANSFORMATION (DCT)"
INST_CMPRS_RATIO = 7.44576
INST_CMPRS_QUALITY = 0
INST_CMPRS_QUANTZ_TBL_ID = 0
INSTRUMENT_TEMPERATURE = 11.6418
LENS_TEMPERATURE = 9.3989
MACROPIXEL_SIZE = 2
MISSING_FRAMES = 0
MISSING_FRAMES = 1
PIXEL_SUBSAMPLING_FLAG = N
SIGNAL_CHAIN_ID = 3
/* RADIOMETRIC DATA ELEMENTS */
BANDWIDTH = 174.0
CENTER_FILTER_WAVELENGTH = 675.0
RADIANCE_OFFSET = 4.70579
RADIANCE_SCALING_FACTOR = 0.0187669
REFLECTANCE_SCALING_FACTOR = 0.000435407
MEX:REFLECTANCE_OFFSET = 0.109178
/* IMAGE OBJECT DEFINITIONS */
OBJECT = IMAGE
  INTERCHANGE_FORMAT = BINARY
  LINES = 26019
  LINE_SAMPLES = 4496
  SAMPLE_TYPE = UNSIGNED_INTEGER
  SAMPLE_BITS = 8
  BANDS = 1
  BAND_STORAGE_TYPE = BAND_SEQUENTIAL
  MAXIMUM = 255
  MEAN = 93.4652
  MINIMUM = 1
  STANDARD_DEVIATION = 29.3805
END_OBJECT = IMAGE
/* MAP OBJECT DEFINITIONS */
OBJECT = IMAGE_MAP_PROJECTION
  ^DATA_SET_MAP_PROJECTION_CATALOG= "DSMAP.CAT"
  A_AXIS_RADIUS = 3396.0
  B_AXIS_RADIUS = 3396.0
  C_AXIS_RADIUS = 3396.0
  CENTER_LATITUDE = 0.0
  CENTER_LONGITUDE = 281.0
  COORDINATE_SYSTEM_NAME = PLANETOGRAPHIC
  COORDINATE_SYSTEM_TYPE = "BODY-FIXED ROTATING"
  EASTERNMOST_LONGITUDE = 282.283
  FIRST_STANDARD_PARALLEL = "N/A"
  LINE_FIRST_PIXEL = 1
  LINE_LAST_PIXEL = 26019
  LINE_PROJECTION_OFFSET = 98295.75
  MAP_PROJECTION_ROTATION = 0.0
  MAP_PROJECTION_TYPE = SINUSOIDAL
  MAP_RESOLUTION = 2370.85521546667
  MAP_SCALE = 0.025
  MAXIMUM_LATITUDE = 41.5055
  MINIMUM_LATITUDE = 30.4706
  POSITIVE_LONGITUDE_DIRECTION = EAST
  REFERENCE_LATITUDE = "N/A"
  REFERENCE_LONGITUDE = "N/A"
  SAMPLE_FIRST_PIXEL = 1
  SAMPLE_LAST_PIXEL = 4496
  SAMPLE_PROJECTION_OFFSET = 1790.75
  SECOND_STANDARD_PARALLEL = "N/A"
  WESTERNMOST_LONGITUDE = 280.019
END_OBJECT = IMAGE_MAP_PROJECTION
END
