PDS_VERSION_ID = PDS3
/* FILE DATA ELEMENTS */
RECORD_TYPE = UNDEFINED
/* POINTERS TO DATA OBJECTS */
^IMAGE = ("HD779_0000_ND4.TIF")
/* IDENTIFICATION DATA ELEMENTS */
DATA_SET_ID = "MEX-M-HRSC-4-REFDR-MAPPROJECT-EXT4-V4.0"
DATA_SET_NAME = "MARS EXPRESS HRSC MAP PROJECTED REFDR EXTENSION4 V4.0"
DETECTOR_ID = MEX_HRSC_NADIR
EVENT_TYPE = "MARS-REGIONAL-MAPPING-Te-Pf-Mw"
INSTRUMENT_HOST_ID = MEX
INSTRUMENT_HOST_NAME = "MARS EXPRESS"
INSTRUMENT_ID = HRSC
INSTRUMENT_NAME = "HIGH RESOLUTION STEREO CAMERA"
MISSION_NAME = "MARS EXPRESS"
MISSION_PHASE_NAME = ME_Phase_31
PROCESSING_LEVEL_ID = 4
PRODUCT_CREATION_TIME = 2023-02-01T02:09:17.000Z
PRODUCT_ID = "HD779_0000_ND4.TIF"
RELEASE_ID = 0005
REVISION_ID = 0000
/* QUALITY DATA ELEMENTS */
DATA_QUALITY_ID = 1
DATA_QUALITY_DESC = "Data calculated based on original SPICE kernels"
/* TIME DATA ELEMENTS */
SPACECRAFT_CLOCK_START_COUNT = "1/0363584832.08265"
SPACECRAFT_CLOCK_STOP_COUNT = "1/0363585007.25218"
START_TIME = 2014-11-09T03:47:53.262Z
STOP_TIME = 2014-11-09T03:49:30.250Z
/* ORBITAL DATA ELEMENTS */
ASCENDING_NODE_LONGITUDE = 315.01
MAXIMUM_RESOLUTION = 0.0158
FOOTPRINT_POINT_LATITUDE = (48.2223,48.2187,48.2093,48.2022, 48.1922,48.1858,48.1796,48.1718,48.1711 ,48.1712,48.0487,47.9263,47.8038, 47.6815,47.5591,47.4368,47.3145,47.1922 ,47.07,46.9478,46.8256,46.7035,46.5814, 46.3372,46.0933,45.8494,45.6057,45.3621 ,45.1187,44.8754,44.6322,44.3893, 44.1464,43.9038,43.6613,43.4779,43.3535 ,43.2291,43.1048,42.9806,42.8563, 42.7322,42.6081,42.484,42.36,42.236, 42.1121,42.0501,42.0466,42.0542,42.064, 42.0701,42.0757,42.0805,42.0831,42.0833 ,42.0837,42.2079,42.3321,42.4565, 42.5808,42.7052,42.8297,42.9542,43.0788 ,43.2034,43.328,43.4527,43.6383,43.8814 ,44.1247,44.3681,44.6117,44.8554, 45.0993,45.3434,45.5876,45.7098,45.832, 45.9542,46.0765,46.1988,46.3211,46.4435 ,46.5659,46.6884,46.8108,46.9333, 47.0559,47.1785,47.3011,47.4237,47.5464 ,47.6691,47.7918,47.9146,48.0373, 48.1602,48.2216,48.2223)
FOOTPRINT_POINT_LONGITUDE = (175.666,175.469,175.016,174.721, 174.348,174.132,173.935,173.699,173.68, 173.628,173.637,173.645,173.653,173.661 ,173.67,173.678,173.685,173.693,173.701 ,173.709,173.716,173.724,173.731, 173.745,173.759,173.773,173.786,173.799 ,173.811,173.823,173.835,173.847, 173.858,173.869,173.88,173.887,173.893, 173.898,173.903,173.908,173.913,173.918 ,173.922,173.927,173.932,173.936, 173.941,173.943,173.943,174.239,174.673 ,174.988,175.324,175.679,175.916, 175.936,175.946,175.941,175.937,175.934 ,175.929,175.925,175.921,175.917, 175.913,175.909,175.904,175.9,175.894, 175.885,175.876,175.868,175.859,175.85, 175.84,175.831,175.822,175.817,175.812, 175.807,175.802,175.797,175.792,175.787 ,175.782,175.776,175.771,175.766,175.76 ,175.755,175.75,175.745,175.739,175.734 ,175.728,175.723,175.717,175.712, 175.709,175.666)
ORBIT_NUMBER = 13779
ORBITAL_ECCENTRICITY = 0.572
ORBITAL_INCLINATION = 86.92
ORBITAL_SEMIMAJOR_AXIS = 8785.27
PERIAPSIS_ALTITUDE = 379.11
PERIAPSIS_ARGUMENT_ANGLE = 123.13
PERIAPSIS_TIME = 2014-11-09T03:45:39.000Z
SPACECRAFT_ORIENTATION = (0.0,-1.0,0.0)
^MEX_ORIENTATION_DESC = "MEX_ORIENTATION_DESC.TXT"
SPACECRAFT_POINTING_MODE = NADIR
^MEX_POINTING_DESC = "MEX_POINTING_DESC.TXT"
RIGHT_ASCENSION = -1e+32
DECLINATION = -1e+32
OFFSET_ANGLE = -1e+32
SPACECRAFT_SOLAR_DISTANCE = 2.07807e+08
TARGET_NAME = MARS
/* CAMERA DATA ELEMENTS */
DETECTOR_TEMPERATURE = 18.7783
FOCAL_PLANE_TEMPERATURE = 9.195
INST_CMPRS_NAME = "DISCRETE COSINE TRANSFORMATION (DCT)"
INST_CMPRS_RATIO = 6.8733
INST_CMPRS_QUALITY = 0
INST_CMPRS_QUANTZ_TBL_ID = 0
INSTRUMENT_TEMPERATURE = 11.6418
LENS_TEMPERATURE = 9.8067
MACROPIXEL_SIZE = 1
MISSING_FRAMES = 0
PIXEL_SUBSAMPLING_FLAG = N
SIGNAL_CHAIN_ID = 0
/* RADIOMETRIC DATA ELEMENTS */
BANDWIDTH = 177.0
CENTER_FILTER_WAVELENGTH = 677.5
RADIANCE_OFFSET = 2.78939
RADIANCE_SCALING_FACTOR = 0.00743414
REFLECTANCE_SCALING_FACTOR = 0.000170543
MEX:REFLECTANCE_OFFSET = 0.0639902
/* IMAGE OBJECT DEFINITIONS */
OBJECT = IMAGE
  INTERCHANGE_FORMAT = BINARY
  LINES = 29297
  LINE_SAMPLES = 7667
  SAMPLE_TYPE = UNSIGNED_INTEGER
  SAMPLE_BITS = 8
  BANDS = 1
  BAND_STORAGE_TYPE = BAND_SEQUENTIAL
  MAXIMUM = 254
  MEAN = 136.487
  MINIMUM = 1
  STANDARD_DEVIATION = 52.5059
END_OBJECT = IMAGE
/* MAP OBJECT DEFINITIONS */
OBJECT = IMAGE_MAP_PROJECTION
  ^DATA_SET_MAP_PROJECTION_CATALOG= "DSMAP.CAT"
  A_AXIS_RADIUS = 3396.0
  B_AXIS_RADIUS = 3396.0
  C_AXIS_RADIUS = 3396.0
  CENTER_LATITUDE = 0.0
  CENTER_LONGITUDE = 175.0
  COORDINATE_SYSTEM_NAME = PLANETOGRAPHIC
  COORDINATE_SYSTEM_TYPE = "BODY-FIXED ROTATING"
  EASTERNMOST_LONGITUDE = 175.946
  FIRST_STANDARD_PARALLEL = "N/A"
  LINE_FIRST_PIXEL = 1
  LINE_LAST_PIXEL = 29297
  LINE_PROJECTION_OFFSET = 228669.0
  MAP_PROJECTION_ROTATION = 0.0
  MAP_PROJECTION_TYPE = SINUSOIDAL
  MAP_RESOLUTION = 4741.71043093333
  MAP_SCALE = 0.0125
  MAXIMUM_LATITUDE = 48.2223
  MINIMUM_LATITUDE = 42.0466
  POSITIVE_LONGITUDE_DIRECTION = EAST
  REFERENCE_LATITUDE = "N/A"
  REFERENCE_LONGITUDE = "N/A"
  SAMPLE_FIRST_PIXEL = 1
  SAMPLE_LAST_PIXEL = 7667
  SAMPLE_PROJECTION_OFFSET = 4338.0
  SECOND_STANDARD_PARALLEL = "N/A"
  WESTERNMOST_LONGITUDE = 173.628
END_OBJECT = IMAGE_MAP_PROJECTION
END
