PDS_VERSION_ID = PDS3
/* FILE DATA ELEMENTS */
RECORD_TYPE = UNDEFINED
/* POINTERS TO DATA OBJECTS */
^IMAGE = ("HD776_0000_P14.TIF")
/* IDENTIFICATION DATA ELEMENTS */
DATA_SET_ID = "MEX-M-HRSC-4-REFDR-MAPPROJECT-EXT4-V4.0"
DATA_SET_NAME = "MARS EXPRESS HRSC MAP PROJECTED REFDR EXTENSION4 V4.0"
DETECTOR_ID = MEX_HRSC_P1
EVENT_TYPE = "MARS-REGIONAL-MAPPING-Te-Pf-Mw"
INSTRUMENT_HOST_ID = MEX
INSTRUMENT_HOST_NAME = "MARS EXPRESS"
INSTRUMENT_ID = HRSC
INSTRUMENT_NAME = "HIGH RESOLUTION STEREO CAMERA"
MISSION_NAME = "MARS EXPRESS"
MISSION_PHASE_NAME = ME_Phase_31
PROCESSING_LEVEL_ID = 4
PRODUCT_CREATION_TIME = 2023-02-01T02:09:17.000Z
PRODUCT_ID = "HD776_0000_P14.TIF"
RELEASE_ID = 0005
REVISION_ID = 0000
/* QUALITY DATA ELEMENTS */
DATA_QUALITY_ID = 1
DATA_QUALITY_DESC = "Data calculated based on original SPICE kernels"
/* TIME DATA ELEMENTS */
SPACECRAFT_CLOCK_START_COUNT = "1/0363509297.07357"
SPACECRAFT_CLOCK_STOP_COUNT = "1/0363509531.55835"
START_TIME = 2014-11-08T06:48:34.872Z
STOP_TIME = 2014-11-08T06:51:06.845Z
/* ORBITAL DATA ELEMENTS */
ASCENDING_NODE_LONGITUDE = 315.07
MAXIMUM_RESOLUTION = 0.0317
FOOTPRINT_POINT_LATITUDE = (49.2493,49.2343,49.2235,49.2122,49.2, 49.1779,49.177,49.1128,48.9185,48.6273, 48.4332,48.2391,48.0451,47.8508,47.5594 ,47.3653,47.074,46.7827,46.5885,46.3943 ,46.2002,46.006,45.7146,45.4235,45.2294 ,45.0353,44.7443,44.5501,44.3559, 44.1619,43.9678,43.7737,43.483,43.192, 42.998,42.7071,42.3194,42.0289,41.8351, 41.4479,41.0571,40.858,40.561,40.3569, 40.1594,39.9656,39.7666,39.4685,39.3679 ,39.3413,39.358,39.3676,39.3749,39.3894 ,39.3897,39.3903,39.6907,39.8895, 40.1878,40.4866,40.6856,40.984,41.2823, 41.4765,41.6706,41.8646,42.0588,42.2531 ,42.5445,42.739,42.9333,43.1277,43.3222 ,43.6141,43.8084,44.0029,44.1975,44.392 ,44.5866,44.8785,45.0732,45.2679, 45.4627,45.7548,45.9498,46.1444,46.3391 ,46.6314,46.9235,47.1183,47.3132,47.508 ,47.7028,47.995,48.1896,48.4818,48.774, 49.0662,49.1636,49.2493)
FOOTPRINT_POINT_LONGITUDE = (122.053,121.536,121.21,120.902,120.594 ,120.091,120.072,120.014,120.03,120.055 ,120.07,120.086,120.101,120.116,120.138 ,120.153,120.174,120.194,120.207,120.22 ,120.233,120.246,120.264,120.282, 120.294,120.306,120.323,120.333,120.344 ,120.355,120.365,120.375,120.39,120.404 ,120.413,120.427,120.444,120.456, 120.464,120.48,120.495,120.502,120.514, 120.517,120.524,120.534,120.54,120.549, 120.552,120.553,121.061,121.398,121.697 ,122.462,122.481,122.488,122.479, 122.473,122.463,122.454,122.447,122.438 ,122.428,122.422,122.415,122.408, 122.402,122.395,122.384,122.377,122.37, 122.363,122.355,122.344,122.337,122.329 ,122.321,122.314,122.306,122.294, 122.286,122.277,122.269,122.256,122.247 ,122.239,122.23,122.216,122.203,122.193 ,122.184,122.174,122.165,122.15,122.14, 122.125,122.109,122.094,122.088, 122.053)
ORBIT_NUMBER = 13776
ORBITAL_ECCENTRICITY = 0.572
ORBITAL_INCLINATION = 86.91
ORBITAL_SEMIMAJOR_AXIS = 8792.58
PERIAPSIS_ALTITUDE = 378.26
PERIAPSIS_ARGUMENT_ANGLE = 123.63
PERIAPSIS_TIME = 2014-11-08T06:47:07.000Z
SPACECRAFT_ORIENTATION = (0.0,-1.0,0.0)
^MEX_ORIENTATION_DESC = "MEX_ORIENTATION_DESC.TXT"
SPACECRAFT_POINTING_MODE = ACROSSTRACK
^MEX_POINTING_DESC = "MEX_POINTING_DESC.TXT"
RIGHT_ASCENSION = -1e+32
DECLINATION = -1e+32
OFFSET_ANGLE = -0.2
SPACECRAFT_SOLAR_DISTANCE = 2.07869e+08
TARGET_NAME = MARS
/* CAMERA DATA ELEMENTS */
DETECTOR_TEMPERATURE = 17.351
FOCAL_PLANE_TEMPERATURE = 9.3989
INST_CMPRS_NAME = "DISCRETE COSINE TRANSFORMATION (DCT)"
INST_CMPRS_RATIO = 11.4372
INST_CMPRS_QUALITY = 0
INST_CMPRS_QUANTZ_TBL_ID = 0
INSTRUMENT_TEMPERATURE = 11.8457
LENS_TEMPERATURE = 9.8067
MACROPIXEL_SIZE = 2
MISSING_FRAMES = 0
PIXEL_SUBSAMPLING_FLAG = N
SIGNAL_CHAIN_ID = 3
/* RADIOMETRIC DATA ELEMENTS */
BANDWIDTH = 174.0
CENTER_FILTER_WAVELENGTH = 675.0
RADIANCE_OFFSET = 3.03172
RADIANCE_SCALING_FACTOR = 0.0122467
REFLECTANCE_SCALING_FACTOR = 0.000284631
MEX:REFLECTANCE_OFFSET = 0.0704618
/* IMAGE OBJECT DEFINITIONS */
OBJECT = IMAGE
  INTERCHANGE_FORMAT = BINARY
  LINES = 23318
  LINE_SAMPLES = 4317
  SAMPLE_TYPE = UNSIGNED_INTEGER
  SAMPLE_BITS = 8
  BANDS = 1
  BAND_STORAGE_TYPE = BAND_SEQUENTIAL
  MAXIMUM = 255
  MEAN = 138.405
  MINIMUM = 1
  STANDARD_DEVIATION = 72.4139
END_OBJECT = IMAGE
/* MAP OBJECT DEFINITIONS */
OBJECT = IMAGE_MAP_PROJECTION
  ^DATA_SET_MAP_PROJECTION_CATALOG= "DSMAP.CAT"
  A_AXIS_RADIUS = 3396.0
  B_AXIS_RADIUS = 3396.0
  C_AXIS_RADIUS = 3396.0
  CENTER_LATITUDE = 0.0
  CENTER_LONGITUDE = 121.0
  COORDINATE_SYSTEM_NAME = PLANETOGRAPHIC
  COORDINATE_SYSTEM_TYPE = "BODY-FIXED ROTATING"
  EASTERNMOST_LONGITUDE = 122.488
  FIRST_STANDARD_PARALLEL = "N/A"
  LINE_FIRST_PIXEL = 1
  LINE_LAST_PIXEL = 23318
  LINE_PROJECTION_OFFSET = 116636.25
  MAP_PROJECTION_ROTATION = 0.0
  MAP_PROJECTION_TYPE = SINUSOIDAL
  MAP_RESOLUTION = 2370.85521546667
  MAP_SCALE = 0.025
  MAXIMUM_LATITUDE = 49.2493
  MINIMUM_LATITUDE = 39.3413
  POSITIVE_LONGITUDE_DIRECTION = EAST
  REFERENCE_LATITUDE = "N/A"
  REFERENCE_LONGITUDE = "N/A"
  SAMPLE_FIRST_PIXEL = 1
  SAMPLE_LAST_PIXEL = 4317
  SAMPLE_PROJECTION_OFFSET = 1552.25
  SECOND_STANDARD_PARALLEL = "N/A"
  WESTERNMOST_LONGITUDE = 120.014
END_OBJECT = IMAGE_MAP_PROJECTION
END
