PDS_VERSION_ID = PDS3
/* FILE DATA ELEMENTS */
RECORD_TYPE = UNDEFINED
/* POINTERS TO DATA OBJECTS */
^IMAGE = ("HD776_0000_IR4.TIF")
/* IDENTIFICATION DATA ELEMENTS */
DATA_SET_ID = "MEX-M-HRSC-4-REFDR-MAPPROJECT-EXT4-V4.0"
DATA_SET_NAME = "MARS EXPRESS HRSC MAP PROJECTED REFDR EXTENSION4 V4.0"
DETECTOR_ID = MEX_HRSC_IR
EVENT_TYPE = "MARS-REGIONAL-MAPPING-Te-Pf-Mw"
INSTRUMENT_HOST_ID = MEX
INSTRUMENT_HOST_NAME = "MARS EXPRESS"
INSTRUMENT_ID = HRSC
INSTRUMENT_NAME = "HIGH RESOLUTION STEREO CAMERA"
MISSION_NAME = "MARS EXPRESS"
MISSION_PHASE_NAME = ME_Phase_31
PROCESSING_LEVEL_ID = 4
PRODUCT_CREATION_TIME = 2023-02-01T02:09:17.000Z
PRODUCT_ID = "HD776_0000_IR4.TIF"
RELEASE_ID = 0005
REVISION_ID = 0000
/* QUALITY DATA ELEMENTS */
DATA_QUALITY_ID = 1
DATA_QUALITY_DESC = "Data calculated based on original SPICE kernels"
/* TIME DATA ELEMENTS */
SPACECRAFT_CLOCK_START_COUNT = "1/0363509297.07357"
SPACECRAFT_CLOCK_STOP_COUNT = "1/0363509531.55835"
START_TIME = 2014-11-08T06:48:28.869Z
STOP_TIME = 2014-11-08T06:51:00.376Z
/* ORBITAL DATA ELEMENTS */
ASCENDING_NODE_LONGITUDE = 315.07
MAXIMUM_RESOLUTION = 0.0644
FOOTPRINT_POINT_LATITUDE = (49.2681,49.2548,49.2339,49.2092, 49.1935,49.1926,49.1112,48.7241,48.5305 ,48.1437,47.9501,47.7564,47.5626,47.369 ,47.1754,46.885,46.5941,46.3036,46.0128 ,45.7221,45.5283,45.3345,45.044,44.8502 ,44.6564,44.4625,44.1716,43.8808,43.687 ,43.3963,43.2026,43.0086,42.7179,42.524 ,42.1366,41.9427,41.652,41.3617,40.9749 ,40.7804,40.5829,40.3804,40.181,39.8874 ,39.6884,39.4891,39.3898,39.3293, 39.3397,39.3544,39.3629,39.3697,39.3756 ,39.3807,39.381,39.3821,39.6807,39.8797 ,40.0789,40.3775,40.6766,40.8753, 41.2628,41.4571,41.7483,42.0396,42.2337 ,42.4281,42.6224,42.8168,43.1082, 43.3026,43.4972,43.6915,43.8857,44.177, 44.3714,44.5658,44.8573,45.0517,45.2461 ,45.4405,45.6348,45.9269,46.2183, 46.4126,46.607,46.8985,47.0929,47.3844, 47.5787,47.773,47.9671,48.1614,48.3554, 48.5495,48.7438,49.035,49.132,49.2681)
FOOTPRINT_POINT_LONGITUDE = (122.051,121.611,121.021,120.429, 120.095,120.076,120.021,120.054,120.07, 120.101,120.116,120.131,120.146,120.16, 120.174,120.195,120.215,120.235,120.254 ,120.272,120.284,120.296,120.314, 120.325,120.336,120.347,120.363,120.378 ,120.388,120.403,120.412,120.422, 120.435,120.444,120.461,120.469,120.481 ,120.493,120.508,120.515,120.523, 120.528,120.534,120.547,120.553,120.559 ,120.562,120.564,120.85,121.299,121.603 ,121.889,122.175,122.46,122.478,122.483 ,122.475,122.469,122.463,122.453, 122.444,122.437,122.425,122.419,122.409 ,122.399,122.392,122.385,122.378, 122.371,122.36,122.353,122.346,122.338, 122.331,122.32,122.312,122.304,122.292, 122.284,122.276,122.268,122.259,122.246 ,122.233,122.225,122.216,122.202, 122.193,122.179,122.169,122.16,122.15, 122.14,122.13,122.12,122.11,122.094, 122.089,122.051)
ORBIT_NUMBER = 13776
ORBITAL_ECCENTRICITY = 0.572
ORBITAL_INCLINATION = 86.91
ORBITAL_SEMIMAJOR_AXIS = 8792.58
PERIAPSIS_ALTITUDE = 378.26
PERIAPSIS_ARGUMENT_ANGLE = 123.63
PERIAPSIS_TIME = 2014-11-08T06:47:07.000Z
SPACECRAFT_ORIENTATION = (0.0,-1.0,0.0)
^MEX_ORIENTATION_DESC = "MEX_ORIENTATION_DESC.TXT"
SPACECRAFT_POINTING_MODE = ACROSSTRACK
^MEX_POINTING_DESC = "MEX_POINTING_DESC.TXT"
RIGHT_ASCENSION = -1e+32
DECLINATION = -1e+32
OFFSET_ANGLE = -0.2
SPACECRAFT_SOLAR_DISTANCE = 2.07869e+08
TARGET_NAME = MARS
/* CAMERA DATA ELEMENTS */
DETECTOR_TEMPERATURE = 17.351
FOCAL_PLANE_TEMPERATURE = 9.3989
INST_CMPRS_NAME = "DISCRETE COSINE TRANSFORMATION (DCT)"
INST_CMPRS_RATIO = 6.82469
INST_CMPRS_QUALITY = 0
INST_CMPRS_QUANTZ_TBL_ID = 0
INSTRUMENT_TEMPERATURE = 11.8457
LENS_TEMPERATURE = 9.8067
MACROPIXEL_SIZE = 4
MISSING_FRAMES = 0
PIXEL_SUBSAMPLING_FLAG = N
SIGNAL_CHAIN_ID = 2
/* RADIOMETRIC DATA ELEMENTS */
BANDWIDTH = 81.0
CENTER_FILTER_WAVELENGTH = 955.5
RADIANCE_OFFSET = 0.631006
RADIANCE_SCALING_FACTOR = 0.00413359
REFLECTANCE_SCALING_FACTOR = 0.000385331
MEX:REFLECTANCE_OFFSET = 0.0588219
/* IMAGE OBJECT DEFINITIONS */
OBJECT = IMAGE
  INTERCHANGE_FORMAT = BINARY
  LINES = 11659
  LINE_SAMPLES = 2159
  SAMPLE_TYPE = UNSIGNED_INTEGER
  SAMPLE_BITS = 8
  BANDS = 1
  BAND_STORAGE_TYPE = BAND_SEQUENTIAL
  MAXIMUM = 255
  MEAN = 124.684
  MINIMUM = 1
  STANDARD_DEVIATION = 63.5352
END_OBJECT = IMAGE
/* MAP OBJECT DEFINITIONS */
OBJECT = IMAGE_MAP_PROJECTION
  ^DATA_SET_MAP_PROJECTION_CATALOG= "DSMAP.CAT"
  A_AXIS_RADIUS = 3396.0
  B_AXIS_RADIUS = 3396.0
  C_AXIS_RADIUS = 3396.0
  CENTER_LATITUDE = 0.0
  CENTER_LONGITUDE = 121.0
  COORDINATE_SYSTEM_NAME = PLANETOGRAPHIC
  COORDINATE_SYSTEM_TYPE = "BODY-FIXED ROTATING"
  EASTERNMOST_LONGITUDE = 122.483
  FIRST_STANDARD_PARALLEL = "N/A"
  LINE_FIRST_PIXEL = 1
  LINE_LAST_PIXEL = 11659
  LINE_PROJECTION_OFFSET = 58317.875
  MAP_PROJECTION_ROTATION = 0.0
  MAP_PROJECTION_TYPE = SINUSOIDAL
  MAP_RESOLUTION = 1185.42760773333
  MAP_SCALE = 0.05
  MAXIMUM_LATITUDE = 49.2681
  MINIMUM_LATITUDE = 39.3293
  POSITIVE_LONGITUDE_DIRECTION = EAST
  REFERENCE_LATITUDE = "N/A"
  REFERENCE_LONGITUDE = "N/A"
  SAMPLE_FIRST_PIXEL = 1
  SAMPLE_LAST_PIXEL = 2159
  SAMPLE_PROJECTION_OFFSET = 775.875
  SECOND_STANDARD_PARALLEL = "N/A"
  WESTERNMOST_LONGITUDE = 120.021
END_OBJECT = IMAGE_MAP_PROJECTION
END
