PDS_VERSION_ID = PDS3
/* FILE DATA ELEMENTS */
RECORD_TYPE = UNDEFINED
/* POINTERS TO DATA OBJECTS */
^IMAGE = ("HD776_0000_GR4.TIF")
/* IDENTIFICATION DATA ELEMENTS */
DATA_SET_ID = "MEX-M-HRSC-4-REFDR-MAPPROJECT-EXT4-V4.0"
DATA_SET_NAME = "MARS EXPRESS HRSC MAP PROJECTED REFDR EXTENSION4 V4.0"
DETECTOR_ID = MEX_HRSC_GREEN
EVENT_TYPE = "MARS-REGIONAL-MAPPING-Te-Pf-Mw"
INSTRUMENT_HOST_ID = MEX
INSTRUMENT_HOST_NAME = "MARS EXPRESS"
INSTRUMENT_ID = HRSC
INSTRUMENT_NAME = "HIGH RESOLUTION STEREO CAMERA"
MISSION_NAME = "MARS EXPRESS"
MISSION_PHASE_NAME = ME_Phase_31
PROCESSING_LEVEL_ID = 4
PRODUCT_CREATION_TIME = 2023-02-01T02:09:17.000Z
PRODUCT_ID = "HD776_0000_GR4.TIF"
RELEASE_ID = 0005
REVISION_ID = 0000
/* QUALITY DATA ELEMENTS */
DATA_QUALITY_ID = 1
DATA_QUALITY_DESC = "Data calculated based on original SPICE kernels"
/* TIME DATA ELEMENTS */
SPACECRAFT_CLOCK_START_COUNT = "1/0363509297.07357"
SPACECRAFT_CLOCK_STOP_COUNT = "1/0363509531.55835"
START_TIME = 2014-11-08T06:48:51.855Z
STOP_TIME = 2014-11-08T06:51:26.069Z
/* ORBITAL DATA ELEMENTS */
ASCENDING_NODE_LONGITUDE = 315.07
MAXIMUM_RESOLUTION = 0.0623
FOOTPRINT_POINT_LATITUDE = (49.2092,49.1982,49.1879,49.1789,49.169 ,49.1489,49.1482,49.1306,48.8399, 48.6462,48.4525,48.2589,48.0654,47.775, 47.5816,47.3882,47.1948,47.0014,46.8082 ,46.5184,46.3252,46.1322,45.9391, 45.7462,45.3605,44.975,44.5899,44.2049, 43.8203,43.4361,43.2361,42.8523,42.4688 ,42.2739,42.0773,41.8807,41.6842, 41.4879,41.2916,41.0955,40.8995,40.7035 ,40.4025,40.2018,40.0023,39.8017, 39.5009,39.4007,39.3528,39.364,39.3745, 39.3814,39.3855,39.389,39.3892,39.3903, 39.591,39.792,39.993,40.1942,40.3955, 40.5969,40.7956,40.992,41.1886,41.3853, 41.5821,41.779,41.976,42.1731,42.4683, 42.8526,43.3417,43.727,44.1124,44.4983, 44.8844,45.0776,45.2709,45.4642,45.6576 ,45.8512,46.0447,46.2383,46.432,46.6257 ,46.8195,47.0134,47.2073,47.4012, 47.5953,47.7893,47.9834,48.1776,48.3718 ,48.566,48.7603,49.0519,49.1491, 49.2092)
FOOTPRINT_POINT_LONGITUDE = (122.059,121.597,121.227,120.93,120.633 ,120.093,120.074,120.014,120.038, 120.054,120.069,120.084,120.1,120.121, 120.136,120.15,120.164,120.177,120.191, 120.21,120.223,120.235,120.248,120.26, 120.283,120.305,120.327,120.348,120.367 ,120.387,120.396,120.414,120.431, 120.439,120.447,120.455,120.463,120.471 ,120.478,120.485,120.493,120.499, 120.507,120.513,120.523,120.53,120.538, 120.541,120.542,120.982,121.476,121.877 ,122.168,122.477,122.496,122.502, 122.495,122.489,122.483,122.476,122.47, 122.463,122.456,122.45,122.443,122.436, 122.43,122.423,122.416,122.409,122.398, 122.383,122.364,122.349,122.334,122.318 ,122.302,122.293,122.285,122.276, 122.268,122.259,122.25,122.241,122.232, 122.223,122.214,122.204,122.195,122.185 ,122.175,122.165,122.155,122.145, 122.135,122.124,122.114,122.098,122.092 ,122.059)
ORBIT_NUMBER = 13776
ORBITAL_ECCENTRICITY = 0.572
ORBITAL_INCLINATION = 86.91
ORBITAL_SEMIMAJOR_AXIS = 8792.58
PERIAPSIS_ALTITUDE = 378.26
PERIAPSIS_ARGUMENT_ANGLE = 123.63
PERIAPSIS_TIME = 2014-11-08T06:47:07.000Z
SPACECRAFT_ORIENTATION = (0.0,-1.0,0.0)
^MEX_ORIENTATION_DESC = "MEX_ORIENTATION_DESC.TXT"
SPACECRAFT_POINTING_MODE = ACROSSTRACK
^MEX_POINTING_DESC = "MEX_POINTING_DESC.TXT"
RIGHT_ASCENSION = -1e+32
DECLINATION = -1e+32
OFFSET_ANGLE = -0.2
SPACECRAFT_SOLAR_DISTANCE = 2.07869e+08
TARGET_NAME = MARS
/* CAMERA DATA ELEMENTS */
DETECTOR_TEMPERATURE = 18.5744
FOCAL_PLANE_TEMPERATURE = 9.3989
INST_CMPRS_NAME = "DISCRETE COSINE TRANSFORMATION (DCT)"
INST_CMPRS_RATIO = 13.3328
INST_CMPRS_QUALITY = 0
INST_CMPRS_QUANTZ_TBL_ID = 0
INSTRUMENT_TEMPERATURE = 11.8457
LENS_TEMPERATURE = 9.8067
MACROPIXEL_SIZE = 4
MISSING_FRAMES = 1
PIXEL_SUBSAMPLING_FLAG = N
SIGNAL_CHAIN_ID = 2
/* RADIOMETRIC DATA ELEMENTS */
BANDWIDTH = 88.0
CENTER_FILTER_WAVELENGTH = 538.0
RADIANCE_OFFSET = 1.27917
RADIANCE_SCALING_FACTOR = 0.00322707
REFLECTANCE_SCALING_FACTOR = 0.000120054
MEX:REFLECTANCE_OFFSET = 0.0475876
/* IMAGE OBJECT DEFINITIONS */
OBJECT = IMAGE
  INTERCHANGE_FORMAT = BINARY
  LINES = 11659
  LINE_SAMPLES = 2159
  SAMPLE_TYPE = UNSIGNED_INTEGER
  SAMPLE_BITS = 8
  BANDS = 1
  BAND_STORAGE_TYPE = BAND_SEQUENTIAL
  MAXIMUM = 255
  MEAN = 149.558
  MINIMUM = 1
  STANDARD_DEVIATION = 60.8983
END_OBJECT = IMAGE
/* MAP OBJECT DEFINITIONS */
OBJECT = IMAGE_MAP_PROJECTION
  ^DATA_SET_MAP_PROJECTION_CATALOG= "DSMAP.CAT"
  A_AXIS_RADIUS = 3396.0
  B_AXIS_RADIUS = 3396.0
  C_AXIS_RADIUS = 3396.0
  CENTER_LATITUDE = 0.0
  CENTER_LONGITUDE = 121.0
  COORDINATE_SYSTEM_NAME = PLANETOGRAPHIC
  COORDINATE_SYSTEM_TYPE = "BODY-FIXED ROTATING"
  EASTERNMOST_LONGITUDE = 122.502
  FIRST_STANDARD_PARALLEL = "N/A"
  LINE_FIRST_PIXEL = 1
  LINE_LAST_PIXEL = 11659
  LINE_PROJECTION_OFFSET = 58317.875
  MAP_PROJECTION_ROTATION = 0.0
  MAP_PROJECTION_TYPE = SINUSOIDAL
  MAP_RESOLUTION = 1185.42760773333
  MAP_SCALE = 0.05
  MAXIMUM_LATITUDE = 49.2092
  MINIMUM_LATITUDE = 39.3528
  POSITIVE_LONGITUDE_DIRECTION = EAST
  REFERENCE_LATITUDE = "N/A"
  REFERENCE_LONGITUDE = "N/A"
  SAMPLE_FIRST_PIXEL = 1
  SAMPLE_LAST_PIXEL = 2159
  SAMPLE_PROJECTION_OFFSET = 775.875
  SECOND_STANDARD_PARALLEL = "N/A"
  WESTERNMOST_LONGITUDE = 120.014
END_OBJECT = IMAGE_MAP_PROJECTION
END
