PDS_VERSION_ID = PDS3
/* FILE DATA ELEMENTS */
RECORD_TYPE = UNDEFINED
/* POINTERS TO DATA OBJECTS */
^IMAGE = ("HD774_0000_S14.TIF")
/* IDENTIFICATION DATA ELEMENTS */
DATA_SET_ID = "MEX-M-HRSC-4-REFDR-MAPPROJECT-EXT4-V4.0"
DATA_SET_NAME = "MARS EXPRESS HRSC MAP PROJECTED REFDR EXTENSION4 V4.0"
DETECTOR_ID = MEX_HRSC_S1
EVENT_TYPE = "MARS-REGIONAL-MAPPING-Fl-Pf-Mw"
INSTRUMENT_HOST_ID = MEX
INSTRUMENT_HOST_NAME = "MARS EXPRESS"
INSTRUMENT_ID = HRSC
INSTRUMENT_NAME = "HIGH RESOLUTION STEREO CAMERA"
MISSION_NAME = "MARS EXPRESS"
MISSION_PHASE_NAME = ME_Phase_31
PROCESSING_LEVEL_ID = 4
PRODUCT_CREATION_TIME = 2023-02-01T02:09:17.000Z
PRODUCT_ID = "HD774_0000_S14.TIF"
RELEASE_ID = 0005
REVISION_ID = 0000
/* QUALITY DATA ELEMENTS */
DATA_QUALITY_ID = 1
DATA_QUALITY_DESC = "Data calculated based on original SPICE kernels"
/* TIME DATA ELEMENTS */
SPACECRAFT_CLOCK_START_COUNT = "1/0363459182.09063"
SPACECRAFT_CLOCK_STOP_COUNT = "1/0363459550.50469"
START_TIME = 2014-11-07T16:53:08.060Z
STOP_TIME = 2014-11-07T16:56:53.639Z
/* ORBITAL DATA ELEMENTS */
ASCENDING_NODE_LONGITUDE = 315.11
MAXIMUM_RESOLUTION = 0.0385
FOOTPRINT_POINT_LATITUDE = (34.2431,34.2746,34.2958,34.3125, 34.3129,34.2459,33.7275,33.2099,32.6827 ,32.0213,31.6181,31.348,31.0783,30.8087 ,30.5325,30.2568,29.8435,29.4244, 29.1438,28.7229,28.4368,28.0068,27.7202 ,27.4289,27.1374,26.8473,26.4023, 26.1057,25.6566,25.3552,25.0537,24.7528 ,24.3012,24.0017,23.7,23.2428,22.9439, 22.5032,22.2032,21.9048,21.6083,21.3089 ,20.8629,20.5655,20.1215,19.9733, 19.9429,19.9302,19.9098,19.8864,19.8568 ,19.839,19.8376,19.8377,20.1348,20.4336 ,20.8786,21.1762,21.4741,21.7726, 22.0714,22.3702,22.6728,22.9715,23.2708 ,23.5715,23.8728,24.1759,24.6296,25.084 ,25.5347,25.837,26.1346,26.4345,26.7302 ,27.0217,27.3138,27.7503,28.0363, 28.4663,28.7505,29.0317,29.3139,29.7344 ,30.01,30.2867,30.5632,30.8371,31.1075, 31.3781,31.6489,31.9179,32.1824,32.4475 ,32.7128,33.1105,33.6297,34.0174, 34.1472,34.2431)
FOOTPRINT_POINT_LONGITUDE = (328.477,327.76,327.169,326.587,326.569 ,326.569,326.565,326.561,326.556, 326.548,326.544,326.54,326.536,326.532, 326.528,326.524,326.517,326.51,326.505, 326.497,326.492,326.483,326.477,326.471 ,326.465,326.458,326.448,326.44,326.429 ,326.422,326.414,326.406,326.393, 326.385,326.376,326.363,326.354,326.34, 326.331,326.321,326.311,326.302,326.286 ,326.276,326.261,326.255,326.254, 326.599,327.101,327.629,328.185,328.5, 328.523,328.531,328.531,328.53,328.532, 328.532,328.533,328.533,328.533,328.534 ,328.533,328.534,328.534,328.535, 328.535,328.534,328.533,328.533,328.535 ,328.535,328.535,328.534,328.535, 328.535,328.535,328.536,328.536,328.536 ,328.536,328.536,328.536,328.536, 328.536,328.535,328.535,328.535,328.535 ,328.535,328.534,328.534,328.534, 328.534,328.534,328.532,328.531,328.532 ,328.532,328.477)
ORBIT_NUMBER = 13774
ORBITAL_ECCENTRICITY = 0.572
ORBITAL_INCLINATION = 86.92
ORBITAL_SEMIMAJOR_AXIS = 8786.44
PERIAPSIS_ALTITUDE = 378.24
PERIAPSIS_ARGUMENT_ANGLE = 123.98
PERIAPSIS_TIME = 2014-11-07T16:48:07.000Z
SPACECRAFT_ORIENTATION = (0.0,-1.0,0.0)
^MEX_ORIENTATION_DESC = "MEX_ORIENTATION_DESC.TXT"
SPACECRAFT_POINTING_MODE = ACROSSTRACK
^MEX_POINTING_DESC = "MEX_POINTING_DESC.TXT"
RIGHT_ASCENSION = -1e+32
DECLINATION = -1e+32
OFFSET_ANGLE = 0.9
SPACECRAFT_SOLAR_DISTANCE = 2.07911e+08
TARGET_NAME = MARS
/* CAMERA DATA ELEMENTS */
DETECTOR_TEMPERATURE = 17.351
FOCAL_PLANE_TEMPERATURE = 8.7872
INST_CMPRS_NAME = "DISCRETE COSINE TRANSFORMATION (DCT)"
INST_CMPRS_RATIO = 8.6759
INST_CMPRS_QUALITY = 0
INST_CMPRS_QUANTZ_TBL_ID = 0
INSTRUMENT_TEMPERATURE = 10.4184
LENS_TEMPERATURE = 9.195
MACROPIXEL_SIZE = 2
MISSING_FRAMES = 0
PIXEL_SUBSAMPLING_FLAG = N
SIGNAL_CHAIN_ID = 1
/* RADIOMETRIC DATA ELEMENTS */
BANDWIDTH = 180.0
CENTER_FILTER_WAVELENGTH = 677.0
RADIANCE_OFFSET = 5.21179
RADIANCE_SCALING_FACTOR = 0.0118413
REFLECTANCE_SCALING_FACTOR = 0.000267051
MEX:REFLECTANCE_OFFSET = 0.117539
/* IMAGE OBJECT DEFINITIONS */
OBJECT = IMAGE
  INTERCHANGE_FORMAT = BINARY
  LINES = 17005
  LINE_SAMPLES = 2744
  SAMPLE_TYPE = UNSIGNED_INTEGER
  SAMPLE_BITS = 8
  BANDS = 1
  BAND_STORAGE_TYPE = BAND_SEQUENTIAL
  MAXIMUM = 255
  MEAN = 118.437
  MINIMUM = 1
  STANDARD_DEVIATION = 50.5759
END_OBJECT = IMAGE
/* MAP OBJECT DEFINITIONS */
OBJECT = IMAGE_MAP_PROJECTION
  ^DATA_SET_MAP_PROJECTION_CATALOG= "DSMAP.CAT"
  A_AXIS_RADIUS = 3396.0
  B_AXIS_RADIUS = 3396.0
  C_AXIS_RADIUS = 3396.0
  CENTER_LATITUDE = 0.0
  CENTER_LONGITUDE = 327.0
  COORDINATE_SYSTEM_NAME = PLANETOGRAPHIC
  COORDINATE_SYSTEM_TYPE = "BODY-FIXED ROTATING"
  EASTERNMOST_LONGITUDE = 328.536
  FIRST_STANDARD_PARALLEL = "N/A"
  LINE_FIRST_PIXEL = 1
  LINE_LAST_PIXEL = 17005
  LINE_PROJECTION_OFFSET = 40600.75
  MAP_PROJECTION_ROTATION = 0.0
  MAP_PROJECTION_TYPE = SINUSOIDAL
  MAP_RESOLUTION = 1185.42760773333
  MAP_SCALE = 0.05
  MAXIMUM_LATITUDE = 34.3129
  MINIMUM_LATITUDE = 19.8376
  POSITIVE_LONGITUDE_DIRECTION = EAST
  REFERENCE_LATITUDE = "N/A"
  REFERENCE_LONGITUDE = "N/A"
  SAMPLE_FIRST_PIXEL = 1
  SAMPLE_LAST_PIXEL = 2744
  SAMPLE_PROJECTION_OFFSET = 956.25
  SECOND_STANDARD_PARALLEL = "N/A"
  WESTERNMOST_LONGITUDE = 326.254
END_OBJECT = IMAGE_MAP_PROJECTION
END
