PDS_VERSION_ID = PDS3
/* FILE DATA ELEMENTS */
RECORD_TYPE = UNDEFINED
/* POINTERS TO DATA OBJECTS */
^IMAGE = ("HD760_0000_IR4.TIF")
/* IDENTIFICATION DATA ELEMENTS */
DATA_SET_ID = "MEX-M-HRSC-4-REFDR-MAPPROJECT-EXT4-V4.0"
DATA_SET_NAME = "MARS EXPRESS HRSC MAP PROJECTED REFDR EXTENSION4 V4.0"
DETECTOR_ID = MEX_HRSC_IR
EVENT_TYPE = "MARS-REGIONAL-MAPPING-Fl-Pf-At"
INSTRUMENT_HOST_ID = MEX
INSTRUMENT_HOST_NAME = "MARS EXPRESS"
INSTRUMENT_ID = HRSC
INSTRUMENT_NAME = "HIGH RESOLUTION STEREO CAMERA"
MISSION_NAME = "MARS EXPRESS"
MISSION_PHASE_NAME = ME_Phase_31
PROCESSING_LEVEL_ID = 4
PRODUCT_CREATION_TIME = 2023-02-01T02:09:17.000Z
PRODUCT_ID = "HD760_0000_IR4.TIF"
RELEASE_ID = 0005
REVISION_ID = 0000
/* QUALITY DATA ELEMENTS */
DATA_QUALITY_ID = 1
DATA_QUALITY_DESC = "Data calculated based on original SPICE kernels"
/* TIME DATA ELEMENTS */
SPACECRAFT_CLOCK_START_COUNT = "1/0363106593.07316"
SPACECRAFT_CLOCK_STOP_COUNT = "1/0363106822.57104"
START_TIME = 2014-11-03T14:56:44.585Z
STOP_TIME = 2014-11-03T14:59:11.167Z
/* ORBITAL DATA ELEMENTS */
ASCENDING_NODE_LONGITUDE = 315.37
MAXIMUM_RESOLUTION = 0.1289 <m/pixel>
FOOTPRINT_POINT_LATITUDE = (45.8461,45.8387,45.8318,45.825,45.8115 ,45.8011,45.8005,45.7244,45.4431, 45.2551,44.8799,44.5043,44.1288,43.7532 ,43.4717,43.2838,43.0958,42.7203, 42.5323,42.3444,42.1565,41.8746,41.5929 ,41.311,41.0293,40.7472,40.5593,40.2775 ,40.0895,39.8076,39.3382,39.0566, 38.8686,38.4933,37.9307,37.7428,37.55, 37.3574,37.165,36.9722,36.7797,36.5872, 36.395,36.2988,36.2527,36.2627,36.2684, 36.2719,36.2757,36.2772,36.2773,36.2794 ,36.472,36.6647,36.8576,37.0504,37.2435 ,37.4364,37.6294,37.9156,38.1036, 38.2917,38.4799,38.668,38.8562,39.1383, 39.3266,39.5148,39.703,39.8912,40.0799, 40.2682,40.4562,40.6445,40.8329,41.1154 ,41.3038,41.4921,41.6805,41.8689,42.057 ,42.3395,42.5279,42.7164,42.9045, 43.0929,43.2813,43.4697,43.6579,43.8461 ,44.0343,44.2229,44.4112,44.6936, 44.9759,45.1642,45.3524,45.6349,45.729, 45.8461)
FOOTPRINT_POINT_LONGITUDE = (318.509,318.075,317.745,317.467, 316.999,316.686,316.669,316.628,316.644 ,316.655,316.676,316.696,316.715, 316.734,316.747,316.756,316.764,316.781 ,316.789,316.797,316.805,316.816, 316.827,316.837,316.848,316.857,316.864 ,316.873,316.879,316.887,316.901, 316.909,316.914,316.924,316.937,316.941 ,316.945,316.949,316.953,316.957, 316.961,316.964,316.968,316.969,316.97, 317.448,317.792,318.067,318.462,318.771 ,318.789,318.8,318.796,318.793,318.789, 318.785,318.781,318.777,318.773,318.767 ,318.763,318.759,318.755,318.751, 318.747,318.74,318.736,318.731,318.727, 318.723,318.718,318.713,318.709,318.704 ,318.699,318.692,318.687,318.682, 318.677,318.672,318.667,318.659,318.654 ,318.648,318.643,318.637,318.632, 318.626,318.62,318.615,318.609,318.603, 318.597,318.587,318.578,318.572,318.565 ,318.555,318.552,318.509)
ORBIT_NUMBER = 13760
ORBITAL_ECCENTRICITY = 0.572
ORBITAL_INCLINATION = 86.92
ORBITAL_SEMIMAJOR_AXIS = 8790.23
PERIAPSIS_ALTITUDE = 377.11
PERIAPSIS_ARGUMENT_ANGLE = 126.41
PERIAPSIS_TIME = 2014-11-03T14:55:13.000Z
SPACECRAFT_ORIENTATION = (0.0,-1.0,0.0)
^MEX_ORIENTATION_DESC = "MEX_ORIENTATION_DESC.TXT"
SPACECRAFT_POINTING_MODE = NADIR
^MEX_POINTING_DESC = "MEX_POINTING_DESC.TXT"
RIGHT_ASCENSION = -1e+32
DECLINATION = -1e+32
OFFSET_ANGLE = -1e+32
SPACECRAFT_SOLAR_DISTANCE = 2.08226e+08
TARGET_NAME = MARS
/* CAMERA DATA ELEMENTS */
DETECTOR_TEMPERATURE = 18.1666 <degC>
FOCAL_PLANE_TEMPERATURE = 9.3989 <degC>
INST_CMPRS_NAME = "DISCRETE COSINE TRANSFORMATION (DCT)"
INST_CMPRS_RATIO = 24.8655
INST_CMPRS_QUALITY = 0
INST_CMPRS_QUANTZ_TBL_ID = 0
INSTRUMENT_TEMPERATURE = 12.0496 <degC>
LENS_TEMPERATURE = 10.0106 <degC>
MACROPIXEL_SIZE = 8
MISSING_FRAMES = 0
PIXEL_SUBSAMPLING_FLAG = N
SIGNAL_CHAIN_ID = 2
/* RADIOMETRIC DATA ELEMENTS */
BANDWIDTH = 81.0 <nm>
CENTER_FILTER_WAVELENGTH = 955.5 <nm>
RADIANCE_OFFSET = 0.672814 <W*m**-2*sr**-1>
RADIANCE_SCALING_FACTOR = 0.00207107 <W*m**-2*sr**-1>
REFLECTANCE_SCALING_FACTOR = 0.000193727
MEX:REFLECTANCE_OFFSET = 0.0629347
/* IMAGE OBJECT DEFINITIONS */
OBJECT = IMAGE
  INTERCHANGE_FORMAT = BINARY
  LINES = 5634
  LINE_SAMPLES = 976
  SAMPLE_TYPE = UNSIGNED_INTEGER
  SAMPLE_BITS = 8
  BANDS = 1
  BAND_STORAGE_TYPE = BAND_SEQUENTIAL
  MAXIMUM = 255
  MEAN = 127.326
  MINIMUM = 1
  STANDARD_DEVIATION = 52.5999
END_OBJECT = IMAGE
/* MAP OBJECT DEFINITIONS */
OBJECT = IMAGE_MAP_PROJECTION
  ^DATA_SET_MAP_PROJECTION_CATALOG= "DSMAP.CAT"
  A_AXIS_RADIUS = 3396.0 <km>
  B_AXIS_RADIUS = 3396.0 <km>
  C_AXIS_RADIUS = 3396.0 <km>
  CENTER_LATITUDE = 0.0
  CENTER_LONGITUDE = 318.0
  COORDINATE_SYSTEM_NAME = PLANETOGRAPHIC
  COORDINATE_SYSTEM_TYPE = "BODY-FIXED ROTATING"
  EASTERNMOST_LONGITUDE = 318.8
  FIRST_STANDARD_PARALLEL = "N/A"
  LINE_FIRST_PIXEL = 1
  LINE_LAST_PIXEL = 5634
  LINE_PROJECTION_OFFSET = 27137.5625
  MAP_PROJECTION_ROTATION = 0.0
  MAP_PROJECTION_TYPE = SINUSOIDAL
  MAP_RESOLUTION = 592.713803866667 <pixel/degree>
  MAP_SCALE = 0.1 <km/pixel>
  MAXIMUM_LATITUDE = 45.8461
  MINIMUM_LATITUDE = 36.2527
  POSITIVE_LONGITUDE_DIRECTION = EAST
  REFERENCE_LATITUDE = "N/A"
  REFERENCE_LONGITUDE = "N/A"
  SAMPLE_FIRST_PIXEL = 1
  SAMPLE_LAST_PIXEL = 976
  SAMPLE_PROJECTION_OFFSET = 581.6875
  SECOND_STANDARD_PARALLEL = "N/A"
  WESTERNMOST_LONGITUDE = 316.628
END_OBJECT = IMAGE_MAP_PROJECTION
END
