PDS_VERSION_ID = PDS3
/* FILE DATA ELEMENTS */
RECORD_TYPE = UNDEFINED
/* POINTERS TO DATA OBJECTS */
^IMAGE = ("HD748_0000_RE4.TIF")
/* IDENTIFICATION DATA ELEMENTS */
DATA_SET_ID = "MEX-M-HRSC-4-REFDR-MAPPROJECT-EXT4-V4.0"
DATA_SET_NAME = "MARS EXPRESS HRSC MAP PROJECTED REFDR EXTENSION4 V4.0"
DETECTOR_ID = MEX_HRSC_RED
EVENT_TYPE = "MARS-REGIONAL-MAPPING-Te-Pf-Mw"
INSTRUMENT_HOST_ID = MEX
INSTRUMENT_HOST_NAME = "MARS EXPRESS"
INSTRUMENT_ID = HRSC
INSTRUMENT_NAME = "HIGH RESOLUTION STEREO CAMERA"
MISSION_NAME = "MARS EXPRESS"
MISSION_PHASE_NAME = ME_Phase_31
PROCESSING_LEVEL_ID = 4
PRODUCT_CREATION_TIME = 2023-02-01T02:09:17.000Z
PRODUCT_ID = "HD748_0000_RE4.TIF"
RELEASE_ID = 0005
REVISION_ID = 0000
/* QUALITY DATA ELEMENTS */
DATA_QUALITY_ID = 1
DATA_QUALITY_DESC = "Data calculated based on original SPICE kernels"
/* TIME DATA ELEMENTS */
SPACECRAFT_CLOCK_START_COUNT = "1/0362804485.07330"
SPACECRAFT_CLOCK_STOP_COUNT = "1/0362804801.05696"
START_TIME = 2014-10-31T03:02:33.790Z
STOP_TIME = 2014-10-31T03:06:37.072Z
/* ORBITAL DATA ELEMENTS */
ASCENDING_NODE_LONGITUDE = 315.6
MAXIMUM_RESOLUTION = 0.0642
FOOTPRINT_POINT_LATITUDE = (48.2829,48.2766,48.2681,48.2537, 48.2533,48.3302,48.0341,47.7382,47.443, 47.0003,46.7055,46.411,46.1168,45.823, 45.5293,45.236,44.9432,44.6508,44.3584, 44.0666,43.775,43.4837,42.9611,42.6711, 42.092,41.6586,41.0821,40.5075,39.9344, 39.5018,39.2091,38.9164,38.6245,38.3326 ,37.8926,37.5953,37.2977,37.0008, 36.7043,36.4043,36.1017,35.6483,35.347, 35.0411,34.7336,34.4265,34.1202,33.6525 ,33.4964,33.4058,33.4043,33.4021,33.399 ,33.3958,33.3956,33.3966,33.7098, 34.1778,34.4848,34.9471,35.2556,35.5578 ,35.8605,36.1634,36.618,36.915,37.2124, 37.5104,37.8091,38.106,38.3979,38.69, 38.983,39.276,39.8592,40.4334,41.0093, 41.5867,42.0212,42.311,42.6013,43.0382, 43.5625,43.8546,44.147,44.4398,44.733, 45.0264,45.3202,45.6144,45.909,46.204, 46.4991,46.7947,47.0903,47.3864,47.6828 ,48.128,48.2766,48.2829)
FOOTPRINT_POINT_LONGITUDE = (104.795,104.219,103.639,102.868,102.85 ,102.769,102.795,102.82,102.844,102.879 ,102.902,102.925,102.946,102.967, 102.988,103.008,103.027,103.046,103.064 ,103.082,103.099,103.115,103.144, 103.159,103.189,103.209,103.235,103.26, 103.282,103.298,103.309,103.319,103.328 ,103.338,103.351,103.359,103.367, 103.375,103.383,103.39,103.396,103.406, 103.412,103.417,103.422,103.427,103.432 ,103.438,103.44,103.441,104.027,104.5, 104.97,105.366,105.384,105.39,105.382, 105.37,105.361,105.349,105.34,105.331, 105.323,105.314,105.3,105.291,105.282, 105.272,105.263,105.253,105.244,105.234 ,105.224,105.214,105.194,105.173, 105.151,105.129,105.112,105.1,105.088, 105.07,105.048,105.035,105.022,105.008, 104.995,104.981,104.967,104.953,104.938 ,104.923,104.908,104.893,104.877, 104.861,104.845,104.82,104.812,104.795)
ORBIT_NUMBER = 13748
ORBITAL_ECCENTRICITY = 0.573
ORBITAL_INCLINATION = 86.91
ORBITAL_SEMIMAJOR_AXIS = 8801.99
PERIAPSIS_ALTITUDE = 375.27
PERIAPSIS_ARGUMENT_ANGLE = 128.46
PERIAPSIS_TIME = 2014-10-31T03:01:16.000Z
SPACECRAFT_ORIENTATION = (0.0,-1.0,0.0)
^MEX_ORIENTATION_DESC = "MEX_ORIENTATION_DESC.TXT"
SPACECRAFT_POINTING_MODE = ACROSSTRACK
^MEX_POINTING_DESC = "MEX_POINTING_DESC.TXT"
RIGHT_ASCENSION = -1e+32
DECLINATION = -1e+32
OFFSET_ANGLE = -0.4
SPACECRAFT_SOLAR_DISTANCE = 2.08521e+08
TARGET_NAME = MARS
/* CAMERA DATA ELEMENTS */
DETECTOR_TEMPERATURE = 19.39
FOCAL_PLANE_TEMPERATURE = 10.6223
INST_CMPRS_NAME = "DISCRETE COSINE TRANSFORMATION (DCT)"
INST_CMPRS_RATIO = 23.268
INST_CMPRS_QUALITY = 0
INST_CMPRS_QUANTZ_TBL_ID = 0
INSTRUMENT_TEMPERATURE = 12.4574
LENS_TEMPERATURE = 10.8262
MACROPIXEL_SIZE = 4
PIXEL_SUBSAMPLING_FLAG = N
SIGNAL_CHAIN_ID = 2
/* RADIOMETRIC DATA ELEMENTS */
BANDWIDTH = 48.0
CENTER_FILTER_WAVELENGTH = 748.0
RADIANCE_OFFSET = 0.731598
RADIANCE_SCALING_FACTOR = 0.00388972
REFLECTANCE_SCALING_FACTOR = 0.000385961
MEX:REFLECTANCE_OFFSET = 0.0725936
/* IMAGE OBJECT DEFINITIONS */
OBJECT = IMAGE
  INTERCHANGE_FORMAT = BINARY
  LINES = 17768
  LINE_SAMPLES = 2293
  SAMPLE_TYPE = UNSIGNED_INTEGER
  SAMPLE_BITS = 8
  BANDS = 1
  BAND_STORAGE_TYPE = BAND_SEQUENTIAL
  MAXIMUM = 255
  MEAN = 126.263
  MINIMUM = 1
  STANDARD_DEVIATION = 69.8159
END_OBJECT = IMAGE
/* MAP OBJECT DEFINITIONS */
OBJECT = IMAGE_MAP_PROJECTION
  ^DATA_SET_MAP_PROJECTION_CATALOG= "DSMAP.CAT"
  A_AXIS_RADIUS = 3396.0
  B_AXIS_RADIUS = 3396.0
  C_AXIS_RADIUS = 3396.0
  CENTER_LATITUDE = 0.0
  CENTER_LONGITUDE = 104.0
  COORDINATE_SYSTEM_NAME = PLANETOGRAPHIC
  COORDINATE_SYSTEM_TYPE = "BODY-FIXED ROTATING"
  EASTERNMOST_LONGITUDE = 105.39
  FIRST_STANDARD_PARALLEL = "N/A"
  LINE_FIRST_PIXEL = 1
  LINE_LAST_PIXEL = 17768
  LINE_PROJECTION_OFFSET = 57329.875
  MAP_PROJECTION_ROTATION = 0.0
  MAP_PROJECTION_TYPE = SINUSOIDAL
  MAP_RESOLUTION = 1185.42760773333
  MAP_SCALE = 0.05
  MAXIMUM_LATITUDE = 48.3302
  MINIMUM_LATITUDE = 33.3956
  POSITIVE_LONGITUDE_DIRECTION = EAST
  REFERENCE_LATITUDE = "N/A"
  REFERENCE_LONGITUDE = "N/A"
  SAMPLE_FIRST_PIXEL = 1
  SAMPLE_LAST_PIXEL = 2293
  SAMPLE_PROJECTION_OFFSET = 960.375
  SECOND_STANDARD_PARALLEL = "N/A"
  WESTERNMOST_LONGITUDE = 102.769
END_OBJECT = IMAGE_MAP_PROJECTION
END
