PDS_VERSION_ID = PDS3
/* FILE DATA ELEMENTS */
RECORD_TYPE = UNDEFINED
/* POINTERS TO DATA OBJECTS */
^IMAGE = ("HD747_0000_RE4.TIF")
/* IDENTIFICATION DATA ELEMENTS */
DATA_SET_ID = "MEX-M-HRSC-4-REFDR-MAPPROJECT-EXT4-V4.0"
DATA_SET_NAME = "MARS EXPRESS HRSC MAP PROJECTED REFDR EXTENSION4 V4.0"
DETECTOR_ID = MEX_HRSC_RED
EVENT_TYPE = "MARS-REGIONAL-MAPPING-Te-Pf-Mw"
INSTRUMENT_HOST_ID = MEX
INSTRUMENT_HOST_NAME = "MARS EXPRESS"
INSTRUMENT_ID = HRSC
INSTRUMENT_NAME = "HIGH RESOLUTION STEREO CAMERA"
MISSION_NAME = "MARS EXPRESS"
MISSION_PHASE_NAME = ME_Phase_31
PROCESSING_LEVEL_ID = 4
PRODUCT_CREATION_TIME = 2023-02-01T02:09:17.000Z
PRODUCT_ID = "HD747_0000_RE4.TIF"
RELEASE_ID = 0005
REVISION_ID = 0000
/* QUALITY DATA ELEMENTS */
DATA_QUALITY_ID = 1
DATA_QUALITY_DESC = "Data calculated based on original SPICE kernels"
/* TIME DATA ELEMENTS */
SPACECRAFT_CLOCK_START_COUNT = "1/0362779508.08225"
SPACECRAFT_CLOCK_STOP_COUNT = "1/0362779806.07503"
START_TIME = 2014-10-30T20:06:26.582Z
STOP_TIME = 2014-10-30T20:09:59.014Z
/* ORBITAL DATA ELEMENTS */
ASCENDING_NODE_LONGITUDE = 315.61
MAXIMUM_RESOLUTION = 0.0743
FOOTPRINT_POINT_LATITUDE = (35.3961,35.4022,35.407,35.409,35.4114, 35.4115,35.4691,34.9179,34.4736,33.8046 ,33.3528,32.9026,32.6731,32.329,32.1001 ,31.8715,31.6388,31.4057,31.1731,30.941 ,30.7061,30.4695,30.2334,29.9977, 29.7591,29.5192,29.2796,28.9189,28.6754 ,28.4324,28.1899,27.9431,27.6966, 27.4506,27.2018,26.9518,26.7024,26.4505 ,26.1972,25.9445,25.6893,25.4328,25.177 ,24.9176,24.5284,24.1351,23.8726, 23.6078,23.4747,23.3828,23.3747,23.3669 ,23.359,23.3511,23.3428,23.3302,23.3297 ,23.3308,23.5974,23.9945,24.2585, 24.6506,24.9111,25.1709,25.4277,25.6852 ,26.0673,26.3212,26.5754,26.8255, 27.0761,27.3272,27.5737,27.8209,28.1916 ,28.4349,28.6787,29.0444,29.2842, 29.5245,29.7652,30.1219,30.3585,30.5956 ,30.8329,31.0657,31.2988,31.5323, 31.8817,32.1109,32.3407,32.571,32.9155, 33.3671,33.82,34.2678,34.8242,35.2693, 35.3784,35.3961)
FOOTPRINT_POINT_LONGITUDE = (207.342,206.79,206.232,205.95,205.488, 205.47,205.417,205.429,205.438,205.449, 205.456,205.462,205.465,205.469,205.471 ,205.474,205.476,205.477,205.479,205.48 ,205.482,205.483,205.484,205.484, 205.485,205.485,205.485,205.485,205.485 ,205.484,205.484,205.483,205.481,205.48 ,205.479,205.477,205.475,205.473,205.47 ,205.468,205.465,205.462,205.459, 205.455,205.45,205.444,205.439,205.435, 205.432,205.431,205.787,206.121,206.453 ,206.783,207.112,207.623,207.643,207.65 ,207.644,207.636,207.631,207.623, 207.617,207.612,207.606,207.6,207.592, 207.587,207.581,207.575,207.57,207.564, 207.558,207.553,207.544,207.538,207.533 ,207.524,207.518,207.512,207.506, 207.497,207.491,207.485,207.479,207.473 ,207.467,207.461,207.451,207.445, 207.439,207.432,207.423,207.41,207.397, 207.383,207.366,207.353,207.349, 207.342)
ORBIT_NUMBER = 13747
ORBITAL_ECCENTRICITY = 0.573
ORBITAL_INCLINATION = 86.92
ORBITAL_SEMIMAJOR_AXIS = 8794.26
PERIAPSIS_ALTITUDE = 375.55
PERIAPSIS_ARGUMENT_ANGLE = 128.64
PERIAPSIS_TIME = 2014-10-30T20:01:43.000Z
SPACECRAFT_ORIENTATION = (0.0,-1.0,0.0)
^MEX_ORIENTATION_DESC = "MEX_ORIENTATION_DESC.TXT"
SPACECRAFT_POINTING_MODE = ACROSSTRACK
^MEX_POINTING_DESC = "MEX_POINTING_DESC.TXT"
RIGHT_ASCENSION = -1e+32
DECLINATION = -1e+32
OFFSET_ANGLE = -0.6
SPACECRAFT_SOLAR_DISTANCE = 2.08547e+08
TARGET_NAME = MARS
/* CAMERA DATA ELEMENTS */
DETECTOR_TEMPERATURE = 19.39
FOCAL_PLANE_TEMPERATURE = 10.0106
INST_CMPRS_NAME = "DISCRETE COSINE TRANSFORMATION (DCT)"
INST_CMPRS_RATIO = 24.2798
INST_CMPRS_QUALITY = 0
INST_CMPRS_QUANTZ_TBL_ID = 0
INSTRUMENT_TEMPERATURE = 12.2535
LENS_TEMPERATURE = 10.2145
MACROPIXEL_SIZE = 4
MISSING_FRAMES = 0
PIXEL_SUBSAMPLING_FLAG = N
SIGNAL_CHAIN_ID = 2
/* RADIOMETRIC DATA ELEMENTS */
BANDWIDTH = 48.0
CENTER_FILTER_WAVELENGTH = 748.0
RADIANCE_OFFSET = 1.43444
RADIANCE_SCALING_FACTOR = 0.00322515
REFLECTANCE_SCALING_FACTOR = 0.000320096
MEX:REFLECTANCE_OFFSET = 0.142368
/* IMAGE OBJECT DEFINITIONS */
OBJECT = IMAGE
  INTERCHANGE_FORMAT = BINARY
  LINES = 14364
  LINE_SAMPLES = 2252
  SAMPLE_TYPE = UNSIGNED_INTEGER
  SAMPLE_BITS = 8
  BANDS = 1
  BAND_STORAGE_TYPE = BAND_SEQUENTIAL
  MAXIMUM = 255
  MEAN = 136.516
  MINIMUM = 1
  STANDARD_DEVIATION = 56.4156
END_OBJECT = IMAGE
/* MAP OBJECT DEFINITIONS */
OBJECT = IMAGE_MAP_PROJECTION
  ^DATA_SET_MAP_PROJECTION_CATALOG= "DSMAP.CAT"
  A_AXIS_RADIUS = 3396.0
  B_AXIS_RADIUS = 3396.0
  C_AXIS_RADIUS = 3396.0
  CENTER_LATITUDE = 0.0
  CENTER_LONGITUDE = 207.0
  COORDINATE_SYSTEM_NAME = PLANETOGRAPHIC
  COORDINATE_SYSTEM_TYPE = "BODY-FIXED ROTATING"
  EASTERNMOST_LONGITUDE = 207.65
  FIRST_STANDARD_PARALLEL = "N/A"
  LINE_FIRST_PIXEL = 1
  LINE_LAST_PIXEL = 14364
  LINE_PROJECTION_OFFSET = 42029.625
  MAP_PROJECTION_ROTATION = 0.0
  MAP_PROJECTION_TYPE = SINUSOIDAL
  MAP_RESOLUTION = 1185.42760773333
  MAP_SCALE = 0.05
  MAXIMUM_LATITUDE = 35.4691
  MINIMUM_LATITUDE = 23.3297
  POSITIVE_LONGITUDE_DIRECTION = EAST
  REFERENCE_LATITUDE = "N/A"
  REFERENCE_LONGITUDE = "N/A"
  SAMPLE_FIRST_PIXEL = 1
  SAMPLE_LAST_PIXEL = 2252
  SAMPLE_PROJECTION_OFFSET = 1626.625
  SECOND_STANDARD_PARALLEL = "N/A"
  WESTERNMOST_LONGITUDE = 205.417
END_OBJECT = IMAGE_MAP_PROJECTION
END
