PDS_VERSION_ID = PDS3
/* FILE DATA ELEMENTS */
RECORD_TYPE = UNDEFINED
/* POINTERS TO DATA OBJECTS */
^IMAGE = ("HD740_0000_P14.TIF")
/* IDENTIFICATION DATA ELEMENTS */
DATA_SET_ID = "MEX-M-HRSC-4-REFDR-MAPPROJECT-EXT4-V4.0"
DATA_SET_NAME = "MARS EXPRESS HRSC MAP PROJECTED REFDR EXTENSION4 V4.0"
DETECTOR_ID = MEX_HRSC_P1
EVENT_TYPE = "MARS-REGIONAL-MAPPING-Vo-Pf-Eo"
INSTRUMENT_HOST_ID = MEX
INSTRUMENT_HOST_NAME = "MARS EXPRESS"
INSTRUMENT_ID = HRSC
INSTRUMENT_NAME = "HIGH RESOLUTION STEREO CAMERA"
MISSION_NAME = "MARS EXPRESS"
MISSION_PHASE_NAME = ME_Phase_31
PROCESSING_LEVEL_ID = 4
PRODUCT_CREATION_TIME = 2023-02-01T02:09:17.000Z
PRODUCT_ID = "HD740_0000_P14.TIF"
RELEASE_ID = 0005
REVISION_ID = 0000
/* QUALITY DATA ELEMENTS */
DATA_QUALITY_ID = 1
DATA_QUALITY_DESC = "Data calculated based on original SPICE kernels"
/* TIME DATA ELEMENTS */
SPACECRAFT_CLOCK_START_COUNT = "1/0362603318.09026"
SPACECRAFT_CLOCK_STOP_COUNT = "1/0362603554.49440"
START_TIME = 2014-10-28T19:08:56.761Z
STOP_TIME = 2014-10-28T19:11:15.456Z
/* ORBITAL DATA ELEMENTS */
ASCENDING_NODE_LONGITUDE = 315.74
MAXIMUM_RESOLUTION = 0.0342
FOOTPRINT_POINT_LATITUDE = (34.2626,34.2686,34.272,34.2746,34.2764 ,34.2775,34.2778,34.2777,34.2353,33.904 ,33.6557,33.3246,32.9939,32.6548, 32.1463,31.8075,31.469,31.123,30.9496, 30.7762,30.603,30.4298,30.0836,29.9075, 29.7302,29.5531,29.2875,29.1106,28.9337 ,28.7569,28.5764,28.3954,28.2146, 28.0339,27.7629,27.5823,27.3987,27.2141 ,27.0295,26.8452,26.6609,26.4766, 26.2899,26.1016,25.9135,25.7254,25.5374 ,25.4434,25.4045,25.4018,25.3983,25.394 ,25.3887,25.3825,25.3726,25.3721, 25.3726,25.5608,25.7492,25.9377,26.1263 ,26.4086,26.5931,26.7778,26.9626, 27.1475,27.3324,27.5172,27.6981,27.879, 28.0601,28.2413,28.4225,28.6038,28.7834 ,28.9606,29.1378,29.3152,29.4926,29.67, 29.8475,30.0248,30.1982,30.3716,30.5451 ,30.7187,30.8923,31.0661,31.2398, 31.4136,31.7527,32.0921,32.4317,32.7715 ,33.025,33.3564,33.688,34.103,34.1859, 34.2626)
FOOTPRINT_POINT_LONGITUDE = (204.414,204.04,203.77,203.502,203.235, 202.969,202.704,202.688,202.676,202.678 ,202.679,202.68,202.68,202.68,202.68, 202.68,202.679,202.678,202.677,202.677, 202.676,202.675,202.673,202.672,202.671 ,202.669,202.667,202.666,202.664, 202.663,202.661,202.659,202.657,202.655 ,202.652,202.65,202.648,202.646,202.643 ,202.641,202.638,202.636,202.633,202.63 ,202.627,202.624,202.621,202.62,202.619 ,202.907,203.196,203.486,203.778, 204.071,204.477,204.496,204.502,204.502 ,204.501,204.5,204.499,204.498,204.497, 204.497,204.496,204.495,204.494,204.494 ,204.493,204.492,204.491,204.49,204.489 ,204.489,204.488,204.487,204.486, 204.485,204.484,204.483,204.482,204.482 ,204.481,204.48,204.479,204.478,204.477 ,204.476,204.475,204.474,204.472,204.47 ,204.468,204.466,204.464,204.462, 204.459,204.456,204.456,204.414)
ORBIT_NUMBER = 13740
ORBITAL_ECCENTRICITY = 0.573
ORBITAL_INCLINATION = 86.92
ORBITAL_SEMIMAJOR_AXIS = 8795.92
PERIAPSIS_ALTITUDE = 374.95
PERIAPSIS_ARGUMENT_ANGLE = 129.85
PERIAPSIS_TIME = 2014-10-28T19:05:13.000Z
SPACECRAFT_ORIENTATION = (0.0,-1.0,0.0)
^MEX_ORIENTATION_DESC = "MEX_ORIENTATION_DESC.TXT"
SPACECRAFT_POINTING_MODE = ACROSSTRACK
^MEX_POINTING_DESC = "MEX_POINTING_DESC.TXT"
RIGHT_ASCENSION = -1e+32
DECLINATION = -1e+32
OFFSET_ANGLE = 0.5
SPACECRAFT_SOLAR_DISTANCE = 2.08731e+08
TARGET_NAME = MARS
/* CAMERA DATA ELEMENTS */
DETECTOR_TEMPERATURE = 18.1666
FOCAL_PLANE_TEMPERATURE = 9.8067
INST_CMPRS_NAME = "DISCRETE COSINE TRANSFORMATION (DCT)"
INST_CMPRS_RATIO = 10.1681
INST_CMPRS_QUALITY = 0
INST_CMPRS_QUANTZ_TBL_ID = 0
INSTRUMENT_TEMPERATURE = 12.2535
LENS_TEMPERATURE = 10.2145
MACROPIXEL_SIZE = 2
MISSING_FRAMES = 0
PIXEL_SUBSAMPLING_FLAG = N
SIGNAL_CHAIN_ID = 3
/* RADIOMETRIC DATA ELEMENTS */
BANDWIDTH = 174.0
CENTER_FILTER_WAVELENGTH = 675.0
RADIANCE_OFFSET = 5.31929
RADIANCE_SCALING_FACTOR = 0.00834398
REFLECTANCE_SCALING_FACTOR = 0.000195537
MEX:REFLECTANCE_OFFSET = 0.124655
/* IMAGE OBJECT DEFINITIONS */
OBJECT = IMAGE
  INTERCHANGE_FORMAT = BINARY
  LINES = 21002
  LINE_SAMPLES = 4185
  SAMPLE_TYPE = UNSIGNED_INTEGER
  SAMPLE_BITS = 8
  BANDS = 1
  BAND_STORAGE_TYPE = BAND_SEQUENTIAL
  MAXIMUM = 255
  MEAN = 126.34
  MINIMUM = 1
  STANDARD_DEVIATION = 53.7432
END_OBJECT = IMAGE
/* MAP OBJECT DEFINITIONS */
OBJECT = IMAGE_MAP_PROJECTION
  ^DATA_SET_MAP_PROJECTION_CATALOG= "DSMAP.CAT"
  A_AXIS_RADIUS = 3396.0
  B_AXIS_RADIUS = 3396.0
  C_AXIS_RADIUS = 3396.0
  CENTER_LATITUDE = 0.0
  CENTER_LONGITUDE = 204.0
  COORDINATE_SYSTEM_NAME = PLANETOGRAPHIC
  COORDINATE_SYSTEM_TYPE = "BODY-FIXED ROTATING"
  EASTERNMOST_LONGITUDE = 204.502
  FIRST_STANDARD_PARALLEL = "N/A"
  LINE_FIRST_PIXEL = 1
  LINE_LAST_PIXEL = 21002
  LINE_PROJECTION_OFFSET = 81209.75
  MAP_PROJECTION_ROTATION = 0.0
  MAP_PROJECTION_TYPE = SINUSOIDAL
  MAP_RESOLUTION = 2370.85521546667
  MAP_SCALE = 0.025
  MAXIMUM_LATITUDE = 34.2778
  MINIMUM_LATITUDE = 25.3721
  POSITIVE_LONGITUDE_DIRECTION = EAST
  REFERENCE_LATITUDE = "N/A"
  REFERENCE_LONGITUDE = "N/A"
  SAMPLE_FIRST_PIXEL = 1
  SAMPLE_LAST_PIXEL = 4185
  SAMPLE_PROJECTION_OFFSET = 3045.25
  SECOND_STANDARD_PARALLEL = "N/A"
  WESTERNMOST_LONGITUDE = 202.619
END_OBJECT = IMAGE_MAP_PROJECTION
END
