PDS_VERSION_ID = PDS3
/* FILE DATA ELEMENTS */
RECORD_TYPE = UNDEFINED
/* POINTERS TO DATA OBJECTS */
^IMAGE = ("HD734_0000_S24.TIF")
/* IDENTIFICATION DATA ELEMENTS */
DATA_SET_ID = "MEX-M-HRSC-4-REFDR-MAPPROJECT-EXT4-V4.0"
DATA_SET_NAME = "MARS EXPRESS HRSC MAP PROJECTED REFDR EXTENSION4 V4.0"
DETECTOR_ID = MEX_HRSC_S2
EVENT_TYPE = "MARS-REGIONAL-MAPPING-Te-Pf-Mw"
INSTRUMENT_HOST_ID = MEX
INSTRUMENT_HOST_NAME = "MARS EXPRESS"
INSTRUMENT_ID = HRSC
INSTRUMENT_NAME = "HIGH RESOLUTION STEREO CAMERA"
MISSION_NAME = "MARS EXPRESS"
MISSION_PHASE_NAME = ME_Phase_31
PROCESSING_LEVEL_ID = 4
PRODUCT_CREATION_TIME = 2023-02-01T02:09:17.000Z
PRODUCT_ID = "HD734_0000_S24.TIF"
RELEASE_ID = 0005
REVISION_ID = 0000
/* QUALITY DATA ELEMENTS */
DATA_QUALITY_ID = 1
DATA_QUALITY_DESC = "Data calculated based on original SPICE kernels"
/* TIME DATA ELEMENTS */
SPACECRAFT_CLOCK_START_COUNT = "1/0362452322.09036"
SPACECRAFT_CLOCK_STOP_COUNT = "1/0362452578.12927"
START_TIME = 2014-10-27T01:13:29.728Z
STOP_TIME = 2014-10-27T01:16:22.079Z
/* ORBITAL DATA ELEMENTS */
ASCENDING_NODE_LONGITUDE = 315.86
MAXIMUM_RESOLUTION = 0.0391
FOOTPRINT_POINT_LATITUDE = (31.6285,31.6278,31.6271,31.6253,31.624 ,31.6221,31.622,31.68,31.1374,30.6869, 30.4113,30.0441,29.6782,29.492,29.1192, 28.7479,28.5602,28.3709,28.1822,27.9938 ,27.8057,27.518,27.3262,27.0391,26.8476 ,26.6531,26.4589,26.2652,25.9735, 25.7766,25.58,25.3838,25.1854,24.9858, 24.7866,24.5878,24.3858,24.0836,23.7803 ,23.5754,23.371,23.1675,22.9614,22.7546 ,22.5483,22.3399,22.1306,22.0261, 22.0249,22.0219,22.0187,22.0155,22.0129 ,22.0087,22.0061,22.0059,22.0064, 22.3218,22.5305,22.7376,22.945,23.1524, 23.3568,23.5617,23.8685,24.0703,24.3739 ,24.5764,24.7756,24.9751,25.1754, 25.3744,25.5711,25.7684,25.9659,26.2585 ,26.4526,26.6473,26.9391,27.1306, 27.3224,27.6105,27.8026,27.9911,28.1801 ,28.3695,28.5595,28.748,28.9341,29.1204 ,29.3071,29.494,29.6806,30.0471,30.3234 ,30.6918,31.053,31.5966,31.6874, 31.6285)
FOOTPRINT_POINT_LONGITUDE = (97.4007,96.9875,96.7001,96.1976, 95.9104,95.5686,95.5506,95.5235,95.5239 ,95.5236,95.5231,95.5222,95.5208, 95.5199,95.518,95.5155,95.5141,95.5127, 95.511,95.5093,95.5075,95.5047,95.5027, 95.4995,95.4971,95.4946,95.4921,95.4894 ,95.485,95.482,95.479,95.4758,95.4725, 95.4691,95.4656,95.462,95.4583,95.4522, 95.4464,95.4421,95.4378,95.4332,95.4285 ,95.4237,95.4187,95.4137,95.4085, 95.4059,95.4058,95.7414,96.0772,96.3915 ,96.769,97.2726,97.5454,97.5664,97.5739 ,97.5694,97.5662,97.5631,97.56,97.5571, 97.554,97.551,97.5464,97.5434,97.5388, 97.5358,97.5328,97.5297,97.5268,97.5238 ,97.5208,97.5178,97.5148,97.5102, 97.5071,97.5042,97.4997,97.4967,97.4938 ,97.4892,97.4862,97.4831,97.4801, 97.4771,97.4742,97.4712,97.4683,97.4652 ,97.4622,97.4591,97.456,97.4498,97.4454 ,97.4391,97.4329,97.4234,97.4218, 97.4007)
ORBIT_NUMBER = 13734
ORBITAL_ECCENTRICITY = 0.573
ORBITAL_INCLINATION = 86.91
ORBITAL_SEMIMAJOR_AXIS = 8806.27
PERIAPSIS_ALTITUDE = 373.67
PERIAPSIS_ARGUMENT_ANGLE = 130.87
PERIAPSIS_TIME = 2014-10-27T01:08:13.000Z
SPACECRAFT_ORIENTATION = (0.0,-1.0,0.0)
^MEX_ORIENTATION_DESC = "MEX_ORIENTATION_DESC.TXT"
SPACECRAFT_POINTING_MODE = NADIR
^MEX_POINTING_DESC = "MEX_POINTING_DESC.TXT"
RIGHT_ASCENSION = -1e+32
DECLINATION = -1e+32
OFFSET_ANGLE = -1e+32
SPACECRAFT_SOLAR_DISTANCE = 2.08895e+08
TARGET_NAME = MARS
/* CAMERA DATA ELEMENTS */
DETECTOR_TEMPERATURE = 19.5939
FOCAL_PLANE_TEMPERATURE = 10.0106
INST_CMPRS_NAME = "DISCRETE COSINE TRANSFORMATION (DCT)"
INST_CMPRS_RATIO = 11.1804
INST_CMPRS_QUALITY = 0
INST_CMPRS_QUANTZ_TBL_ID = 0
INSTRUMENT_TEMPERATURE = 12.2535
LENS_TEMPERATURE = 10.6223
MACROPIXEL_SIZE = 2
MISSING_FRAMES = 0
PIXEL_SUBSAMPLING_FLAG = N
SIGNAL_CHAIN_ID = 1
/* RADIOMETRIC DATA ELEMENTS */
BANDWIDTH = 178.0
CENTER_FILTER_WAVELENGTH = 679.0
RADIANCE_OFFSET = 4.51574
RADIANCE_SCALING_FACTOR = 0.0123306
REFLECTANCE_SCALING_FACTOR = 0.000284948
MEX:REFLECTANCE_OFFSET = 0.104355
/* IMAGE OBJECT DEFINITIONS */
OBJECT = IMAGE
  INTERCHANGE_FORMAT = BINARY
  LINES = 22977
  LINE_SAMPLES = 4362
  SAMPLE_TYPE = UNSIGNED_INTEGER
  SAMPLE_BITS = 8
  BANDS = 1
  BAND_STORAGE_TYPE = BAND_SEQUENTIAL
  MAXIMUM = 255
  MEAN = 126.607
  MINIMUM = 1
  STANDARD_DEVIATION = 63.7107
END_OBJECT = IMAGE
/* MAP OBJECT DEFINITIONS */
OBJECT = IMAGE_MAP_PROJECTION
  ^DATA_SET_MAP_PROJECTION_CATALOG= "DSMAP.CAT"
  A_AXIS_RADIUS = 3396.0
  B_AXIS_RADIUS = 3396.0
  C_AXIS_RADIUS = 3396.0
  CENTER_LATITUDE = 0.0
  CENTER_LONGITUDE = 96.0
  COORDINATE_SYSTEM_NAME = PLANETOGRAPHIC
  COORDINATE_SYSTEM_TYPE = "BODY-FIXED ROTATING"
  EASTERNMOST_LONGITUDE = 97.57389999999999
  FIRST_STANDARD_PARALLEL = "N/A"
  LINE_FIRST_PIXEL = 1
  LINE_LAST_PIXEL = 22977
  LINE_PROJECTION_OFFSET = 75110.75
  MAP_PROJECTION_ROTATION = 0.0
  MAP_PROJECTION_TYPE = SINUSOIDAL
  MAP_RESOLUTION = 2370.85521546667
  MAP_SCALE = 0.025
  MAXIMUM_LATITUDE = 31.6874
  MINIMUM_LATITUDE = 22.0059
  POSITIVE_LONGITUDE_DIRECTION = EAST
  REFERENCE_LATITUDE = "N/A"
  REFERENCE_LONGITUDE = "N/A"
  SAMPLE_FIRST_PIXEL = 1
  SAMPLE_LAST_PIXEL = 4362
  SAMPLE_PROJECTION_OFFSET = 1116.75
  SECOND_STANDARD_PARALLEL = "N/A"
  WESTERNMOST_LONGITUDE = 95.4058
END_OBJECT = IMAGE_MAP_PROJECTION
END
