PDS_VERSION_ID = PDS3
/* FILE DATA ELEMENTS */
RECORD_TYPE = UNDEFINED
/* POINTERS TO DATA OBJECTS */
^IMAGE = ("HD734_0000_RE4.TIF")
/* IDENTIFICATION DATA ELEMENTS */
DATA_SET_ID = "MEX-M-HRSC-4-REFDR-MAPPROJECT-EXT4-V4.0"
DATA_SET_NAME = "MARS EXPRESS HRSC MAP PROJECTED REFDR EXTENSION4 V4.0"
DETECTOR_ID = MEX_HRSC_RED
EVENT_TYPE = "MARS-REGIONAL-MAPPING-Te-Pf-Mw"
INSTRUMENT_HOST_ID = MEX
INSTRUMENT_HOST_NAME = "MARS EXPRESS"
INSTRUMENT_ID = HRSC
INSTRUMENT_NAME = "HIGH RESOLUTION STEREO CAMERA"
MISSION_NAME = "MARS EXPRESS"
MISSION_PHASE_NAME = ME_Phase_31
PROCESSING_LEVEL_ID = 4
PRODUCT_CREATION_TIME = 2023-02-01T02:09:17.000Z
PRODUCT_ID = "HD734_0000_RE4.TIF"
RELEASE_ID = 0005
REVISION_ID = 0000
/* QUALITY DATA ELEMENTS */
DATA_QUALITY_ID = 1
DATA_QUALITY_DESC = "Data calculated based on original SPICE kernels"
/* TIME DATA ELEMENTS */
SPACECRAFT_CLOCK_START_COUNT = "1/0362452322.09036"
SPACECRAFT_CLOCK_STOP_COUNT = "1/0362452578.12927"
START_TIME = 2014-10-27T01:13:21.915Z
STOP_TIME = 2014-10-27T01:16:11.403Z
/* ORBITAL DATA ELEMENTS */
ASCENDING_NODE_LONGITUDE = 315.86
MAXIMUM_RESOLUTION = 0.1519
FOOTPRINT_POINT_LATITUDE = (31.6375,31.6372,31.6367,31.6355, 31.6343,31.6332,31.6318,31.63,31.6299, 31.6762,31.3206,30.9573,30.5949,30.2332 ,29.8646,29.5882,29.2206,28.9405, 28.7532,28.5664,28.1935,28.0035,27.7186 ,27.529,27.3396,27.052,26.8582,26.5698, 26.2797,26.0845,25.7917,25.597,25.3996, 25.2012,25.0036,24.8059,24.6049,24.4041 ,24.2034,23.9011,23.6971,23.4938, 23.2909,22.9824,22.7766,22.5712,22.3624 ,22.1538,22.0497,22.0256,22.0228, 22.0205,22.0175,22.0157,22.0131,22.0093 ,22.0091,22.0116,22.3253,22.5348, 22.7408,23.0508,23.2576,23.4611,23.6649 ,23.8691,24.0721,24.2729,24.4742, 24.6757,24.9745,25.1728,25.3716,25.5702 ,25.7654,25.9609,26.1568,26.4494,26.642 ,26.835,27.0282,27.3177,27.5076,27.6975 ,27.8876,28.0781,28.2674,28.4544, 28.6417,28.8293,29.0171,29.2046,29.5727 ,30.0344,30.5821,30.9456,31.3098, 31.5771,31.6663,31.6375)
FOOTPRINT_POINT_LONGITUDE = (97.3858,97.1469,96.9255,96.5676, 96.2952,96.074,95.8525,95.5963,95.5792, 95.5499,95.5505,95.5509,95.5507,95.5502 ,95.5494,95.5485,95.547,95.5455,95.5444 ,95.5432,95.5405,95.5389,95.5365, 95.5347,95.5329,95.5296,95.5279,95.5245 ,95.5209,95.5182,95.5141,95.5113, 95.5083,95.5053,95.502,95.4988,95.4955, 95.492,95.4884,95.4827,95.4789,95.4749, 95.4708,95.4642,95.4596,95.455,95.4504, 95.4455,95.443,95.4424,95.8356,96.1321, 96.5075,96.7844,97.1008,97.5165,97.5363 ,97.5496,97.5453,97.5425,97.5396, 97.5355,97.5327,97.5299,97.5271,97.5243 ,97.5214,97.5186,97.5159,97.5131, 97.5089,97.5061,97.5033,97.5005,97.4977 ,97.4949,97.4921,97.4877,97.4849, 97.4822,97.4794,97.4752,97.4724,97.4696 ,97.4666,97.4638,97.461,97.4582,97.4554 ,97.4526,97.4497,97.4469,97.441,97.4337 ,97.425,97.4191,97.413,97.4085,97.407, 97.3858)
ORBIT_NUMBER = 13734
ORBITAL_ECCENTRICITY = 0.573
ORBITAL_INCLINATION = 86.91
ORBITAL_SEMIMAJOR_AXIS = 8806.27
PERIAPSIS_ALTITUDE = 373.67
PERIAPSIS_ARGUMENT_ANGLE = 130.87
PERIAPSIS_TIME = 2014-10-27T01:08:13.000Z
SPACECRAFT_ORIENTATION = (0.0,-1.0,0.0)
^MEX_ORIENTATION_DESC = "MEX_ORIENTATION_DESC.TXT"
SPACECRAFT_POINTING_MODE = NADIR
^MEX_POINTING_DESC = "MEX_POINTING_DESC.TXT"
RIGHT_ASCENSION = -1e+32
DECLINATION = -1e+32
OFFSET_ANGLE = -1e+32
SPACECRAFT_SOLAR_DISTANCE = 2.08895e+08
TARGET_NAME = MARS
/* CAMERA DATA ELEMENTS */
DETECTOR_TEMPERATURE = 19.5939
FOCAL_PLANE_TEMPERATURE = 10.0106
INST_CMPRS_NAME = "DISCRETE COSINE TRANSFORMATION (DCT)"
INST_CMPRS_RATIO = 31.4804
INST_CMPRS_QUALITY = 0
INST_CMPRS_QUANTZ_TBL_ID = 0
INSTRUMENT_TEMPERATURE = 12.2535
LENS_TEMPERATURE = 10.6223
MACROPIXEL_SIZE = 8
MISSING_FRAMES = 0
PIXEL_SUBSAMPLING_FLAG = N
SIGNAL_CHAIN_ID = 2
/* RADIOMETRIC DATA ELEMENTS */
BANDWIDTH = 48.0
CENTER_FILTER_WAVELENGTH = 748.0
RADIANCE_OFFSET = 1.12781
RADIANCE_SCALING_FACTOR = 0.00360513
REFLECTANCE_SCALING_FACTOR = 0.000359006
MEX:REFLECTANCE_OFFSET = 0.11231
/* IMAGE OBJECT DEFINITIONS */
OBJECT = IMAGE
  INTERCHANGE_FORMAT = BINARY
  LINES = 5745
  LINE_SAMPLES = 1091
  SAMPLE_TYPE = UNSIGNED_INTEGER
  SAMPLE_BITS = 8
  BANDS = 1
  BAND_STORAGE_TYPE = BAND_SEQUENTIAL
  MAXIMUM = 255
  MEAN = 127.114
  MINIMUM = 3
  STANDARD_DEVIATION = 66.2675
END_OBJECT = IMAGE
/* MAP OBJECT DEFINITIONS */
OBJECT = IMAGE_MAP_PROJECTION
  ^DATA_SET_MAP_PROJECTION_CATALOG= "DSMAP.CAT"
  A_AXIS_RADIUS = 3396.0
  B_AXIS_RADIUS = 3396.0
  C_AXIS_RADIUS = 3396.0
  CENTER_LATITUDE = 0.0
  CENTER_LONGITUDE = 96.0
  COORDINATE_SYSTEM_NAME = PLANETOGRAPHIC
  COORDINATE_SYSTEM_TYPE = "BODY-FIXED ROTATING"
  EASTERNMOST_LONGITUDE = 97.5496
  FIRST_STANDARD_PARALLEL = "N/A"
  LINE_FIRST_PIXEL = 1
  LINE_LAST_PIXEL = 5745
  LINE_PROJECTION_OFFSET = 18777.3125
  MAP_PROJECTION_ROTATION = 0.0
  MAP_PROJECTION_TYPE = SINUSOIDAL
  MAP_RESOLUTION = 592.713803866667
  MAP_SCALE = 0.1
  MAXIMUM_LATITUDE = 31.6762
  MINIMUM_LATITUDE = 22.0091
  POSITIVE_LONGITUDE_DIRECTION = EAST
  REFERENCE_LATITUDE = "N/A"
  REFERENCE_LONGITUDE = "N/A"
  SAMPLE_FIRST_PIXEL = 1
  SAMPLE_LAST_PIXEL = 1091
  SAMPLE_PROJECTION_OFFSET = 278.8125
  SECOND_STANDARD_PARALLEL = "N/A"
  WESTERNMOST_LONGITUDE = 95.44240000000001
END_OBJECT = IMAGE_MAP_PROJECTION
END
