PDS_VERSION_ID = PDS3
/* FILE DATA ELEMENTS */
RECORD_TYPE = UNDEFINED
/* POINTERS TO DATA OBJECTS */
^IMAGE = ("HD734_0000_P24.TIF")
/* IDENTIFICATION DATA ELEMENTS */
DATA_SET_ID = "MEX-M-HRSC-4-REFDR-MAPPROJECT-EXT4-V4.0"
DATA_SET_NAME = "MARS EXPRESS HRSC MAP PROJECTED REFDR EXTENSION4 V4.0"
DETECTOR_ID = MEX_HRSC_P2
EVENT_TYPE = "MARS-REGIONAL-MAPPING-Te-Pf-Mw"
INSTRUMENT_HOST_ID = MEX
INSTRUMENT_HOST_NAME = "MARS EXPRESS"
INSTRUMENT_ID = HRSC
INSTRUMENT_NAME = "HIGH RESOLUTION STEREO CAMERA"
MISSION_NAME = "MARS EXPRESS"
MISSION_PHASE_NAME = ME_Phase_31
PROCESSING_LEVEL_ID = 4
PRODUCT_CREATION_TIME = 2023-02-01T02:09:17.000Z
PRODUCT_ID = "HD734_0000_P24.TIF"
RELEASE_ID = 0005
REVISION_ID = 0000
/* QUALITY DATA ELEMENTS */
DATA_QUALITY_ID = 1
DATA_QUALITY_DESC = "Data calculated based on original SPICE kernels"
/* TIME DATA ELEMENTS */
SPACECRAFT_CLOCK_START_COUNT = "1/0362452322.09036"
SPACECRAFT_CLOCK_STOP_COUNT = "1/0362452578.12927"
START_TIME = 2014-10-27T01:13:14.367Z
STOP_TIME = 2014-10-27T01:16:01.504Z
/* ORBITAL DATA ELEMENTS */
ASCENDING_NODE_LONGITUDE = 315.86
MAXIMUM_RESOLUTION = 0.0741
FOOTPRINT_POINT_LATITUDE = (31.644,31.6429,31.6417,31.6396,31.6378 ,31.635,31.6349,31.6721,31.1326,30.8634 ,30.4973,30.1313,29.7663,29.4874, 29.3011,29.1153,28.9297,28.7443,28.4613 ,28.2723,28.0835,27.8949,27.7066, 27.5146,27.3224,27.0346,26.8434,26.5519 ,26.357,26.1627,25.8714,25.6733,25.4757 ,25.2782,25.0813,24.8812,24.6804, 24.4801,24.28,23.9751,23.7718,23.4673, 23.1576,22.9519,22.7465,22.5379,22.329, 22.1206,22.0165,22.0092,22.007,22.0055, 22.003,22.0005,21.9979,21.9951,21.9949, 21.9961,22.2052,22.4144,22.7282,22.9344 ,23.1409,23.4515,23.7569,24.0625, 24.2664,24.4669,24.6677,24.8689,25.0693 ,25.267,25.4649,25.6631,25.9592,26.1538 ,26.3488,26.544,26.8364,27.0282,27.2205 ,27.5091,27.7016,27.8903,28.0793, 28.2686,28.4582,28.6481,28.8352,29.0211 ,29.2074,29.3938,29.5805,29.858,30.3158 ,30.8666,31.2263,31.5867,31.677,31.644)
FOOTPRINT_POINT_LONGITUDE = (97.3765,96.8705,96.5841,96.1966, 95.9271,95.5895,95.5726,95.5477,95.5487 ,95.549,95.549,95.5486,95.5478,95.5469, 95.5463,95.5454,95.5445,95.5435,95.5418 ,95.5405,95.5391,95.5377,95.5362, 95.5345,95.5328,95.53,95.5279,95.5247, 95.5224,95.5198,95.516,95.5133,95.5105, 95.5076,95.5045,95.5015,95.4983,95.4949 ,95.4915,95.4861,95.4824,95.4766, 95.4705,95.4661,95.4617,95.4572,95.4526 ,95.4479,95.4454,95.4453,95.8724, 96.1059,96.4557,96.8643,97.195,97.5067, 97.5262,97.5327,97.5301,97.5275,97.5234 ,97.5208,97.5182,97.5143,97.5105, 97.5064,97.5038,97.5012,97.4986,97.496, 97.4933,97.4907,97.4881,97.4854,97.4815 ,97.4788,97.4761,97.4734,97.4694, 97.4667,97.4641,97.4601,97.4573,97.4546 ,97.4519,97.4492,97.4465,97.4438, 97.4412,97.4384,97.4357,97.4329,97.4301 ,97.4258,97.4189,97.4104,97.4046, 97.3987,97.3972,97.3765)
ORBIT_NUMBER = 13734
ORBITAL_ECCENTRICITY = 0.573
ORBITAL_INCLINATION = 86.91
ORBITAL_SEMIMAJOR_AXIS = 8806.27
PERIAPSIS_ALTITUDE = 373.67
PERIAPSIS_ARGUMENT_ANGLE = 130.87
PERIAPSIS_TIME = 2014-10-27T01:08:13.000Z
SPACECRAFT_ORIENTATION = (0.0,-1.0,0.0)
^MEX_ORIENTATION_DESC = "MEX_ORIENTATION_DESC.TXT"
SPACECRAFT_POINTING_MODE = NADIR
^MEX_POINTING_DESC = "MEX_POINTING_DESC.TXT"
RIGHT_ASCENSION = -1e+32
DECLINATION = -1e+32
OFFSET_ANGLE = -1e+32
SPACECRAFT_SOLAR_DISTANCE = 2.08895e+08
TARGET_NAME = MARS
/* CAMERA DATA ELEMENTS */
DETECTOR_TEMPERATURE = 19.5939
FOCAL_PLANE_TEMPERATURE = 10.0106
INST_CMPRS_NAME = "DISCRETE COSINE TRANSFORMATION (DCT)"
INST_CMPRS_RATIO = 11.4746
INST_CMPRS_QUALITY = 0
INST_CMPRS_QUANTZ_TBL_ID = 0
INSTRUMENT_TEMPERATURE = 12.2535
LENS_TEMPERATURE = 10.6223
MACROPIXEL_SIZE = 4
MISSING_FRAMES = 0
PIXEL_SUBSAMPLING_FLAG = N
SIGNAL_CHAIN_ID = 3
/* RADIOMETRIC DATA ELEMENTS */
BANDWIDTH = 177.0
CENTER_FILTER_WAVELENGTH = 676.5
RADIANCE_OFFSET = 4.25791
RADIANCE_SCALING_FACTOR = 0.0117866
REFLECTANCE_SCALING_FACTOR = 0.00027271
MEX:REFLECTANCE_OFFSET = 0.0985164
/* IMAGE OBJECT DEFINITIONS */
OBJECT = IMAGE
  INTERCHANGE_FORMAT = BINARY
  LINES = 11489
  LINE_SAMPLES = 2181
  SAMPLE_TYPE = UNSIGNED_INTEGER
  SAMPLE_BITS = 8
  BANDS = 1
  BAND_STORAGE_TYPE = BAND_SEQUENTIAL
  MAXIMUM = 255
  MEAN = 127.483
  MINIMUM = 1
  STANDARD_DEVIATION = 63.9949
END_OBJECT = IMAGE
/* MAP OBJECT DEFINITIONS */
OBJECT = IMAGE_MAP_PROJECTION
  ^DATA_SET_MAP_PROJECTION_CATALOG= "DSMAP.CAT"
  A_AXIS_RADIUS = 3396.0
  B_AXIS_RADIUS = 3396.0
  C_AXIS_RADIUS = 3396.0
  CENTER_LATITUDE = 0.0
  CENTER_LONGITUDE = 96.0
  COORDINATE_SYSTEM_NAME = PLANETOGRAPHIC
  COORDINATE_SYSTEM_TYPE = "BODY-FIXED ROTATING"
  EASTERNMOST_LONGITUDE = 97.53270000000001
  FIRST_STANDARD_PARALLEL = "N/A"
  LINE_FIRST_PIXEL = 1
  LINE_LAST_PIXEL = 11489
  LINE_PROJECTION_OFFSET = 37555.125
  MAP_PROJECTION_ROTATION = 0.0
  MAP_PROJECTION_TYPE = SINUSOIDAL
  MAP_RESOLUTION = 1185.42760773333
  MAP_SCALE = 0.05
  MAXIMUM_LATITUDE = 31.677
  MINIMUM_LATITUDE = 21.9949
  POSITIVE_LONGITUDE_DIRECTION = EAST
  REFERENCE_LATITUDE = "N/A"
  REFERENCE_LONGITUDE = "N/A"
  SAMPLE_FIRST_PIXEL = 1
  SAMPLE_LAST_PIXEL = 2181
  SAMPLE_PROJECTION_OFFSET = 558.125
  SECOND_STANDARD_PARALLEL = "N/A"
  WESTERNMOST_LONGITUDE = 95.4453
END_OBJECT = IMAGE_MAP_PROJECTION
END
