PDS_VERSION_ID = PDS3
/* FILE DATA ELEMENTS */
RECORD_TYPE = UNDEFINED
/* POINTERS TO DATA OBJECTS */
^IMAGE = ("HD729_0000_ND4.TIF")
/* IDENTIFICATION DATA ELEMENTS */
DATA_SET_ID = "MEX-M-HRSC-4-REFDR-MAPPROJECT-EXT4-V4.0"
DATA_SET_NAME = "MARS EXPRESS HRSC MAP PROJECTED REFDR EXTENSION4 V4.0"
DETECTOR_ID = MEX_HRSC_NADIR
EVENT_TYPE = "MARS-REGIONAL-STEREO-Vo-Te"
INSTRUMENT_HOST_ID = MEX
INSTRUMENT_HOST_NAME = "MARS EXPRESS"
INSTRUMENT_ID = HRSC
INSTRUMENT_NAME = "HIGH RESOLUTION STEREO CAMERA"
MISSION_NAME = "MARS EXPRESS"
MISSION_PHASE_NAME = ME_Phase_31
PROCESSING_LEVEL_ID = 4
PRODUCT_CREATION_TIME = 2023-02-01T02:09:17.000Z
PRODUCT_ID = "HD729_0000_ND4.TIF"
RELEASE_ID = 0005
REVISION_ID = 0000
/* QUALITY DATA ELEMENTS */
DATA_QUALITY_ID = 1
DATA_QUALITY_DESC = "Data calculated based on original SPICE kernels"
/* TIME DATA ELEMENTS */
SPACECRAFT_CLOCK_START_COUNT = "1/0362326366.09056"
SPACECRAFT_CLOCK_STOP_COUNT = "1/0362326577.00502"
START_TIME = 2014-10-25T14:13:27.836Z
STOP_TIME = 2014-10-25T14:15:35.835Z
/* ORBITAL DATA ELEMENTS */
ASCENDING_NODE_LONGITUDE = 315.96
MAXIMUM_RESOLUTION = 0.0155 <m/pixel>
FOOTPRINT_POINT_LATITUDE = (37.4514,37.4528,37.4531,37.4528, 37.4518,37.4502,37.448,37.4478,37.4475, 37.1353,36.8233,36.5116,36.2002,35.8889 ,35.578,35.2673,34.9568,34.7978,34.6386 ,34.4795,34.3204,34.1614,34.0025, 33.8437,33.5263,33.2092,33.0482,32.8857 ,32.7233,32.561,32.3988,32.2367,32.0746 ,31.9127,31.7509,31.5891,31.3411, 31.1755,31.01,30.8445,30.6792,30.514, 30.3489,30.1839,30.0157,29.8468,29.6781 ,29.5094,29.4251,29.4029,29.403,29.4025 ,29.4017,29.3995,29.3974,29.3942,29.394 ,29.3941,29.563,29.7319,29.901,30.1546, 30.3198,30.4852,30.6507,30.8162,30.9819 ,31.1477,31.3965,31.5625,31.7245, 31.8865,32.0487,32.211,32.3734,32.5358, 32.6984,32.861,33.0237,33.1855,33.3442, 33.5031,33.662,33.8209,33.98,34.1391, 34.2984,34.4577,34.617,34.7765,35.014, 35.3249,35.6362,35.9477,36.2594,36.5715 ,36.8837,37.3526,37.4308,37.4514)
FOOTPRINT_POINT_LONGITUDE = (250.075,249.713,249.428,249.147,248.87 ,248.597,248.327,248.31,248.303,248.304 ,248.305,248.306,248.307,248.307, 248.307,248.307,248.306,248.305,248.305 ,248.304,248.304,248.303,248.302, 248.302,248.3,248.298,248.297,248.295, 248.294,248.293,248.292,248.29,248.289, 248.287,248.286,248.284,248.281,248.279 ,248.277,248.275,248.273,248.271, 248.269,248.267,248.265,248.262,248.26, 248.257,248.255,248.255,248.566,248.844 ,249.111,249.469,249.723,250.037, 250.056,250.065,250.065,250.066,250.067 ,250.067,250.069,250.07,250.071,250.072 ,250.073,250.073,250.074,250.074, 250.075,250.075,250.076,250.076,250.077 ,250.077,250.078,250.078,250.078, 250.079,250.079,250.079,250.079,250.079 ,250.08,250.08,250.08,250.08,250.08, 250.08,250.08,250.08,250.081,250.082, 250.083,250.083,250.081,250.079,250.079 ,250.075)
ORBIT_NUMBER = 13729
ORBITAL_ECCENTRICITY = 0.573
ORBITAL_INCLINATION = 86.91
ORBITAL_SEMIMAJOR_AXIS = 8806.65
PERIAPSIS_ALTITUDE = 373.37
PERIAPSIS_ARGUMENT_ANGLE = 131.72
PERIAPSIS_TIME = 2014-10-25T14:10:40.000Z
SPACECRAFT_ORIENTATION = (0.0,-1.0,0.0)
^MEX_ORIENTATION_DESC = "MEX_ORIENTATION_DESC.TXT"
SPACECRAFT_POINTING_MODE = ACROSSTRACK
^MEX_POINTING_DESC = "MEX_POINTING_DESC.TXT"
RIGHT_ASCENSION = -1e+32
DECLINATION = -1e+32
OFFSET_ANGLE = 1.2
SPACECRAFT_SOLAR_DISTANCE = 2.09036e+08
TARGET_NAME = MARS
/* CAMERA DATA ELEMENTS */
DETECTOR_TEMPERATURE = 18.9822 <degC>
FOCAL_PLANE_TEMPERATURE = 10.4184 <degC>
INST_CMPRS_NAME = "DISCRETE COSINE TRANSFORMATION (DCT)"
INST_CMPRS_RATIO = 5.1845
INST_CMPRS_QUALITY = 0
INST_CMPRS_QUANTZ_TBL_ID = 0
INSTRUMENT_TEMPERATURE = 12.8652 <degC>
LENS_TEMPERATURE = 10.8262 <degC>
MACROPIXEL_SIZE = 1
MISSING_FRAMES = 0
PIXEL_SUBSAMPLING_FLAG = N
SIGNAL_CHAIN_ID = 0
/* RADIOMETRIC DATA ELEMENTS */
BANDWIDTH = 177.0 <nm>
CENTER_FILTER_WAVELENGTH = 677.5 <nm>
RADIANCE_OFFSET = 2.44948 <W*m**-2*sr**-1>
RADIANCE_SCALING_FACTOR = 0.0210754 <W*m**-2*sr**-1>
REFLECTANCE_SCALING_FACTOR = 0.000489217
MEX:REFLECTANCE_OFFSET = 0.0568589
/* IMAGE OBJECT DEFINITIONS */
OBJECT = IMAGE
  INTERCHANGE_FORMAT = BINARY
  LINES = 38215
  LINE_SAMPLES = 7481
  SAMPLE_TYPE = UNSIGNED_INTEGER
  SAMPLE_BITS = 8
  BANDS = 1
  BAND_STORAGE_TYPE = BAND_SEQUENTIAL
  MAXIMUM = 255
  MEAN = 112.609
  MINIMUM = 1
  STANDARD_DEVIATION = 25.7268
END_OBJECT = IMAGE
/* MAP OBJECT DEFINITIONS */
OBJECT = IMAGE_MAP_PROJECTION
  ^DATA_SET_MAP_PROJECTION_CATALOG= "DSMAP.CAT"
  A_AXIS_RADIUS = 3396.0 <km>
  B_AXIS_RADIUS = 3396.0 <km>
  C_AXIS_RADIUS = 3396.0 <km>
  CENTER_LATITUDE = 0.0
  CENTER_LONGITUDE = 249.0
  COORDINATE_SYSTEM_NAME = PLANETOGRAPHIC
  COORDINATE_SYSTEM_TYPE = "BODY-FIXED ROTATING"
  EASTERNMOST_LONGITUDE = 250.083
  FIRST_STANDARD_PARALLEL = "N/A"
  LINE_FIRST_PIXEL = 1
  LINE_LAST_PIXEL = 38215
  LINE_PROJECTION_OFFSET = 177592.0
  MAP_PROJECTION_ROTATION = 0.0
  MAP_PROJECTION_TYPE = SINUSOIDAL
  MAP_RESOLUTION = 4741.71043093333 <pixel/degree>
  MAP_SCALE = 0.0125 <km/pixel>
  MAXIMUM_LATITUDE = 37.4531
  MINIMUM_LATITUDE = 29.394
  POSITIVE_LONGITUDE_DIRECTION = EAST
  REFERENCE_LATITUDE = "N/A"
  REFERENCE_LONGITUDE = "N/A"
  SAMPLE_FIRST_PIXEL = 1
  SAMPLE_LAST_PIXEL = 7481
  SAMPLE_PROJECTION_OFFSET = 3077.0
  SECOND_STANDARD_PARALLEL = "N/A"
  WESTERNMOST_LONGITUDE = 248.255
END_OBJECT = IMAGE_MAP_PROJECTION
END
