PDS_VERSION_ID = PDS3
/* FILE DATA ELEMENTS */
RECORD_TYPE = UNDEFINED
/* POINTERS TO DATA OBJECTS */
^IMAGE = ("HD711_0071_SR4.TIF")
/* IDENTIFICATION DATA ELEMENTS */
DATA_SET_ID = "MEX-M-HRSC-4-REFDR-MAPPROJECT-EXT4-V4.0"
DATA_SET_NAME = "MARS EXPRESS HRSC MAP PROJECTED REFDR EXTENSION4 V4.0"
DETECTOR_ID = MEX_HRSC_SRC
EVENT_TYPE = "MARS-AURORA-SYSTEMTEST-Ot"
INSTRUMENT_HOST_ID = MEX
INSTRUMENT_HOST_NAME = "MARS EXPRESS"
INSTRUMENT_ID = HRSC
INSTRUMENT_NAME = "HIGH RESOLUTION STEREO CAMERA"
MISSION_NAME = "MARS EXPRESS"
MISSION_PHASE_NAME = ME_Phase_31
PROCESSING_LEVEL_ID = 4
PRODUCT_CREATION_TIME = 2023-02-01T02:09:17.000Z
PRODUCT_ID = "HD711_0071_SR4.TIF"
RELEASE_ID = 0005
REVISION_ID = 0000
/* QUALITY DATA ELEMENTS */
DATA_QUALITY_ID = 1
DATA_QUALITY_DESC = "Data calculated based on original SPICE kernels"
/* TIME DATA ELEMENTS */
SPACECRAFT_CLOCK_START_COUNT = "1/0361865561.07330"
SPACECRAFT_CLOCK_STOP_COUNT = "1/0361865664.13636"
IMAGE_TIME = 2014-10-20T06:13:25.638Z
START_TIME = 2014-10-20T06:13:25.380Z
STOP_TIME = 2014-10-20T06:13:25.896Z
/* ORBITAL DATA ELEMENTS */
ASCENDING_NODE_LONGITUDE = 316.29
MAXIMUM_RESOLUTION = 0.08934
FOOTPRINT_POINT_LATITUDE = (17.9106,17.7911,17.7249,17.6545, 17.5843,17.5143,17.4538,17.353,17.2836, 17.2143,17.1451,17.0265,16.9578,16.8893 ,16.7875,16.7128,16.6448,16.577,16.5094 ,16.4419,16.329,16.2619,16.1698,16.1031 ,16.0145,15.9482,15.882,15.8159,15.7547 ,15.7527,15.7518,15.6456,15.5752, 15.5046,15.4347,15.381,15.2944,15.2252, 15.1563,15.0953,15.0166,14.9485,14.8807 ,14.8722,14.8671,14.9322,14.9974, 15.0923,15.1578,15.2235,15.2893,15.3553 ,15.463,15.5293,15.5958,15.6625,15.7686 ,15.8357,15.9029,15.9702,16.0455,16.104 ,16.1718,16.2398,16.3079,16.3762, 16.4414,16.51,16.6173,16.6864,16.7809, 16.8504,16.92,16.9898,16.992,16.9928, 17.0278,17.0629,17.1175,17.1528,17.1881 ,17.2235,17.2589,17.2945,17.3301, 17.3664,17.4021,17.4568,17.4927,17.5286 ,17.5941,17.6303,17.6666,17.7029, 17.7393,17.7948,17.8317,17.8959,17.9051 ,17.9106)
FOOTPRINT_POINT_LONGITUDE = (125.984,126.049,126.084,126.123, 126.161,126.199,126.231,126.286,126.324 ,126.361,126.398,126.462,126.499, 126.536,126.591,126.631,126.668,126.704 ,126.741,126.777,126.838,126.874, 126.923,126.959,127.006,127.042,127.077 ,127.113,127.145,127.146,127.145, 126.989,126.884,126.78,126.675,126.598, 126.467,126.362,126.258,126.167,126.05, 125.945,125.84,125.827,125.819,125.783, 125.747,125.695,125.659,125.623,125.586 ,125.55,125.49,125.454,125.417,125.38, 125.321,125.284,125.246,125.209,125.167 ,125.135,125.097,125.059,125.021, 124.983,124.947,124.909,124.849,124.81, 124.757,124.719,124.68,124.641,124.639, 124.641,124.694,124.747,124.826,124.879 ,124.932,124.985,125.038,125.091, 125.144,125.197,125.25,125.329,125.382, 125.435,125.527,125.579,125.632,125.685 ,125.738,125.817,125.87,125.963,125.976 ,125.984)
ORBIT_NUMBER = 13711
ORBITAL_ECCENTRICITY = 0.573
ORBITAL_INCLINATION = 86.9
ORBITAL_SEMIMAJOR_AXIS = 8808.88
PERIAPSIS_ALTITUDE = 371.83
PERIAPSIS_ARGUMENT_ANGLE = 134.88
PERIAPSIS_TIME = 2014-10-20T08:19:49.000Z
SPACECRAFT_ORIENTATION = (0.0,-1.0,0.0)
^MEX_ORIENTATION_DESC = "MEX_ORIENTATION_DESC.TXT"
SPACECRAFT_POINTING_MODE = INERT
^MEX_POINTING_DESC = "MEX_POINTING_DESC.TXT"
RIGHT_ASCENSION = 49.589
DECLINATION = -61.065
OFFSET_ANGLE = -1e+32
SPACECRAFT_SOLAR_DISTANCE = 2.09576e+08
TARGET_NAME = MARS
/* CAMERA DATA ELEMENTS */
BUFFER_MODE_ID = DIRECT
EXPOSURE_DURATION = 516.096
INST_CMPRS_NAME = NONE
INST_CMPRS_RATIO = 1.0
INST_CMPRS_QUALITY = -2147483648
INST_CMPRS_QUANTZ_TBL_ID = -2147483648
INSTRUMENT_TEMPERATURE = 9.59832
MISSING_FRAMES = 0
START_BIT = 0
/* RADIOMETRIC DATA ELEMENTS */
BANDWIDTH = 250.0
CENTER_FILTER_WAVELENGTH = 600.0
RADIANCE_OFFSET = -9.99e+31
RADIANCE_SCALING_FACTOR = -9.99e+31
REFLECTANCE_SCALING_FACTOR = -9.99e+31
MEX:REFLECTANCE_OFFSET = -9.99e+31
/* IMAGE OBJECT DEFINITIONS */
OBJECT = IMAGE
  INTERCHANGE_FORMAT = BINARY
  LINES = 2294
  LINE_SAMPLES = 1823
  SAMPLE_TYPE = UNSIGNED_INTEGER
  SAMPLE_BITS = 8
  BANDS = 1
  BAND_STORAGE_TYPE = BAND_SEQUENTIAL
  MAXIMUM = 213
  MEAN = 18.0893
  MINIMUM = 1
  STANDARD_DEVIATION = 4.07381
END_OBJECT = IMAGE
/* MAP OBJECT DEFINITIONS */
OBJECT = IMAGE_MAP_PROJECTION
  ^DATA_SET_MAP_PROJECTION_CATALOG= "DSMAP.CAT"
  A_AXIS_RADIUS = 3396.19
  B_AXIS_RADIUS = 3396.19
  C_AXIS_RADIUS = 3396.19
  CENTER_LATITUDE = 0.0
  CENTER_LONGITUDE = 126.0
  COORDINATE_SYSTEM_NAME = PLANETOGRAPHIC
  COORDINATE_SYSTEM_TYPE = "BODY-FIXED ROTATING"
  EASTERNMOST_LONGITUDE = 127.146
  FIRST_STANDARD_PARALLEL = "N/A"
  LINE_FIRST_PIXEL = 1
  LINE_LAST_PIXEL = 2294
  LINE_PROJECTION_OFFSET = 13302.0
  MAP_PROJECTION_ROTATION = 0.0
  MAP_PROJECTION_TYPE = SINUSOIDAL
  MAP_RESOLUTION = 740.9337064023611
  MAP_SCALE = 0.08
  MAXIMUM_LATITUDE = 17.9106
  MINIMUM_LATITUDE = 14.8671
  POSITIVE_LONGITUDE_DIRECTION = EAST
  REFERENCE_LATITUDE = "N/A"
  REFERENCE_LONGITUDE = "N/A"
  SAMPLE_FIRST_PIXEL = 1
  SAMPLE_LAST_PIXEL = 1823
  SAMPLE_PROJECTION_OFFSET = 990.0
  SECOND_STANDARD_PARALLEL = "N/A"
  WESTERNMOST_LONGITUDE = 124.639
END_OBJECT = IMAGE_MAP_PROJECTION
END
