PDS_VERSION_ID = PDS3
/* FILE DATA ELEMENTS */
RECORD_TYPE = UNDEFINED
/* POINTERS TO DATA OBJECTS */
^IMAGE = ("HD711_0066_SR4.TIF")
/* IDENTIFICATION DATA ELEMENTS */
DATA_SET_ID = "MEX-M-HRSC-4-REFDR-MAPPROJECT-EXT4-V4.0"
DATA_SET_NAME = "MARS EXPRESS HRSC MAP PROJECTED REFDR EXTENSION4 V4.0"
DETECTOR_ID = MEX_HRSC_SRC
EVENT_TYPE = "MARS-AURORA-SYSTEMTEST-Ot"
INSTRUMENT_HOST_ID = MEX
INSTRUMENT_HOST_NAME = "MARS EXPRESS"
INSTRUMENT_ID = HRSC
INSTRUMENT_NAME = "HIGH RESOLUTION STEREO CAMERA"
MISSION_NAME = "MARS EXPRESS"
MISSION_PHASE_NAME = ME_Phase_31
PROCESSING_LEVEL_ID = 4
PRODUCT_CREATION_TIME = 2023-02-01T02:09:17.000Z
PRODUCT_ID = "HD711_0066_SR4.TIF"
RELEASE_ID = 0005
REVISION_ID = 0000
/* QUALITY DATA ELEMENTS */
DATA_QUALITY_ID = 1
DATA_QUALITY_DESC = "Data calculated based on original SPICE kernels"
/* TIME DATA ELEMENTS */
SPACECRAFT_CLOCK_START_COUNT = "1/0361865561.07330"
SPACECRAFT_CLOCK_STOP_COUNT = "1/0361865664.13636"
IMAGE_TIME = 2014-10-20T06:13:22.912Z
START_TIME = 2014-10-20T06:13:22.654Z
STOP_TIME = 2014-10-20T06:13:23.171Z
/* ORBITAL DATA ELEMENTS */
ASCENDING_NODE_LONGITUDE = 316.29
MAXIMUM_RESOLUTION = 0.089334
FOOTPRINT_POINT_LATITUDE = (17.831,17.7537,17.6831,17.6128,17.5426 ,17.4726,17.3963,17.3266,17.2572, 17.1878,17.1187,17.0452,16.9764,16.9078 ,16.8393,16.7802,16.7119,16.6438,16.576 ,16.5083,16.4407,16.3466,16.2794, 16.2124,16.1037,16.0317,15.9652,15.8989 ,15.8327,15.7667,15.6788,15.6767, 15.6759,15.6316,15.5611,15.4908,15.429, 15.3317,15.2623,15.1673,15.0985,15.0365 ,14.9418,14.8737,14.806,14.7976,14.7925 ,14.8574,14.9225,14.9878,15.093,15.1586 ,15.2244,15.2903,15.3513,15.4309, 15.4972,15.5637,15.6304,15.6972,15.768, 15.8351,15.9023,15.9606,16.0282,16.1036 ,16.1715,16.2396,16.3078,16.3761, 16.4414,16.5101,16.5679,16.6369,16.7061 ,16.7791,16.8486,16.9118,16.9139, 16.9148,16.9848,17.0465,17.1186,17.1893 ,17.2789,17.3503,17.3861,17.4219, 17.4588,17.5061,17.5422,17.5784,17.6146 ,17.651,17.6873,17.741,17.7775,17.8164, 17.8255,17.831)
FOOTPRINT_POINT_LONGITUDE = (126.0,126.041,126.08,126.118,126.156, 126.194,126.235,126.273,126.31,126.348, 126.385,126.425,126.462,126.499,126.536 ,126.568,126.604,126.641,126.678, 126.714,126.75,126.801,126.837,126.873, 126.931,126.97,127.006,127.041,127.077, 127.112,127.159,127.16,127.159,127.094, 126.989,126.885,126.794,126.65,126.546, 126.402,126.298,126.207,126.063,125.959 ,125.854,125.841,125.833,125.797, 125.761,125.725,125.667,125.631,125.595 ,125.558,125.524,125.48,125.444,125.407 ,125.37,125.333,125.294,125.256,125.219 ,125.187,125.149,125.107,125.069, 125.032,124.994,124.955,124.919,124.881 ,124.848,124.81,124.771,124.731,124.692 ,124.656,124.655,124.656,124.763, 124.855,124.961,125.067,125.199,125.305 ,125.358,125.411,125.464,125.529, 125.582,125.635,125.688,125.741,125.794 ,125.874,125.927,125.979,125.992,126.0)
ORBIT_NUMBER = 13711
ORBITAL_ECCENTRICITY = 0.573
ORBITAL_INCLINATION = 86.9
ORBITAL_SEMIMAJOR_AXIS = 8808.88
PERIAPSIS_ALTITUDE = 371.83
PERIAPSIS_ARGUMENT_ANGLE = 134.88
PERIAPSIS_TIME = 2014-10-20T08:19:49.000Z
SPACECRAFT_ORIENTATION = (0.0,-1.0,0.0)
^MEX_ORIENTATION_DESC = "MEX_ORIENTATION_DESC.TXT"
SPACECRAFT_POINTING_MODE = INERT
^MEX_POINTING_DESC = "MEX_POINTING_DESC.TXT"
RIGHT_ASCENSION = 49.589
DECLINATION = -61.065
OFFSET_ANGLE = -1e+32
SPACECRAFT_SOLAR_DISTANCE = 2.09576e+08
TARGET_NAME = MARS
/* CAMERA DATA ELEMENTS */
BUFFER_MODE_ID = DIRECT
EXPOSURE_DURATION = 516.096
INST_CMPRS_NAME = NONE
INST_CMPRS_RATIO = 1.0
INST_CMPRS_QUALITY = -2147483648
INST_CMPRS_QUANTZ_TBL_ID = -2147483648
INSTRUMENT_TEMPERATURE = 9.53381
MISSING_FRAMES = 0
START_BIT = 0
/* RADIOMETRIC DATA ELEMENTS */
BANDWIDTH = 250.0
CENTER_FILTER_WAVELENGTH = 600.0
RADIANCE_OFFSET = -9.99e+31
RADIANCE_SCALING_FACTOR = -9.99e+31
REFLECTANCE_SCALING_FACTOR = -9.99e+31
MEX:REFLECTANCE_OFFSET = -9.99e+31
/* IMAGE OBJECT DEFINITIONS */
OBJECT = IMAGE
  INTERCHANGE_FORMAT = BINARY
  LINES = 2291
  LINE_SAMPLES = 1823
  SAMPLE_TYPE = UNSIGNED_INTEGER
  SAMPLE_BITS = 8
  BANDS = 1
  BAND_STORAGE_TYPE = BAND_SEQUENTIAL
  MAXIMUM = 233
  MEAN = 18.1876
  MINIMUM = 2
  STANDARD_DEVIATION = 4.07433
END_OBJECT = IMAGE
/* MAP OBJECT DEFINITIONS */
OBJECT = IMAGE_MAP_PROJECTION
  ^DATA_SET_MAP_PROJECTION_CATALOG= "DSMAP.CAT"
  A_AXIS_RADIUS = 3396.19
  B_AXIS_RADIUS = 3396.19
  C_AXIS_RADIUS = 3396.19
  CENTER_LATITUDE = 0.0
  CENTER_LONGITUDE = 126.0
  COORDINATE_SYSTEM_NAME = PLANETOGRAPHIC
  COORDINATE_SYSTEM_TYPE = "BODY-FIXED ROTATING"
  EASTERNMOST_LONGITUDE = 127.16
  FIRST_STANDARD_PARALLEL = "N/A"
  LINE_FIRST_PIXEL = 1
  LINE_LAST_PIXEL = 2291
  LINE_PROJECTION_OFFSET = 13243.0
  MAP_PROJECTION_ROTATION = 0.0
  MAP_PROJECTION_TYPE = SINUSOIDAL
  MAP_RESOLUTION = 740.9337064023611
  MAP_SCALE = 0.08
  MAXIMUM_LATITUDE = 17.831
  MINIMUM_LATITUDE = 14.7925
  POSITIVE_LONGITUDE_DIRECTION = EAST
  REFERENCE_LATITUDE = "N/A"
  REFERENCE_LONGITUDE = "N/A"
  SAMPLE_FIRST_PIXEL = 1
  SAMPLE_LAST_PIXEL = 1823
  SAMPLE_PROJECTION_OFFSET = 980.0
  SECOND_STANDARD_PARALLEL = "N/A"
  WESTERNMOST_LONGITUDE = 124.655
END_OBJECT = IMAGE_MAP_PROJECTION
END
