PDS_VERSION_ID = PDS3
/* FILE DATA ELEMENTS */
RECORD_TYPE = UNDEFINED
/* POINTERS TO DATA OBJECTS */
^IMAGE = ("HD711_0048_SR4.TIF")
/* IDENTIFICATION DATA ELEMENTS */
DATA_SET_ID = "MEX-M-HRSC-4-REFDR-MAPPROJECT-EXT4-V4.0"
DATA_SET_NAME = "MARS EXPRESS HRSC MAP PROJECTED REFDR EXTENSION4 V4.0"
DETECTOR_ID = MEX_HRSC_SRC
EVENT_TYPE = "MARS-AURORA-SYSTEMTEST-Ot"
INSTRUMENT_HOST_ID = MEX
INSTRUMENT_HOST_NAME = "MARS EXPRESS"
INSTRUMENT_ID = HRSC
INSTRUMENT_NAME = "HIGH RESOLUTION STEREO CAMERA"
MISSION_NAME = "MARS EXPRESS"
MISSION_PHASE_NAME = ME_Phase_31
PROCESSING_LEVEL_ID = 4
PRODUCT_CREATION_TIME = 2023-02-01T02:09:17.000Z
PRODUCT_ID = "HD711_0048_SR4.TIF"
RELEASE_ID = 0005
REVISION_ID = 0000
/* QUALITY DATA ELEMENTS */
DATA_QUALITY_ID = 1
DATA_QUALITY_DESC = "Data calculated based on original SPICE kernels"
/* TIME DATA ELEMENTS */
SPACECRAFT_CLOCK_START_COUNT = "1/0361865561.07330"
SPACECRAFT_CLOCK_STOP_COUNT = "1/0361865664.13636"
IMAGE_TIME = 2014-10-20T06:13:13.102Z
START_TIME = 2014-10-20T06:13:12.844Z
STOP_TIME = 2014-10-20T06:13:13.360Z
/* ORBITAL DATA ELEMENTS */
ASCENDING_NODE_LONGITUDE = 316.29
MAXIMUM_RESOLUTION = 0.089311
FOOTPRINT_POINT_LATITUDE = (17.5436,17.4536,17.3502,17.2804, 17.1876,17.1182,17.0531,16.9841,16.9151 ,16.8464,16.7778,16.6564,16.5778, 16.5099,16.4421,16.3729,16.3055,16.2381 ,16.171,16.1039,16.0293,15.9669,15.9004 ,15.8339,15.7677,15.6589,15.593,15.5273 ,15.4617,15.4053,15.4033,15.4024, 15.3233,15.2532,15.1834,15.0958,15.0251 ,14.9561,14.8958,14.8273,14.759,14.6719 ,14.6042,14.5367,14.5282,14.5232, 14.6264,14.6912,14.7555,14.8206,14.8859 ,14.9512,15.0168,15.0917,15.1731, 15.2391,15.3053,15.3716,15.4307,15.4973 ,15.5641,15.631,15.698,15.769,15.8315, 15.899,15.9667,16.0345,16.1038,16.1719, 16.2402,16.3087,16.3874,16.4426,16.5116 ,16.6304,16.6326,16.6335,16.7294, 16.7834,16.8184,16.8535,16.8887,16.951, 16.9863,17.0218,17.0573,17.1213,17.1859 ,17.2218,17.2577,17.2936,17.3296, 17.3657,17.4104,17.4563,17.4926,17.5291 ,17.5382,17.5436)
FOOTPRINT_POINT_LONGITUDE = (126.057,126.105,126.161,126.199,126.25 ,126.287,126.322,126.359,126.397, 126.434,126.471,126.536,126.579,126.615 ,126.652,126.689,126.725,126.761, 126.798,126.834,126.874,126.907,126.943 ,126.979,127.014,127.072,127.108, 127.143,127.178,127.208,127.209,127.208 ,127.091,126.986,126.882,126.751, 126.648,126.543,126.452,126.347,126.243 ,126.113,126.008,125.903,125.89,125.882 ,125.826,125.79,125.754,125.719,125.682 ,125.646,125.61,125.569,125.524,125.487 ,125.45,125.414,125.381,125.344,125.307 ,125.27,125.233,125.194,125.159,125.121 ,125.084,125.046,125.007,124.969, 124.931,124.893,124.849,124.818,124.78, 124.713,124.712,124.713,124.859,124.938 ,124.991,125.044,125.097,125.19,125.243 ,125.296,125.349,125.441,125.533, 125.586,125.639,125.691,125.744,125.797 ,125.864,125.93,125.983,126.035,126.049 ,126.057)
ORBIT_NUMBER = 13711
ORBITAL_ECCENTRICITY = 0.573
ORBITAL_INCLINATION = 86.9
ORBITAL_SEMIMAJOR_AXIS = 8808.88
PERIAPSIS_ALTITUDE = 371.83
PERIAPSIS_ARGUMENT_ANGLE = 134.88
PERIAPSIS_TIME = 2014-10-20T08:19:49.000Z
SPACECRAFT_ORIENTATION = (0.0,-1.0,0.0)
^MEX_ORIENTATION_DESC = "MEX_ORIENTATION_DESC.TXT"
SPACECRAFT_POINTING_MODE = INERT
^MEX_POINTING_DESC = "MEX_POINTING_DESC.TXT"
RIGHT_ASCENSION = 49.589
DECLINATION = -61.065
OFFSET_ANGLE = -1e+32
SPACECRAFT_SOLAR_DISTANCE = 2.09576e+08
TARGET_NAME = MARS
/* CAMERA DATA ELEMENTS */
BUFFER_MODE_ID = DIRECT
EXPOSURE_DURATION = 516.096
INST_CMPRS_NAME = NONE
INST_CMPRS_RATIO = 1.0
INST_CMPRS_QUALITY = -2147483648
INST_CMPRS_QUANTZ_TBL_ID = -2147483648
INSTRUMENT_TEMPERATURE = 9.30156
MISSING_FRAMES = 0
START_BIT = 0
/* RADIOMETRIC DATA ELEMENTS */
BANDWIDTH = 250.0
CENTER_FILTER_WAVELENGTH = 600.0
RADIANCE_OFFSET = -9.99e+31
RADIANCE_SCALING_FACTOR = -9.99e+31
REFLECTANCE_SCALING_FACTOR = -9.99e+31
MEX:REFLECTANCE_OFFSET = -9.99e+31
/* IMAGE OBJECT DEFINITIONS */
OBJECT = IMAGE
  INTERCHANGE_FORMAT = BINARY
  LINES = 2277
  LINE_SAMPLES = 1820
  SAMPLE_TYPE = UNSIGNED_INTEGER
  SAMPLE_BITS = 8
  BANDS = 1
  BAND_STORAGE_TYPE = BAND_SEQUENTIAL
  MAXIMUM = 238
  MEAN = 16.8765
  MINIMUM = 1
  STANDARD_DEVIATION = 4.21078
END_OBJECT = IMAGE
/* MAP OBJECT DEFINITIONS */
OBJECT = IMAGE_MAP_PROJECTION
  ^DATA_SET_MAP_PROJECTION_CATALOG= "DSMAP.CAT"
  A_AXIS_RADIUS = 3396.19
  B_AXIS_RADIUS = 3396.19
  C_AXIS_RADIUS = 3396.19
  CENTER_LATITUDE = 0.0
  CENTER_LONGITUDE = 126.0
  COORDINATE_SYSTEM_NAME = PLANETOGRAPHIC
  COORDINATE_SYSTEM_TYPE = "BODY-FIXED ROTATING"
  EASTERNMOST_LONGITUDE = 127.209
  FIRST_STANDARD_PARALLEL = "N/A"
  LINE_FIRST_PIXEL = 1
  LINE_LAST_PIXEL = 2277
  LINE_PROJECTION_OFFSET = 13029.0
  MAP_PROJECTION_ROTATION = 0.0
  MAP_PROJECTION_TYPE = SINUSOIDAL
  MAP_RESOLUTION = 740.9337064023611
  MAP_SCALE = 0.08
  MAXIMUM_LATITUDE = 17.5436
  MINIMUM_LATITUDE = 14.5232
  POSITIVE_LONGITUDE_DIRECTION = EAST
  REFERENCE_LATITUDE = "N/A"
  REFERENCE_LONGITUDE = "N/A"
  SAMPLE_FIRST_PIXEL = 1
  SAMPLE_LAST_PIXEL = 1820
  SAMPLE_PROJECTION_OFFSET = 940.0
  SECOND_STANDARD_PARALLEL = "N/A"
  WESTERNMOST_LONGITUDE = 124.712
END_OBJECT = IMAGE_MAP_PROJECTION
END
