PDS_VERSION_ID = PDS3
/* FILE DATA ELEMENTS */
RECORD_TYPE = UNDEFINED
/* POINTERS TO DATA OBJECTS */
^IMAGE = ("HD711_0042_SR4.TIF")
/* IDENTIFICATION DATA ELEMENTS */
DATA_SET_ID = "MEX-M-HRSC-4-REFDR-MAPPROJECT-EXT4-V4.0"
DATA_SET_NAME = "MARS EXPRESS HRSC MAP PROJECTED REFDR EXTENSION4 V4.0"
DETECTOR_ID = MEX_HRSC_SRC
EVENT_TYPE = "MARS-AURORA-SYSTEMTEST-Ot"
INSTRUMENT_HOST_ID = MEX
INSTRUMENT_HOST_NAME = "MARS EXPRESS"
INSTRUMENT_ID = HRSC
INSTRUMENT_NAME = "HIGH RESOLUTION STEREO CAMERA"
MISSION_NAME = "MARS EXPRESS"
MISSION_PHASE_NAME = ME_Phase_31
PROCESSING_LEVEL_ID = 4
PRODUCT_CREATION_TIME = 2023-02-01T02:09:17.000Z
PRODUCT_ID = "HD711_0042_SR4.TIF"
RELEASE_ID = 0005
REVISION_ID = 0000
/* QUALITY DATA ELEMENTS */
DATA_QUALITY_ID = 1
DATA_QUALITY_DESC = "Data calculated based on original SPICE kernels"
/* TIME DATA ELEMENTS */
SPACECRAFT_CLOCK_START_COUNT = "1/0361865561.07330"
SPACECRAFT_CLOCK_STOP_COUNT = "1/0361865664.13636"
IMAGE_TIME = 2014-10-20T06:13:09.832Z
START_TIME = 2014-10-20T06:13:09.574Z
STOP_TIME = 2014-10-20T06:13:10.090Z
/* ORBITAL DATA ELEMENTS */
ASCENDING_NODE_LONGITUDE = 316.29
MAXIMUM_RESOLUTION = 0.089304
FOOTPRINT_POINT_LATITUDE = (17.4484,17.3607,17.2908,17.2211, 17.1522,17.0545,16.9853,16.9163,16.8475 ,16.7788,16.6637,16.5954,16.5084, 16.4406,16.3735,16.3059,16.2385,16.1712 ,16.1041,16.0357,15.9689,15.9003, 15.8338,15.7675,15.6937,15.6276,15.5618 ,15.496,15.4304,15.372,15.3153,15.3133, 15.3124,15.2505,15.1805,15.1107,15.0304 ,14.9612,14.8922,14.8233,14.7548, 14.7018,14.6337,14.5826,14.515,14.4476, 14.4392,14.4342,14.5029,14.5675,14.6323 ,14.6972,14.7555,14.8207,14.886,14.9515 ,15.0171,15.1303,15.1963,15.2625, 15.3288,15.4295,15.4961,15.5629,15.6299 ,15.697,15.8012,15.8687,15.9364,16.0042 ,16.1055,16.1737,16.2421,16.3271, 16.3958,16.477,16.5375,16.5397,16.5405, 16.6189,16.6886,16.7865,16.8486,16.8839 ,16.9192,16.9546,16.9901,17.0257,17.071 ,17.1187,17.1545,17.1904,17.2264, 17.2624,17.3069,17.3431,17.3793,17.4338 ,17.4429,17.4484)
FOOTPRINT_POINT_LONGITUDE = (126.075,126.123,126.161,126.199, 126.236,126.289,126.326,126.363,126.401 ,126.438,126.5,126.536,126.583,126.62, 126.656,126.692,126.729,126.765,126.801 ,126.838,126.874,126.91,126.946,126.982 ,127.021,127.057,127.092,127.127, 127.163,127.194,127.224,127.225,127.224 ,127.133,127.028,126.924,126.807, 126.703,126.598,126.494,126.39,126.312, 126.207,126.129,126.024,125.92,125.906, 125.899,125.861,125.825,125.789,125.754 ,125.722,125.686,125.649,125.613, 125.577,125.514,125.478,125.441,125.404 ,125.349,125.312,125.275,125.237,125.2, 125.142,125.105,125.067,125.029,124.973 ,124.935,124.897,124.849,124.811, 124.766,124.732,124.731,124.732,124.851 ,124.957,125.103,125.195,125.248, 125.301,125.354,125.407,125.46,125.526, 125.591,125.644,125.697,125.75,125.803, 125.869,125.922,125.975,126.054,126.067 ,126.075)
ORBIT_NUMBER = 13711
ORBITAL_ECCENTRICITY = 0.573
ORBITAL_INCLINATION = 86.9
ORBITAL_SEMIMAJOR_AXIS = 8808.88
PERIAPSIS_ALTITUDE = 371.83
PERIAPSIS_ARGUMENT_ANGLE = 134.88
PERIAPSIS_TIME = 2014-10-20T08:19:49.000Z
SPACECRAFT_ORIENTATION = (0.0,-1.0,0.0)
^MEX_ORIENTATION_DESC = "MEX_ORIENTATION_DESC.TXT"
SPACECRAFT_POINTING_MODE = INERT
^MEX_POINTING_DESC = "MEX_POINTING_DESC.TXT"
RIGHT_ASCENSION = 49.589
DECLINATION = -61.065
OFFSET_ANGLE = -1e+32
SPACECRAFT_SOLAR_DISTANCE = 2.09576e+08
TARGET_NAME = MARS
/* CAMERA DATA ELEMENTS */
BUFFER_MODE_ID = DIRECT
EXPOSURE_DURATION = 516.096
INST_CMPRS_NAME = NONE
INST_CMPRS_RATIO = 1.0
INST_CMPRS_QUALITY = -2147483648
INST_CMPRS_QUANTZ_TBL_ID = -2147483648
INSTRUMENT_TEMPERATURE = 9.22414
MISSING_FRAMES = 0
START_BIT = 0
/* RADIOMETRIC DATA ELEMENTS */
BANDWIDTH = 250.0
CENTER_FILTER_WAVELENGTH = 600.0
RADIANCE_OFFSET = -9.99e+31
RADIANCE_SCALING_FACTOR = -9.99e+31
REFLECTANCE_SCALING_FACTOR = -9.99e+31
MEX:REFLECTANCE_OFFSET = -9.99e+31
/* IMAGE OBJECT DEFINITIONS */
OBJECT = IMAGE
  INTERCHANGE_FORMAT = BINARY
  LINES = 2273
  LINE_SAMPLES = 1819
  SAMPLE_TYPE = UNSIGNED_INTEGER
  SAMPLE_BITS = 8
  BANDS = 1
  BAND_STORAGE_TYPE = BAND_SEQUENTIAL
  MAXIMUM = 232
  MEAN = 17.077
  MINIMUM = 1
  STANDARD_DEVIATION = 4.20614
END_OBJECT = IMAGE
/* MAP OBJECT DEFINITIONS */
OBJECT = IMAGE_MAP_PROJECTION
  ^DATA_SET_MAP_PROJECTION_CATALOG= "DSMAP.CAT"
  A_AXIS_RADIUS = 3396.19
  B_AXIS_RADIUS = 3396.19
  C_AXIS_RADIUS = 3396.19
  CENTER_LATITUDE = 0.0
  CENTER_LONGITUDE = 126.0
  COORDINATE_SYSTEM_NAME = PLANETOGRAPHIC
  COORDINATE_SYSTEM_TYPE = "BODY-FIXED ROTATING"
  EASTERNMOST_LONGITUDE = 127.225
  FIRST_STANDARD_PARALLEL = "N/A"
  LINE_FIRST_PIXEL = 1
  LINE_LAST_PIXEL = 2273
  LINE_PROJECTION_OFFSET = 12959.0
  MAP_PROJECTION_ROTATION = 0.0
  MAP_PROJECTION_TYPE = SINUSOIDAL
  MAP_RESOLUTION = 740.9337064023611
  MAP_SCALE = 0.08
  MAXIMUM_LATITUDE = 17.4484
  MINIMUM_LATITUDE = 14.4342
  POSITIVE_LONGITUDE_DIRECTION = EAST
  REFERENCE_LATITUDE = "N/A"
  REFERENCE_LONGITUDE = "N/A"
  SAMPLE_FIRST_PIXEL = 1
  SAMPLE_LAST_PIXEL = 1819
  SAMPLE_PROJECTION_OFFSET = 927.0
  SECOND_STANDARD_PARALLEL = "N/A"
  WESTERNMOST_LONGITUDE = 124.731
END_OBJECT = IMAGE_MAP_PROJECTION
END
