PDS_VERSION_ID = PDS3
/* FILE DATA ELEMENTS */
RECORD_TYPE = UNDEFINED
/* POINTERS TO DATA OBJECTS */
^IMAGE = ("HD711_0029_SR4.TIF")
/* IDENTIFICATION DATA ELEMENTS */
DATA_SET_ID = "MEX-M-HRSC-4-REFDR-MAPPROJECT-EXT4-V4.0"
DATA_SET_NAME = "MARS EXPRESS HRSC MAP PROJECTED REFDR EXTENSION4 V4.0"
DETECTOR_ID = MEX_HRSC_SRC
EVENT_TYPE = "MARS-AURORA-SYSTEMTEST-Ot"
INSTRUMENT_HOST_ID = MEX
INSTRUMENT_HOST_NAME = "MARS EXPRESS"
INSTRUMENT_ID = HRSC
INSTRUMENT_NAME = "HIGH RESOLUTION STEREO CAMERA"
MISSION_NAME = "MARS EXPRESS"
MISSION_PHASE_NAME = ME_Phase_31
PROCESSING_LEVEL_ID = 4
PRODUCT_CREATION_TIME = 2023-02-01T02:09:17.000Z
PRODUCT_ID = "HD711_0029_SR4.TIF"
RELEASE_ID = 0005
REVISION_ID = 0000
/* QUALITY DATA ELEMENTS */
DATA_QUALITY_ID = 1
DATA_QUALITY_DESC = "Data calculated based on original SPICE kernels"
/* TIME DATA ELEMENTS */
SPACECRAFT_CLOCK_START_COUNT = "1/0361865561.07330"
SPACECRAFT_CLOCK_STOP_COUNT = "1/0361865664.13636"
IMAGE_TIME = 2014-10-20T06:13:02.747Z
START_TIME = 2014-10-20T06:13:02.489Z
STOP_TIME = 2014-10-20T06:13:03.005Z
/* ORBITAL DATA ELEMENTS */
ASCENDING_NODE_LONGITUDE = 316.29
MAXIMUM_RESOLUTION = 0.089288
FOOTPRINT_POINT_LATITUDE = (17.2437,17.187,17.1173,17.0549,16.9855 ,16.9163,16.8473,16.7785,16.6694,16.601 ,16.5328,16.4647,16.3742,16.3064, 16.2389,16.1714,16.1042,16.0376,15.9707 ,15.9038,15.8372,15.7667,15.6947, 15.6285,15.5625,15.4966,15.4308,15.3395 ,15.274,15.2088,15.1197,15.1177,15.1168 ,15.0707,15.0009,14.9314,14.8621, 14.7583,14.7051,14.6366,14.5594,14.4914 ,14.4237,14.3213,14.2542,14.2458, 14.2408,14.305,14.3727,14.4836,14.5484, 14.6133,14.6783,14.7551,14.8204,14.8859 ,14.9833,15.0917,15.1577,15.224,15.2904 ,15.3569,15.4256,15.4893,15.593,15.6603 ,15.7676,15.8352,15.903,15.9709,16.039, 16.1043,16.1977,16.2664,16.3352,16.3373 ,16.3382,16.3907,16.4437,16.5133, 16.5482,16.5831,16.619,16.6541,16.6893, 16.7245,16.7786,16.8413,16.8768,16.9124 ,16.948,16.9837,17.0195,17.0554,17.0916 ,17.1569,17.193,17.2292,17.2383, 17.2437)
FOOTPRINT_POINT_LONGITUDE = (126.115,126.146,126.184,126.217, 126.255,126.292,126.33,126.367,126.426, 126.463,126.5,126.536,126.585,126.621, 126.658,126.694,126.73,126.766,126.802, 126.838,126.874,126.912,126.95,126.986, 127.021,127.057,127.092,127.141,127.176 ,127.211,127.259,127.26,127.259,127.194 ,127.09,126.986,126.881,126.725,126.647 ,126.543,126.425,126.321,126.216,126.06 ,125.955,125.942,125.934,125.898, 125.861,125.8,125.764,125.729,125.693, 125.65,125.614,125.578,125.524,125.464, 125.427,125.391,125.354,125.317,125.279 ,125.244,125.186,125.149,125.089, 125.051,125.014,124.976,124.938,124.902 ,124.849,124.811,124.773,124.771, 124.773,124.852,124.931,125.037,125.09, 125.143,125.196,125.249,125.302,125.355 ,125.434,125.526,125.579,125.632, 125.685,125.738,125.791,125.844,125.897 ,125.988,126.041,126.094,126.107, 126.115)
ORBIT_NUMBER = 13711
ORBITAL_ECCENTRICITY = 0.573
ORBITAL_INCLINATION = 86.9
ORBITAL_SEMIMAJOR_AXIS = 8808.88
PERIAPSIS_ALTITUDE = 371.83
PERIAPSIS_ARGUMENT_ANGLE = 134.88
PERIAPSIS_TIME = 2014-10-20T08:19:49.000Z
SPACECRAFT_ORIENTATION = (0.0,-1.0,0.0)
^MEX_ORIENTATION_DESC = "MEX_ORIENTATION_DESC.TXT"
SPACECRAFT_POINTING_MODE = INERT
^MEX_POINTING_DESC = "MEX_POINTING_DESC.TXT"
RIGHT_ASCENSION = 49.589
DECLINATION = -61.065
OFFSET_ANGLE = -1e+32
SPACECRAFT_SOLAR_DISTANCE = 2.09576e+08
TARGET_NAME = MARS
/* CAMERA DATA ELEMENTS */
BUFFER_MODE_ID = DIRECT
EXPOSURE_DURATION = 516.096
INST_CMPRS_NAME = NONE
INST_CMPRS_RATIO = 1.0
INST_CMPRS_QUALITY = -2147483648
INST_CMPRS_QUANTZ_TBL_ID = -2147483648
INSTRUMENT_TEMPERATURE = 9.0564
MISSING_FRAMES = 0
START_BIT = 0
/* RADIOMETRIC DATA ELEMENTS */
BANDWIDTH = 250.0
CENTER_FILTER_WAVELENGTH = 600.0
RADIANCE_OFFSET = -9.99e+31
RADIANCE_SCALING_FACTOR = -9.99e+31
REFLECTANCE_SCALING_FACTOR = -9.99e+31
MEX:REFLECTANCE_OFFSET = -9.99e+31
/* IMAGE OBJECT DEFINITIONS */
OBJECT = IMAGE
  INTERCHANGE_FORMAT = BINARY
  LINES = 2264
  LINE_SAMPLES = 1817
  SAMPLE_TYPE = UNSIGNED_INTEGER
  SAMPLE_BITS = 8
  BANDS = 1
  BAND_STORAGE_TYPE = BAND_SEQUENTIAL
  MAXIMUM = 221
  MEAN = 16.1491
  MINIMUM = 1
  STANDARD_DEVIATION = 4.10419
END_OBJECT = IMAGE
/* MAP OBJECT DEFINITIONS */
OBJECT = IMAGE_MAP_PROJECTION
  ^DATA_SET_MAP_PROJECTION_CATALOG= "DSMAP.CAT"
  A_AXIS_RADIUS = 3396.19
  B_AXIS_RADIUS = 3396.19
  C_AXIS_RADIUS = 3396.19
  CENTER_LATITUDE = 0.0
  CENTER_LONGITUDE = 126.0
  COORDINATE_SYSTEM_NAME = PLANETOGRAPHIC
  COORDINATE_SYSTEM_TYPE = "BODY-FIXED ROTATING"
  EASTERNMOST_LONGITUDE = 127.26
  FIRST_STANDARD_PARALLEL = "N/A"
  LINE_FIRST_PIXEL = 1
  LINE_LAST_PIXEL = 2264
  LINE_PROJECTION_OFFSET = 12806.0
  MAP_PROJECTION_ROTATION = 0.0
  MAP_PROJECTION_TYPE = SINUSOIDAL
  MAP_RESOLUTION = 740.9337064023611
  MAP_SCALE = 0.08
  MAXIMUM_LATITUDE = 17.2437
  MINIMUM_LATITUDE = 14.2408
  POSITIVE_LONGITUDE_DIRECTION = EAST
  REFERENCE_LATITUDE = "N/A"
  REFERENCE_LONGITUDE = "N/A"
  SAMPLE_FIRST_PIXEL = 1
  SAMPLE_LAST_PIXEL = 1817
  SAMPLE_PROJECTION_OFFSET = 899.0
  SECOND_STANDARD_PARALLEL = "N/A"
  WESTERNMOST_LONGITUDE = 124.771
END_OBJECT = IMAGE_MAP_PROJECTION
END
