PDS_VERSION_ID = PDS3
/* FILE DATA ELEMENTS */
RECORD_TYPE = UNDEFINED
/* POINTERS TO DATA OBJECTS */
^IMAGE = ("HD711_0026_SR4.TIF")
/* IDENTIFICATION DATA ELEMENTS */
DATA_SET_ID = "MEX-M-HRSC-4-REFDR-MAPPROJECT-EXT4-V4.0"
DATA_SET_NAME = "MARS EXPRESS HRSC MAP PROJECTED REFDR EXTENSION4 V4.0"
DETECTOR_ID = MEX_HRSC_SRC
EVENT_TYPE = "MARS-AURORA-SYSTEMTEST-Ot"
INSTRUMENT_HOST_ID = MEX
INSTRUMENT_HOST_NAME = "MARS EXPRESS"
INSTRUMENT_ID = HRSC
INSTRUMENT_NAME = "HIGH RESOLUTION STEREO CAMERA"
MISSION_NAME = "MARS EXPRESS"
MISSION_PHASE_NAME = ME_Phase_31
PROCESSING_LEVEL_ID = 4
PRODUCT_CREATION_TIME = 2023-02-01T02:09:17.000Z
PRODUCT_ID = "HD711_0026_SR4.TIF"
RELEASE_ID = 0005
REVISION_ID = 0000
/* QUALITY DATA ELEMENTS */
DATA_QUALITY_ID = 1
DATA_QUALITY_DESC = "Data calculated based on original SPICE kernels"
/* TIME DATA ELEMENTS */
SPACECRAFT_CLOCK_START_COUNT = "1/0361865561.07330"
SPACECRAFT_CLOCK_STOP_COUNT = "1/0361865664.13636"
IMAGE_TIME = 2014-10-20T06:13:01.112Z
START_TIME = 2014-10-20T06:13:00.854Z
STOP_TIME = 2014-10-20T06:13:01.370Z
/* ORBITAL DATA ELEMENTS */
ASCENDING_NODE_LONGITUDE = 316.29
MAXIMUM_RESOLUTION = 0.089285
FOOTPRINT_POINT_LATITUDE = (17.1966,17.0594,16.9863,16.9171,16.848 ,16.7791,16.7236,16.655,16.5866,16.5183 ,16.4502,16.3746,16.3068,16.2392, 16.1717,16.1044,16.0085,15.9415,15.8747 ,15.7667,15.6947,15.6285,15.5624, 15.4964,15.4306,15.3741,15.3085,15.2431 ,15.1779,15.0729,15.0709,15.07,14.9473, 14.8778,14.8086,14.7205,14.6519,14.5835 ,14.4894,14.4215,14.3702,14.2769, 14.2099,14.2015,14.1965,14.2607,14.3423 ,14.4189,14.4836,14.5484,14.6133, 14.6784,14.7552,14.8206,14.8861,14.9548 ,15.0206,15.092,15.1581,15.2244,15.2908 ,15.3574,15.4262,15.4898,15.5622, 15.6294,15.6967,15.7683,15.836,15.9038, 15.9718,16.0399,16.1053,16.1688,16.2889 ,16.2911,16.2919,16.3444,16.4137, 16.4495,16.4843,16.5192,16.5638,16.5988 ,16.6339,16.6691,16.7043,16.7396, 16.7946,16.83,16.8656,16.9012,16.9369, 16.9726,17.0177,17.0536,17.1189,17.1821 ,17.1912,17.1966)
FOOTPRINT_POINT_LONGITUDE = (126.124,126.198,126.238,126.276, 126.313,126.35,126.38,126.417,126.454, 126.491,126.528,126.568,126.605,126.641 ,126.678,126.714,126.766,126.802, 126.838,126.896,126.934,126.97,127.005, 127.041,127.076,127.106,127.141,127.176 ,127.211,127.268,127.269,127.267, 127.085,126.981,126.876,126.746,126.642 ,126.537,126.394,126.289,126.211, 126.068,125.963,125.95,125.942,125.907, 125.861,125.819,125.784,125.748,125.712 ,125.676,125.634,125.598,125.561, 125.523,125.487,125.447,125.411,125.374 ,125.337,125.3,125.262,125.227,125.187, 125.149,125.112,125.072,125.034,124.997 ,124.959,124.921,124.884,124.849, 124.782,124.781,124.782,124.861,124.967 ,125.02,125.073,125.126,125.192,125.245 ,125.298,125.351,125.404,125.457, 125.535,125.588,125.641,125.694,125.747 ,125.8,125.866,125.919,126.011,126.103, 126.116,126.124)
ORBIT_NUMBER = 13711
ORBITAL_ECCENTRICITY = 0.573
ORBITAL_INCLINATION = 86.9
ORBITAL_SEMIMAJOR_AXIS = 8808.88
PERIAPSIS_ALTITUDE = 371.83
PERIAPSIS_ARGUMENT_ANGLE = 134.88
PERIAPSIS_TIME = 2014-10-20T08:19:49.000Z
SPACECRAFT_ORIENTATION = (0.0,-1.0,0.0)
^MEX_ORIENTATION_DESC = "MEX_ORIENTATION_DESC.TXT"
SPACECRAFT_POINTING_MODE = INERT
^MEX_POINTING_DESC = "MEX_POINTING_DESC.TXT"
RIGHT_ASCENSION = 49.589
DECLINATION = -61.065
OFFSET_ANGLE = -1e+32
SPACECRAFT_SOLAR_DISTANCE = 2.09576e+08
TARGET_NAME = MARS
/* CAMERA DATA ELEMENTS */
BUFFER_MODE_ID = DIRECT
EXPOSURE_DURATION = 516.096
INST_CMPRS_NAME = NONE
INST_CMPRS_RATIO = 1.0
INST_CMPRS_QUALITY = -2147483648
INST_CMPRS_QUANTZ_TBL_ID = -2147483648
INSTRUMENT_TEMPERATURE = 9.01769
MISSING_FRAMES = 0
START_BIT = 0
/* RADIOMETRIC DATA ELEMENTS */
BANDWIDTH = 250.0
CENTER_FILTER_WAVELENGTH = 600.0
RADIANCE_OFFSET = -9.99e+31
RADIANCE_SCALING_FACTOR = -9.99e+31
REFLECTANCE_SCALING_FACTOR = -9.99e+31
MEX:REFLECTANCE_OFFSET = -9.99e+31
/* IMAGE OBJECT DEFINITIONS */
OBJECT = IMAGE
  INTERCHANGE_FORMAT = BINARY
  LINES = 2262
  LINE_SAMPLES = 1817
  SAMPLE_TYPE = UNSIGNED_INTEGER
  SAMPLE_BITS = 8
  BANDS = 1
  BAND_STORAGE_TYPE = BAND_SEQUENTIAL
  MAXIMUM = 242
  MEAN = 16.682
  MINIMUM = 1
  STANDARD_DEVIATION = 4.18821
END_OBJECT = IMAGE
/* MAP OBJECT DEFINITIONS */
OBJECT = IMAGE_MAP_PROJECTION
  ^DATA_SET_MAP_PROJECTION_CATALOG= "DSMAP.CAT"
  A_AXIS_RADIUS = 3396.19
  B_AXIS_RADIUS = 3396.19
  C_AXIS_RADIUS = 3396.19
  CENTER_LATITUDE = 0.0
  CENTER_LONGITUDE = 126.0
  COORDINATE_SYSTEM_NAME = PLANETOGRAPHIC
  COORDINATE_SYSTEM_TYPE = "BODY-FIXED ROTATING"
  EASTERNMOST_LONGITUDE = 127.269
  FIRST_STANDARD_PARALLEL = "N/A"
  LINE_FIRST_PIXEL = 1
  LINE_LAST_PIXEL = 2262
  LINE_PROJECTION_OFFSET = 12771.0
  MAP_PROJECTION_ROTATION = 0.0
  MAP_PROJECTION_TYPE = SINUSOIDAL
  MAP_RESOLUTION = 740.9337064023611
  MAP_SCALE = 0.08
  MAXIMUM_LATITUDE = 17.1966
  MINIMUM_LATITUDE = 14.1965
  POSITIVE_LONGITUDE_DIRECTION = EAST
  REFERENCE_LATITUDE = "N/A"
  REFERENCE_LONGITUDE = "N/A"
  SAMPLE_FIRST_PIXEL = 1
  SAMPLE_LAST_PIXEL = 1817
  SAMPLE_PROJECTION_OFFSET = 893.0
  SECOND_STANDARD_PARALLEL = "N/A"
  WESTERNMOST_LONGITUDE = 124.781
END_OBJECT = IMAGE_MAP_PROJECTION
END
