PDS_VERSION_ID = PDS3
/* FILE DATA ELEMENTS */
RECORD_TYPE = UNDEFINED
/* POINTERS TO DATA OBJECTS */
^IMAGE = ("HD711_0013_SR4.TIF")
/* IDENTIFICATION DATA ELEMENTS */
DATA_SET_ID = "MEX-M-HRSC-4-REFDR-MAPPROJECT-EXT4-V4.0"
DATA_SET_NAME = "MARS EXPRESS HRSC MAP PROJECTED REFDR EXTENSION4 V4.0"
DETECTOR_ID = MEX_HRSC_SRC
EVENT_TYPE = "MARS-AURORA-SYSTEMTEST-Ot"
INSTRUMENT_HOST_ID = MEX
INSTRUMENT_HOST_NAME = "MARS EXPRESS"
INSTRUMENT_ID = HRSC
INSTRUMENT_NAME = "HIGH RESOLUTION STEREO CAMERA"
MISSION_NAME = "MARS EXPRESS"
MISSION_PHASE_NAME = ME_Phase_31
PROCESSING_LEVEL_ID = 4
PRODUCT_CREATION_TIME = 2023-02-01T02:09:17.000Z
PRODUCT_ID = "HD711_0013_SR4.TIF"
RELEASE_ID = 0005
REVISION_ID = 0000
/* QUALITY DATA ELEMENTS */
DATA_QUALITY_ID = 1
DATA_QUALITY_DESC = "Data calculated based on original SPICE kernels"
/* TIME DATA ELEMENTS */
SPACECRAFT_CLOCK_START_COUNT = "1/0361865561.07330"
SPACECRAFT_CLOCK_STOP_COUNT = "1/0361865664.13636"
IMAGE_TIME = 2014-10-20T06:12:54.026Z
START_TIME = 2014-10-20T06:12:53.768Z
STOP_TIME = 2014-10-20T06:12:54.285Z
/* ORBITAL DATA ELEMENTS */
ASCENDING_NODE_LONGITUDE = 316.29
MAXIMUM_RESOLUTION = 0.08927
FOOTPRINT_POINT_LATITUDE = (16.9906,16.9277,16.8483,16.7792, 16.7171,16.6483,16.5798,16.5113,16.4431 ,16.3715,16.3036,16.24,16.1724,16.1049, 16.0339,15.9667,15.8997,15.8329,15.7661 ,15.7103,15.6277,15.5615,15.4953, 15.4294,15.3542,15.2885,15.223,15.1576, 15.0924,15.0078,14.9429,14.8781,14.8761 ,14.8752,14.823,14.7616,14.6991,14.6301 ,14.5613,14.4927,14.4245,14.3724, 14.2875,14.22,14.1526,14.085,14.0168, 14.0084,14.0034,14.0808,14.1449,14.2144 ,14.2788,14.3433,14.4181,14.4829, 14.5479,14.613,14.6782,14.7552,14.8238, 14.8895,14.9554,15.0214,15.0908,15.1571 ,15.2235,15.2901,15.3569,15.4259, 15.4887,15.5559,15.6233,15.6908,15.7668 ,15.8346,15.9026,15.9708,16.0875, 16.0897,16.0905,16.1356,16.2046,16.2739 ,16.3356,16.4053,16.4413,16.5114, 16.5649,16.6356,16.671,16.7065,16.742, 16.7788,16.8416,16.8774,16.9133,16.9762 ,16.9852,16.9906)
FOOTPRINT_POINT_LONGITUDE = (126.165,126.199,126.242,126.279, 126.313,126.35,126.387,126.424,126.461, 126.499,126.536,126.57,126.607,126.643, 126.681,126.718,126.754,126.79,126.826, 126.855,126.9,126.936,126.971,127.006, 127.047,127.082,127.117,127.152,127.187 ,127.232,127.267,127.302,127.303, 127.302,127.223,127.132,127.042,126.937 ,126.833,126.729,126.624,126.546, 126.416,126.311,126.206,126.102,125.998 ,125.985,125.977,125.935,125.899, 125.861,125.825,125.79,125.749,125.713, 125.677,125.641,125.605,125.562,125.524 ,125.488,125.451,125.415,125.376,125.34 ,125.303,125.266,125.229,125.19,125.156 ,125.118,125.081,125.043,125.001, 124.963,124.925,124.887,124.822,124.821 ,124.822,124.887,124.994,125.1,125.192, 125.298,125.351,125.457,125.536,125.642 ,125.695,125.747,125.8,125.853,125.945, 125.998,126.051,126.144,126.157, 126.165)
ORBIT_NUMBER = 13711
ORBITAL_ECCENTRICITY = 0.573
ORBITAL_INCLINATION = 86.9
ORBITAL_SEMIMAJOR_AXIS = 8808.88
PERIAPSIS_ALTITUDE = 371.83
PERIAPSIS_ARGUMENT_ANGLE = 134.88
PERIAPSIS_TIME = 2014-10-20T08:19:49.000Z
SPACECRAFT_ORIENTATION = (0.0,-1.0,0.0)
^MEX_ORIENTATION_DESC = "MEX_ORIENTATION_DESC.TXT"
SPACECRAFT_POINTING_MODE = INERT
^MEX_POINTING_DESC = "MEX_POINTING_DESC.TXT"
RIGHT_ASCENSION = 49.589
DECLINATION = -61.065
OFFSET_ANGLE = -1e+32
SPACECRAFT_SOLAR_DISTANCE = 2.09576e+08
TARGET_NAME = MARS
/* CAMERA DATA ELEMENTS */
BUFFER_MODE_ID = DIRECT
EXPOSURE_DURATION = 516.096
INST_CMPRS_NAME = NONE
INST_CMPRS_RATIO = 1.0
INST_CMPRS_QUALITY = -2147483648
INST_CMPRS_QUANTZ_TBL_ID = -2147483648
INSTRUMENT_TEMPERATURE = 8.84995
MISSING_FRAMES = 0
START_BIT = 0
/* RADIOMETRIC DATA ELEMENTS */
BANDWIDTH = 250.0
CENTER_FILTER_WAVELENGTH = 600.0
RADIANCE_OFFSET = -9.99e+31
RADIANCE_SCALING_FACTOR = -9.99e+31
REFLECTANCE_SCALING_FACTOR = -9.99e+31
MEX:REFLECTANCE_OFFSET = -9.99e+31
/* IMAGE OBJECT DEFINITIONS */
OBJECT = IMAGE
  INTERCHANGE_FORMAT = BINARY
  LINES = 2252
  LINE_SAMPLES = 1815
  SAMPLE_TYPE = UNSIGNED_INTEGER
  SAMPLE_BITS = 8
  BANDS = 1
  BAND_STORAGE_TYPE = BAND_SEQUENTIAL
  MAXIMUM = 235
  MEAN = 17.0035
  MINIMUM = 1
  STANDARD_DEVIATION = 4.25994
END_OBJECT = IMAGE
/* MAP OBJECT DEFINITIONS */
OBJECT = IMAGE_MAP_PROJECTION
  ^DATA_SET_MAP_PROJECTION_CATALOG= "DSMAP.CAT"
  A_AXIS_RADIUS = 3396.19
  B_AXIS_RADIUS = 3396.19
  C_AXIS_RADIUS = 3396.19
  CENTER_LATITUDE = 0.0
  CENTER_LONGITUDE = 126.0
  COORDINATE_SYSTEM_NAME = PLANETOGRAPHIC
  COORDINATE_SYSTEM_TYPE = "BODY-FIXED ROTATING"
  EASTERNMOST_LONGITUDE = 127.303
  FIRST_STANDARD_PARALLEL = "N/A"
  LINE_FIRST_PIXEL = 1
  LINE_LAST_PIXEL = 2252
  LINE_PROJECTION_OFFSET = 12618.0
  MAP_PROJECTION_ROTATION = 0.0
  MAP_PROJECTION_TYPE = SINUSOIDAL
  MAP_RESOLUTION = 740.9337064023611
  MAP_SCALE = 0.08
  MAXIMUM_LATITUDE = 16.9906
  MINIMUM_LATITUDE = 14.0034
  POSITIVE_LONGITUDE_DIRECTION = EAST
  REFERENCE_LATITUDE = "N/A"
  REFERENCE_LONGITUDE = "N/A"
  SAMPLE_FIRST_PIXEL = 1
  SAMPLE_LAST_PIXEL = 1815
  SAMPLE_PROJECTION_OFFSET = 865.0
  SECOND_STANDARD_PARALLEL = "N/A"
  WESTERNMOST_LONGITUDE = 124.821
END_OBJECT = IMAGE_MAP_PROJECTION
END
