PDS_VERSION_ID = PDS3
/* FILE DATA ELEMENTS */
RECORD_TYPE = UNDEFINED
/* POINTERS TO DATA OBJECTS */
^IMAGE = ("HD711_0011_SR4.TIF")
/* IDENTIFICATION DATA ELEMENTS */
DATA_SET_ID = "MEX-M-HRSC-4-REFDR-MAPPROJECT-EXT4-V4.0"
DATA_SET_NAME = "MARS EXPRESS HRSC MAP PROJECTED REFDR EXTENSION4 V4.0"
DETECTOR_ID = MEX_HRSC_SRC
EVENT_TYPE = "MARS-AURORA-SYSTEMTEST-Ot"
INSTRUMENT_HOST_ID = MEX
INSTRUMENT_HOST_NAME = "MARS EXPRESS"
INSTRUMENT_ID = HRSC
INSTRUMENT_NAME = "HIGH RESOLUTION STEREO CAMERA"
MISSION_NAME = "MARS EXPRESS"
MISSION_PHASE_NAME = ME_Phase_31
PROCESSING_LEVEL_ID = 4
PRODUCT_CREATION_TIME = 2023-02-01T02:09:17.000Z
PRODUCT_ID = "HD711_0011_SR4.TIF"
RELEASE_ID = 0005
REVISION_ID = 0000
/* QUALITY DATA ELEMENTS */
DATA_QUALITY_ID = 1
DATA_QUALITY_DESC = "Data calculated based on original SPICE kernels"
/* TIME DATA ELEMENTS */
SPACECRAFT_CLOCK_START_COUNT = "1/0361865561.07330"
SPACECRAFT_CLOCK_STOP_COUNT = "1/0361865664.13636"
IMAGE_TIME = 2014-10-20T06:12:52.936Z
START_TIME = 2014-10-20T06:12:52.678Z
STOP_TIME = 2014-10-20T06:12:53.194Z
/* ORBITAL DATA ELEMENTS */
ASCENDING_NODE_LONGITUDE = 316.29
MAXIMUM_RESOLUTION = 0.089267
FOOTPRINT_POINT_LATITUDE = (16.9594,16.8474,16.7783,16.7161, 16.6474,16.5787,16.5103,16.442,16.3513, 16.2834,16.1712,16.1037,16.0348,15.9676 ,15.9005,15.8337,15.7669,15.657,15.5622 ,15.496,15.43,15.3548,15.2891,15.2236, 15.1582,15.0929,14.9778,14.9129,14.8482 ,14.8462,14.8453,14.7844,14.6953, 14.6262,14.5574,14.4887,14.4204,14.3343 ,14.2579,14.1904,14.1231,14.0806, 13.9873,13.979,13.974,14.0793,14.1929, 14.2573,14.3541,14.4188,14.4836,14.5486 ,14.6138,14.679,14.754,14.8698,14.9357, 15.0016,15.0918,15.1581,15.2246,15.2912 ,15.358,15.4312,15.4983,15.5655,15.6329 ,15.7005,15.7681,15.8359,15.904,15.9721 ,16.0568,16.059,16.0598,16.1049,16.1393 ,16.1739,16.2084,16.2431,16.3047, 16.3396,16.3744,16.4094,16.4454,16.4805 ,16.5251,16.5604,16.5957,16.6311, 16.6665,16.702,16.7376,16.7836,16.8193, 16.8551,16.891,16.945,16.954,16.9594)
FOOTPRINT_POINT_LONGITUDE = (126.171,126.231,126.269,126.302,126.34 ,126.377,126.414,126.451,126.499, 126.536,126.597,126.633,126.67,126.706, 126.742,126.778,126.814,126.873,126.924 ,126.96,126.995,127.036,127.071,127.106 ,127.141,127.176,127.238,127.272, 127.307,127.308,127.307,127.216,127.086 ,126.982,126.877,126.773,126.669, 126.538,126.421,126.316,126.212,126.147 ,126.003,125.99,125.982,125.924,125.862 ,125.826,125.773,125.737,125.701, 125.665,125.629,125.593,125.552,125.488 ,125.451,125.415,125.365,125.328, 125.291,125.254,125.217,125.177,125.139 ,125.102,125.064,125.027,124.989, 124.951,124.913,124.875,124.828,124.827 ,124.828,124.893,124.947,125.0,125.053, 125.106,125.198,125.251,125.304,125.357 ,125.41,125.463,125.528,125.581,125.634 ,125.687,125.74,125.793,125.846,125.912 ,125.964,126.017,126.07,126.15,126.163, 126.171)
ORBIT_NUMBER = 13711
ORBITAL_ECCENTRICITY = 0.573
ORBITAL_INCLINATION = 86.9
ORBITAL_SEMIMAJOR_AXIS = 8808.88
PERIAPSIS_ALTITUDE = 371.83
PERIAPSIS_ARGUMENT_ANGLE = 134.88
PERIAPSIS_TIME = 2014-10-20T08:19:49.000Z
SPACECRAFT_ORIENTATION = (0.0,-1.0,0.0)
^MEX_ORIENTATION_DESC = "MEX_ORIENTATION_DESC.TXT"
SPACECRAFT_POINTING_MODE = INERT
^MEX_POINTING_DESC = "MEX_POINTING_DESC.TXT"
RIGHT_ASCENSION = 49.589
DECLINATION = -61.065
OFFSET_ANGLE = -1e+32
SPACECRAFT_SOLAR_DISTANCE = 2.09576e+08
TARGET_NAME = MARS
/* CAMERA DATA ELEMENTS */
BUFFER_MODE_ID = DIRECT
EXPOSURE_DURATION = 516.096
INST_CMPRS_NAME = NONE
INST_CMPRS_RATIO = 1.0
INST_CMPRS_QUALITY = -2147483648
INST_CMPRS_QUANTZ_TBL_ID = -2147483648
INSTRUMENT_TEMPERATURE = 8.82415
MISSING_FRAMES = 0
START_BIT = 0
/* RADIOMETRIC DATA ELEMENTS */
BANDWIDTH = 250.0
CENTER_FILTER_WAVELENGTH = 600.0
RADIANCE_OFFSET = -9.99e+31
RADIANCE_SCALING_FACTOR = -9.99e+31
REFLECTANCE_SCALING_FACTOR = -9.99e+31
MEX:REFLECTANCE_OFFSET = -9.99e+31
/* IMAGE OBJECT DEFINITIONS */
OBJECT = IMAGE
  INTERCHANGE_FORMAT = BINARY
  LINES = 2251
  LINE_SAMPLES = 1815
  SAMPLE_TYPE = UNSIGNED_INTEGER
  SAMPLE_BITS = 8
  BANDS = 1
  BAND_STORAGE_TYPE = BAND_SEQUENTIAL
  MAXIMUM = 235
  MEAN = 16.8265
  MINIMUM = 1
  STANDARD_DEVIATION = 4.20571
END_OBJECT = IMAGE
/* MAP OBJECT DEFINITIONS */
OBJECT = IMAGE_MAP_PROJECTION
  ^DATA_SET_MAP_PROJECTION_CATALOG= "DSMAP.CAT"
  A_AXIS_RADIUS = 3396.19
  B_AXIS_RADIUS = 3396.19
  C_AXIS_RADIUS = 3396.19
  CENTER_LATITUDE = 0.0
  CENTER_LONGITUDE = 126.0
  COORDINATE_SYSTEM_NAME = PLANETOGRAPHIC
  COORDINATE_SYSTEM_TYPE = "BODY-FIXED ROTATING"
  EASTERNMOST_LONGITUDE = 127.308
  FIRST_STANDARD_PARALLEL = "N/A"
  LINE_FIRST_PIXEL = 1
  LINE_LAST_PIXEL = 2251
  LINE_PROJECTION_OFFSET = 12595.0
  MAP_PROJECTION_ROTATION = 0.0
  MAP_PROJECTION_TYPE = SINUSOIDAL
  MAP_RESOLUTION = 740.9337064023611
  MAP_SCALE = 0.08
  MAXIMUM_LATITUDE = 16.9594
  MINIMUM_LATITUDE = 13.974
  POSITIVE_LONGITUDE_DIRECTION = EAST
  REFERENCE_LATITUDE = "N/A"
  REFERENCE_LONGITUDE = "N/A"
  SAMPLE_FIRST_PIXEL = 1
  SAMPLE_LAST_PIXEL = 1815
  SAMPLE_PROJECTION_OFFSET = 861.0
  SECOND_STANDARD_PARALLEL = "N/A"
  WESTERNMOST_LONGITUDE = 124.827
END_OBJECT = IMAGE_MAP_PROJECTION
END
