PDS_VERSION_ID = PDS3
/* FILE DATA ELEMENTS */
RECORD_TYPE = UNDEFINED
/* POINTERS TO DATA OBJECTS */
^IMAGE = ("HD711_0007_SR4.TIF")
/* IDENTIFICATION DATA ELEMENTS */
DATA_SET_ID = "MEX-M-HRSC-4-REFDR-MAPPROJECT-EXT4-V4.0"
DATA_SET_NAME = "MARS EXPRESS HRSC MAP PROJECTED REFDR EXTENSION4 V4.0"
DETECTOR_ID = MEX_HRSC_SRC
EVENT_TYPE = "MARS-AURORA-SYSTEMTEST-Ot"
INSTRUMENT_HOST_ID = MEX
INSTRUMENT_HOST_NAME = "MARS EXPRESS"
INSTRUMENT_ID = HRSC
INSTRUMENT_NAME = "HIGH RESOLUTION STEREO CAMERA"
MISSION_NAME = "MARS EXPRESS"
MISSION_PHASE_NAME = ME_Phase_31
PROCESSING_LEVEL_ID = 4
PRODUCT_CREATION_TIME = 2023-02-01T02:09:17.000Z
PRODUCT_ID = "HD711_0007_SR4.TIF"
RELEASE_ID = 0005
REVISION_ID = 0000
/* QUALITY DATA ELEMENTS */
DATA_QUALITY_ID = 1
DATA_QUALITY_DESC = "Data calculated based on original SPICE kernels"
/* TIME DATA ELEMENTS */
SPACECRAFT_CLOCK_START_COUNT = "1/0361865561.07330"
SPACECRAFT_CLOCK_STOP_COUNT = "1/0361865664.13636"
IMAGE_TIME = 2014-10-20T06:12:50.756Z
START_TIME = 2014-10-20T06:12:50.498Z
STOP_TIME = 2014-10-20T06:12:51.014Z
/* ORBITAL DATA ELEMENTS */
ASCENDING_NODE_LONGITUDE = 316.29
MAXIMUM_RESOLUTION = 0.089263
FOOTPRINT_POINT_LATITUDE = (16.8969,16.7786,16.7164,16.6476, 16.5789,16.5104,16.442,16.3789,16.3109, 16.243,16.171,16.1034,16.0345,15.9672, 15.9002,15.8332,15.7664,15.6834,15.617, 15.5615,15.4953,15.4293,15.354,15.2883, 15.2227,15.1572,15.0919,14.9863,14.9179 ,14.8531,14.7884,14.7864,14.7855, 14.6962,14.627,14.5581,14.4894,14.4208, 14.343,14.2751,14.2157,14.1482,14.0809, 13.9953,13.9285,13.9202,13.9152,13.9791 ,14.043,14.1125,14.2182,14.2827,14.3474 ,14.4181,14.4831,14.5481,14.6133, 14.6786,14.7649,14.8305,14.8963,14.9623 ,15.0283,15.0917,15.1581,15.2246, 15.2913,15.3723,15.4314,15.4985,15.5658 ,15.6333,15.7009,15.7664,15.8343, 15.9024,15.9955,15.9976,15.9985,16.0593 ,16.1037,16.1728,16.2344,16.304,16.3389 ,16.3738,16.4089,16.445,16.5072,16.5425 ,16.5779,16.6133,16.6487,16.6845, 16.7201,16.7839,16.8197,16.8825,16.8915 ,16.8969)
FOOTPRINT_POINT_LONGITUDE = (126.183,126.247,126.28,126.318,126.355 ,126.392,126.429,126.463,126.5,126.536, 126.575,126.612,126.649,126.685,126.721 ,126.757,126.793,126.837,126.873, 126.903,126.939,126.974,127.014,127.05, 127.085,127.12,127.155,127.212,127.248, 127.283,127.318,127.319,127.317,127.188 ,127.084,126.979,126.875,126.771, 126.653,126.549,126.458,126.353,126.248 ,126.118,126.014,126.001,125.993, 125.958,125.922,125.884,125.826,125.79, 125.755,125.716,125.68,125.644,125.608, 125.572,125.524,125.488,125.451,125.415 ,125.378,125.343,125.306,125.269, 125.232,125.187,125.154,125.117,125.08, 125.042,125.004,124.968,124.93,124.892, 124.84,124.839,124.84,124.933,124.998, 125.104,125.197,125.303,125.356,125.409 ,125.462,125.514,125.607,125.66,125.713 ,125.766,125.818,125.871,125.924, 126.016,126.069,126.162,126.175, 126.183)
ORBIT_NUMBER = 13711
ORBITAL_ECCENTRICITY = 0.573
ORBITAL_INCLINATION = 86.9
ORBITAL_SEMIMAJOR_AXIS = 8808.88
PERIAPSIS_ALTITUDE = 371.83
PERIAPSIS_ARGUMENT_ANGLE = 134.88
PERIAPSIS_TIME = 2014-10-20T08:19:49.000Z
SPACECRAFT_ORIENTATION = (0.0,-1.0,0.0)
^MEX_ORIENTATION_DESC = "MEX_ORIENTATION_DESC.TXT"
SPACECRAFT_POINTING_MODE = INERT
^MEX_POINTING_DESC = "MEX_POINTING_DESC.TXT"
RIGHT_ASCENSION = 49.589
DECLINATION = -61.065
OFFSET_ANGLE = -1e+32
SPACECRAFT_SOLAR_DISTANCE = 2.09576e+08
TARGET_NAME = MARS
/* CAMERA DATA ELEMENTS */
BUFFER_MODE_ID = DIRECT
EXPOSURE_DURATION = 516.096
INST_CMPRS_NAME = NONE
INST_CMPRS_RATIO = 1.0
INST_CMPRS_QUALITY = -2147483648
INST_CMPRS_QUANTZ_TBL_ID = -2147483648
INSTRUMENT_TEMPERATURE = 8.77254
MISSING_FRAMES = 0
START_BIT = 0
/* RADIOMETRIC DATA ELEMENTS */
BANDWIDTH = 250.0
CENTER_FILTER_WAVELENGTH = 600.0
RADIANCE_OFFSET = -9.99e+31
RADIANCE_SCALING_FACTOR = -9.99e+31
REFLECTANCE_SCALING_FACTOR = -9.99e+31
MEX:REFLECTANCE_OFFSET = -9.99e+31
/* IMAGE OBJECT DEFINITIONS */
OBJECT = IMAGE
  INTERCHANGE_FORMAT = BINARY
  LINES = 2248
  LINE_SAMPLES = 1814
  SAMPLE_TYPE = UNSIGNED_INTEGER
  SAMPLE_BITS = 8
  BANDS = 1
  BAND_STORAGE_TYPE = BAND_SEQUENTIAL
  MAXIMUM = 240
  MEAN = 16.9535
  MINIMUM = 1
  STANDARD_DEVIATION = 4.25938
END_OBJECT = IMAGE
/* MAP OBJECT DEFINITIONS */
OBJECT = IMAGE_MAP_PROJECTION
  ^DATA_SET_MAP_PROJECTION_CATALOG= "DSMAP.CAT"
  A_AXIS_RADIUS = 3396.19
  B_AXIS_RADIUS = 3396.19
  C_AXIS_RADIUS = 3396.19
  CENTER_LATITUDE = 0.0
  CENTER_LONGITUDE = 126.0
  COORDINATE_SYSTEM_NAME = PLANETOGRAPHIC
  COORDINATE_SYSTEM_TYPE = "BODY-FIXED ROTATING"
  EASTERNMOST_LONGITUDE = 127.319
  FIRST_STANDARD_PARALLEL = "N/A"
  LINE_FIRST_PIXEL = 1
  LINE_LAST_PIXEL = 2248
  LINE_PROJECTION_OFFSET = 12548.0
  MAP_PROJECTION_ROTATION = 0.0
  MAP_PROJECTION_TYPE = SINUSOIDAL
  MAP_RESOLUTION = 740.9337064023611
  MAP_SCALE = 0.08
  MAXIMUM_LATITUDE = 16.8969
  MINIMUM_LATITUDE = 13.9152
  POSITIVE_LONGITUDE_DIRECTION = EAST
  REFERENCE_LATITUDE = "N/A"
  REFERENCE_LONGITUDE = "N/A"
  SAMPLE_FIRST_PIXEL = 1
  SAMPLE_LAST_PIXEL = 1814
  SAMPLE_PROJECTION_OFFSET = 852.0
  SECOND_STANDARD_PARALLEL = "N/A"
  WESTERNMOST_LONGITUDE = 124.839
END_OBJECT = IMAGE_MAP_PROJECTION
END
