PDS_VERSION_ID = PDS3
/* FILE DATA ELEMENTS */
RECORD_TYPE = UNDEFINED
/* POINTERS TO DATA OBJECTS */
^IMAGE = ("HD711_0000_SR4.TIF")
/* IDENTIFICATION DATA ELEMENTS */
DATA_SET_ID = "MEX-M-HRSC-4-REFDR-MAPPROJECT-EXT4-V4.0"
DATA_SET_NAME = "MARS EXPRESS HRSC MAP PROJECTED REFDR EXTENSION4 V4.0"
DETECTOR_ID = MEX_HRSC_SRC
EVENT_TYPE = "MARS-AURORA-SYSTEMTEST-Ot"
INSTRUMENT_HOST_ID = MEX
INSTRUMENT_HOST_NAME = "MARS EXPRESS"
INSTRUMENT_ID = HRSC
INSTRUMENT_NAME = "HIGH RESOLUTION STEREO CAMERA"
MISSION_NAME = "MARS EXPRESS"
MISSION_PHASE_NAME = ME_Phase_31
PROCESSING_LEVEL_ID = 4
PRODUCT_CREATION_TIME = 2023-02-01T02:09:17.000Z
PRODUCT_ID = "HD711_0000_SR4.TIF"
RELEASE_ID = 0005
REVISION_ID = 0000
/* QUALITY DATA ELEMENTS */
DATA_QUALITY_ID = 1
DATA_QUALITY_DESC = "Data calculated based on original SPICE kernels"
/* TIME DATA ELEMENTS */
SPACECRAFT_CLOCK_START_COUNT = "1/0361865561.07330"
SPACECRAFT_CLOCK_STOP_COUNT = "1/0361865664.13636"
IMAGE_TIME = 2014-10-20T06:12:46.941Z
START_TIME = 2014-10-20T06:12:46.683Z
STOP_TIME = 2014-10-20T06:12:47.199Z
/* ORBITAL DATA ELEMENTS */
ASCENDING_NODE_LONGITUDE = 316.29
MAXIMUM_RESOLUTION = 0.089256
FOOTPRINT_POINT_LATITUDE = (16.7884,16.7175,16.6485,16.5797, 16.5111,16.4427,16.3774,16.3093,16.2413 ,16.1735,16.1036,16.0346,15.9673, 15.9001,15.833,15.7661,15.6789,15.6124, 15.546,15.4306,15.3552,15.2894,15.2237, 15.1582,15.0928,14.9809,14.9159,14.8212 ,14.7565,14.6822,14.6802,14.6794, 14.6013,14.5574,14.4884,14.4197,14.3587 ,14.2905,14.2224,14.1547,14.0871, 14.0016,13.9346,13.8923,13.8257,13.8174 ,13.8124,13.8761,13.94,14.004,14.0928, 14.1571,14.2215,14.2861,14.3508,14.4176 ,14.4826,14.5478,14.6131,14.694,14.7546 ,14.8203,14.8862,14.9522,15.0183, 15.0921,15.1586,15.2252,15.304,15.371, 15.4302,15.4974,15.5648,15.6324,15.7001 ,15.7678,15.8891,15.8912,15.8921, 15.9606,16.0294,16.1094,16.1788,16.2484 ,16.2833,16.3363,16.3713,16.4065, 16.4429,16.4782,16.5136,16.558,16.5935, 16.6291,16.6648,16.7005,16.7362,16.7721 ,16.7823,16.7884)
FOOTPRINT_POINT_LONGITUDE = (126.203,126.242,126.279,126.316, 126.353,126.39,126.426,126.462,126.499, 126.536,126.573,126.61,126.647,126.683, 126.719,126.755,126.802,126.838,126.874 ,126.936,126.976,127.011,127.047, 127.082,127.117,127.177,127.212,127.262 ,127.297,127.337,127.338,127.336, 127.219,127.154,127.05,126.945,126.855, 126.75,126.646,126.541,126.437,126.307, 126.202,126.137,126.032,126.019,126.011 ,125.976,125.941,125.906,125.857, 125.821,125.786,125.75,125.714,125.678, 125.642,125.606,125.569,125.525,125.491 ,125.455,125.418,125.382,125.345, 125.304,125.267,125.23,125.186,125.149, 125.116,125.079,125.041,125.004,124.966 ,124.928,124.861,124.86,124.861,124.967 ,125.073,125.191,125.297,125.403, 125.456,125.536,125.589,125.642,125.694 ,125.747,125.8,125.866,125.919,125.972, 126.024,126.077,126.13,126.183,126.196, 126.203)
ORBIT_NUMBER = 13711
ORBITAL_ECCENTRICITY = 0.573
ORBITAL_INCLINATION = 86.9
ORBITAL_SEMIMAJOR_AXIS = 8808.88
PERIAPSIS_ALTITUDE = 371.83
PERIAPSIS_ARGUMENT_ANGLE = 134.88
PERIAPSIS_TIME = 2014-10-20T08:19:49.000Z
SPACECRAFT_ORIENTATION = (0.0,-1.0,0.0)
^MEX_ORIENTATION_DESC = "MEX_ORIENTATION_DESC.TXT"
SPACECRAFT_POINTING_MODE = INERT
^MEX_POINTING_DESC = "MEX_POINTING_DESC.TXT"
RIGHT_ASCENSION = 49.589
DECLINATION = -61.065
OFFSET_ANGLE = -1e+32
SPACECRAFT_SOLAR_DISTANCE = 2.09576e+08
TARGET_NAME = MARS
/* CAMERA DATA ELEMENTS */
BUFFER_MODE_ID = DIRECT
EXPOSURE_DURATION = 516.096
INST_CMPRS_NAME = NONE
INST_CMPRS_RATIO = 1.0
INST_CMPRS_QUALITY = -2147483648
INST_CMPRS_QUANTZ_TBL_ID = -2147483648
INSTRUMENT_TEMPERATURE = 8.68222
MISSING_FRAMES = 0
START_BIT = 0
/* RADIOMETRIC DATA ELEMENTS */
BANDWIDTH = 250.0
CENTER_FILTER_WAVELENGTH = 600.0
RADIANCE_OFFSET = -9.99e+31
RADIANCE_SCALING_FACTOR = -9.99e+31
REFLECTANCE_SCALING_FACTOR = -9.99e+31
MEX:REFLECTANCE_OFFSET = -9.99e+31
/* IMAGE OBJECT DEFINITIONS */
OBJECT = IMAGE
  INTERCHANGE_FORMAT = BINARY
  LINES = 2243
  LINE_SAMPLES = 1812
  SAMPLE_TYPE = UNSIGNED_INTEGER
  SAMPLE_BITS = 8
  BANDS = 1
  BAND_STORAGE_TYPE = BAND_SEQUENTIAL
  MAXIMUM = 232
  MEAN = 17.0131
  MINIMUM = 1
  STANDARD_DEVIATION = 4.23302
END_OBJECT = IMAGE
/* MAP OBJECT DEFINITIONS */
OBJECT = IMAGE_MAP_PROJECTION
  ^DATA_SET_MAP_PROJECTION_CATALOG= "DSMAP.CAT"
  A_AXIS_RADIUS = 3396.19
  B_AXIS_RADIUS = 3396.19
  C_AXIS_RADIUS = 3396.19
  CENTER_LATITUDE = 0.0
  CENTER_LONGITUDE = 126.0
  COORDINATE_SYSTEM_NAME = PLANETOGRAPHIC
  COORDINATE_SYSTEM_TYPE = "BODY-FIXED ROTATING"
  EASTERNMOST_LONGITUDE = 127.338
  FIRST_STANDARD_PARALLEL = "N/A"
  LINE_FIRST_PIXEL = 1
  LINE_LAST_PIXEL = 2243
  LINE_PROJECTION_OFFSET = 12467.0
  MAP_PROJECTION_ROTATION = 0.0
  MAP_PROJECTION_TYPE = SINUSOIDAL
  MAP_RESOLUTION = 740.9337064023611
  MAP_SCALE = 0.08
  MAXIMUM_LATITUDE = 16.7884
  MINIMUM_LATITUDE = 13.8124
  POSITIVE_LONGITUDE_DIRECTION = EAST
  REFERENCE_LATITUDE = "N/A"
  REFERENCE_LONGITUDE = "N/A"
  SAMPLE_FIRST_PIXEL = 1
  SAMPLE_LAST_PIXEL = 1812
  SAMPLE_PROJECTION_OFFSET = 837.0
  SECOND_STANDARD_PARALLEL = "N/A"
  WESTERNMOST_LONGITUDE = 124.86
END_OBJECT = IMAGE_MAP_PROJECTION
END
