PDS_VERSION_ID = PDS3
/* FILE DATA ELEMENTS */
RECORD_TYPE = UNDEFINED
/* POINTERS TO DATA OBJECTS */
^IMAGE = ("HD710_0035_SR4.TIF")
/* IDENTIFICATION DATA ELEMENTS */
DATA_SET_ID = "MEX-M-HRSC-4-REFDR-MAPPROJECT-EXT4-V4.0"
DATA_SET_NAME = "MARS EXPRESS HRSC MAP PROJECTED REFDR EXTENSION4 V4.0"
DETECTOR_ID = MEX_HRSC_SRC
EVENT_TYPE = "MARS-AURORA-SYSTEMTEST-Ot"
INSTRUMENT_HOST_ID = MEX
INSTRUMENT_HOST_NAME = "MARS EXPRESS"
INSTRUMENT_ID = HRSC
INSTRUMENT_NAME = "HIGH RESOLUTION STEREO CAMERA"
MISSION_NAME = "MARS EXPRESS"
MISSION_PHASE_NAME = ME_Phase_31
PROCESSING_LEVEL_ID = 4
PRODUCT_CREATION_TIME = 2023-02-01T02:09:17.000Z
PRODUCT_ID = "HD710_0035_SR4.TIF"
RELEASE_ID = 0005
REVISION_ID = 0000
/* QUALITY DATA ELEMENTS */
DATA_QUALITY_ID = 1
DATA_QUALITY_DESC = "Data calculated based on original SPICE kernels"
/* TIME DATA ELEMENTS */
SPACECRAFT_CLOCK_START_COUNT = "1/0361840257.07318"
SPACECRAFT_CLOCK_STOP_COUNT = "1/0361840386.52887"
IMAGE_TIME = 2014-10-19T23:11:22.017Z
START_TIME = 2014-10-19T23:11:21.759Z
STOP_TIME = 2014-10-19T23:11:22.276Z
/* ORBITAL DATA ELEMENTS */
ASCENDING_NODE_LONGITUDE = 316.31
MAXIMUM_RESOLUTION = 0.089004
FOOTPRINT_POINT_LATITUDE = (13.6104,13.5158,13.3995,13.3325, 13.2686,13.2049,13.1412,13.0446,12.9813 ,12.9182,12.8551,12.7922,12.7294, 12.6709,12.6083,12.5459,12.4835,12.3926 ,12.301,12.2391,12.1774,12.1158,12.0543 ,11.9811,11.9199,11.8587,11.7774, 11.7165,11.6482,11.6463,11.6455,11.5804 ,11.5085,11.4439,11.3794,11.2923, 11.2284,11.1646,11.1104,11.0471,10.9913 ,10.9142,10.8514,10.8436,10.8389, 10.8991,10.9594,11.0199,11.1126,11.1733 ,11.2341,11.295,11.3794,11.4405,11.5018 ,11.5633,11.6248,11.6938,11.7484, 11.8103,11.8723,11.9344,11.9966,12.0551 ,12.1176,12.1802,12.2429,12.3326,12.392 ,12.4551,12.5183,12.5817,12.6452, 12.7281,12.7899,12.7919,12.7927,12.8568 ,12.8889,12.9211,12.9598,12.9921, 13.0244,13.0705,13.103,13.1611,13.1938, 13.2265,13.2593,13.2921,13.325,13.3733, 13.4063,13.4261,13.4592,13.4924,13.5257 ,13.597,13.6054,13.6104)
FOOTPRINT_POINT_LONGITUDE = (228.842,228.894,228.957,228.994, 229.028,229.063,229.097,229.15,229.184, 229.218,229.252,229.286,229.32,229.352, 229.386,229.419,229.453,229.502,229.551 ,229.585,229.618,229.651,229.684, 229.724,229.757,229.79,229.833,229.866, 229.903,229.904,229.902,229.798,229.681 ,229.576,229.472,229.328,229.224, 229.119,229.027,228.923,228.831,228.7, 228.595,228.582,228.574,228.541,228.508 ,228.474,228.423,228.39,228.356,228.322 ,228.276,228.242,228.208,228.174,228.14 ,228.102,228.072,228.037,228.003, 227.969,227.934,227.902,227.867,227.832 ,227.797,227.748,227.715,227.679, 227.644,227.609,227.574,227.527,227.493 ,227.492,227.493,227.599,227.652, 227.705,227.772,227.825,227.878,227.959 ,228.012,228.104,228.157,228.21,228.262 ,228.315,228.368,228.448,228.501, 228.577,228.629,228.682,228.735,228.821 ,228.834,228.842)
ORBIT_NUMBER = 13710
ORBITAL_ECCENTRICITY = 0.573
ORBITAL_INCLINATION = 86.9
ORBITAL_SEMIMAJOR_AXIS = 8809.63
PERIAPSIS_ALTITUDE = 371.96
PERIAPSIS_ARGUMENT_ANGLE = 135.04
PERIAPSIS_TIME = 2014-10-20T01:20:15.000Z
SPACECRAFT_ORIENTATION = (0.0,-1.0,0.0)
^MEX_ORIENTATION_DESC = "MEX_ORIENTATION_DESC.TXT"
SPACECRAFT_POINTING_MODE = INERT
^MEX_POINTING_DESC = "MEX_POINTING_DESC.TXT"
RIGHT_ASCENSION = 49.305
DECLINATION = -60.95
OFFSET_ANGLE = -1e+32
SPACECRAFT_SOLAR_DISTANCE = 2.09607e+08
TARGET_NAME = MARS
/* CAMERA DATA ELEMENTS */
BUFFER_MODE_ID = DIRECT
EXPOSURE_DURATION = 516.096
INST_CMPRS_NAME = NONE
INST_CMPRS_RATIO = 1.0
INST_CMPRS_QUALITY = -2147483648
INST_CMPRS_QUANTZ_TBL_ID = -2147483648
INSTRUMENT_TEMPERATURE = 8.94954
MISSING_FRAMES = 0
START_BIT = 0
/* RADIOMETRIC DATA ELEMENTS */
BANDWIDTH = 250.0
CENTER_FILTER_WAVELENGTH = 600.0
RADIANCE_OFFSET = -9.99e+31
RADIANCE_SCALING_FACTOR = -9.99e+31
REFLECTANCE_SCALING_FACTOR = -9.99e+31
MEX:REFLECTANCE_OFFSET = -9.99e+31
/* IMAGE OBJECT DEFINITIONS */
OBJECT = IMAGE
  INTERCHANGE_FORMAT = BINARY
  LINES = 2105
  LINE_SAMPLES = 1784
  SAMPLE_TYPE = UNSIGNED_INTEGER
  SAMPLE_BITS = 8
  BANDS = 1
  BAND_STORAGE_TYPE = BAND_SEQUENTIAL
  MAXIMUM = 240
  MEAN = 18.225
  MINIMUM = 1
  STANDARD_DEVIATION = 4.26547
END_OBJECT = IMAGE
/* MAP OBJECT DEFINITIONS */
OBJECT = IMAGE_MAP_PROJECTION
  ^DATA_SET_MAP_PROJECTION_CATALOG= "DSMAP.CAT"
  A_AXIS_RADIUS = 3396.19
  B_AXIS_RADIUS = 3396.19
  C_AXIS_RADIUS = 3396.19
  CENTER_LATITUDE = 0.0
  CENTER_LONGITUDE = 229.0
  COORDINATE_SYSTEM_NAME = PLANETOGRAPHIC
  COORDINATE_SYSTEM_TYPE = "BODY-FIXED ROTATING"
  EASTERNMOST_LONGITUDE = 229.904
  FIRST_STANDARD_PARALLEL = "N/A"
  LINE_FIRST_PIXEL = 1
  LINE_LAST_PIXEL = 2105
  LINE_PROJECTION_OFFSET = 10120.0
  MAP_PROJECTION_ROTATION = 0.0
  MAP_PROJECTION_TYPE = SINUSOIDAL
  MAP_RESOLUTION = 740.9337064023611
  MAP_SCALE = 0.08
  MAXIMUM_LATITUDE = 13.6104
  MINIMUM_LATITUDE = 10.8389
  POSITIVE_LONGITUDE_DIRECTION = EAST
  REFERENCE_LATITUDE = "N/A"
  REFERENCE_LONGITUDE = "N/A"
  SAMPLE_FIRST_PIXEL = 1
  SAMPLE_LAST_PIXEL = 1784
  SAMPLE_PROJECTION_OFFSET = 1112.0
  SECOND_STANDARD_PARALLEL = "N/A"
  WESTERNMOST_LONGITUDE = 227.492
END_OBJECT = IMAGE_MAP_PROJECTION
END
