PDS_VERSION_ID = PDS3
/* FILE DATA ELEMENTS */
RECORD_TYPE = UNDEFINED
/* POINTERS TO DATA OBJECTS */
^IMAGE = ("HD710_0028_SR4.TIF")
/* IDENTIFICATION DATA ELEMENTS */
DATA_SET_ID = "MEX-M-HRSC-4-REFDR-MAPPROJECT-EXT4-V4.0"
DATA_SET_NAME = "MARS EXPRESS HRSC MAP PROJECTED REFDR EXTENSION4 V4.0"
DETECTOR_ID = MEX_HRSC_SRC
EVENT_TYPE = "MARS-AURORA-SYSTEMTEST-Ot"
INSTRUMENT_HOST_ID = MEX
INSTRUMENT_HOST_NAME = "MARS EXPRESS"
INSTRUMENT_ID = HRSC
INSTRUMENT_NAME = "HIGH RESOLUTION STEREO CAMERA"
MISSION_NAME = "MARS EXPRESS"
MISSION_PHASE_NAME = ME_Phase_31
PROCESSING_LEVEL_ID = 4
PRODUCT_CREATION_TIME = 2023-02-01T02:09:17.000Z
PRODUCT_ID = "HD710_0028_SR4.TIF"
RELEASE_ID = 0005
REVISION_ID = 0000
/* QUALITY DATA ELEMENTS */
DATA_QUALITY_ID = 1
DATA_QUALITY_DESC = "Data calculated based on original SPICE kernels"
/* TIME DATA ELEMENTS */
SPACECRAFT_CLOCK_START_COUNT = "1/0361840257.07318"
SPACECRAFT_CLOCK_STOP_COUNT = "1/0361840386.52887"
IMAGE_TIME = 2014-10-19T23:11:18.202Z
START_TIME = 2014-10-19T23:11:17.944Z
STOP_TIME = 2014-10-19T23:11:18.460Z
/* ORBITAL DATA ELEMENTS */
ASCENDING_NODE_LONGITUDE = 316.31
MAXIMUM_RESOLUTION = 0.089 <m/pixel>
FOOTPRINT_POINT_LATITUDE = (13.5078,13.4314,13.3222,13.2583, 13.1945,13.1308,13.0672,12.9806,12.9174 ,12.8543,12.7913,12.7284,12.6658, 12.6032,12.5407,12.4783,12.416,12.3013, 12.2394,12.1776,12.1159,12.0543,11.9734 ,11.9121,11.8509,11.7898,11.6857, 11.6098,11.5491,11.5472,11.5464,11.5058 ,11.4733,11.3854,11.3288,11.2646, 11.1699,11.1061,11.0439,10.9801,10.9169 ,10.854,10.8163,10.7536,10.7458,10.7411 ,10.8013,10.8615,10.9218,10.9822, 11.0731,11.1338,11.1946,11.2555,11.3165 ,11.38,11.4413,11.5027,11.5642,11.6255, 11.7167,11.7786,11.8406,11.9027,11.965, 12.0547,12.1173,12.2322,12.2951,12.392, 12.4552,12.5186,12.582,12.6894,12.6914, 12.6922,12.7315,12.7635,12.7956,12.8503 ,12.8825,12.9148,12.9471,12.9795,13.012 ,13.0514,13.0837,13.1164,13.1491, 13.1818,13.2146,13.2628,13.2958,13.3288 ,13.3619,13.4116,13.4232,13.4944, 13.5028,13.5078)
FOOTPRINT_POINT_LONGITUDE = (228.86,228.902,228.962,228.997,229.031 ,229.066,229.1,229.147,229.181,229.215, 229.249,229.283,229.317,229.351,229.385 ,229.419,229.452,229.514,229.547, 229.581,229.614,229.647,229.691,229.724 ,229.757,229.79,229.845,229.886,229.919 ,229.92,229.919,229.854,229.802,229.658 ,229.567,229.462,229.305,229.201, 229.096,228.991,228.887,228.782,228.716 ,228.611,228.598,228.59,228.557,228.524 ,228.491,228.457,228.407,228.374,228.34 ,228.307,228.273,228.238,228.204,228.17 ,228.136,228.102,228.051,228.017, 227.983,227.948,227.914,227.864,227.829 ,227.765,227.73,227.677,227.641,227.606 ,227.571,227.511,227.51,227.511,227.578 ,227.631,227.684,227.777,227.83,227.883 ,227.936,227.989,228.042,228.109, 228.162,228.215,228.268,228.32,228.373, 228.453,228.506,228.559,228.611,228.69, 228.753,228.839,228.853,228.86)
ORBIT_NUMBER = 13710
ORBITAL_ECCENTRICITY = 0.573
ORBITAL_INCLINATION = 86.9
ORBITAL_SEMIMAJOR_AXIS = 8809.63
PERIAPSIS_ALTITUDE = 371.96
PERIAPSIS_ARGUMENT_ANGLE = 135.04
PERIAPSIS_TIME = 2014-10-20T01:20:15.000Z
SPACECRAFT_ORIENTATION = (0.0,-1.0,0.0)
^MEX_ORIENTATION_DESC = "MEX_ORIENTATION_DESC.TXT"
SPACECRAFT_POINTING_MODE = INERT
^MEX_POINTING_DESC = "MEX_POINTING_DESC.TXT"
RIGHT_ASCENSION = 49.305
DECLINATION = -60.95
OFFSET_ANGLE = -1e+32
SPACECRAFT_SOLAR_DISTANCE = 2.09607e+08
TARGET_NAME = MARS
/* CAMERA DATA ELEMENTS */
BUFFER_MODE_ID = DIRECT
EXPOSURE_DURATION = 516.096 <ms>
INST_CMPRS_NAME = NONE
INST_CMPRS_RATIO = 1.0
INST_CMPRS_QUALITY = -2147483648
INST_CMPRS_QUANTZ_TBL_ID = -2147483648
INSTRUMENT_TEMPERATURE = 8.7689 <degC>
MISSING_FRAMES = 0
START_BIT = 0
/* RADIOMETRIC DATA ELEMENTS */
BANDWIDTH = 250.0 <nm>
CENTER_FILTER_WAVELENGTH = 600.0 <nm>
RADIANCE_OFFSET = -9.99e+31 <W*m**-2*sr**-1>
RADIANCE_SCALING_FACTOR = -9.99e+31 <W*m**-2*sr**-1>
REFLECTANCE_SCALING_FACTOR = -9.99e+31
MEX:REFLECTANCE_OFFSET = -9.99e+31
/* IMAGE OBJECT DEFINITIONS */
OBJECT = IMAGE
  INTERCHANGE_FORMAT = BINARY
  LINES = 2102
  LINE_SAMPLES = 1784
  SAMPLE_TYPE = UNSIGNED_INTEGER
  SAMPLE_BITS = 8
  BANDS = 1
  BAND_STORAGE_TYPE = BAND_SEQUENTIAL
  MAXIMUM = 238
  MEAN = 18.9934
  MINIMUM = 1
  STANDARD_DEVIATION = 4.3814
END_OBJECT = IMAGE
/* MAP OBJECT DEFINITIONS */
OBJECT = IMAGE_MAP_PROJECTION
  ^DATA_SET_MAP_PROJECTION_CATALOG= "DSMAP.CAT"
  A_AXIS_RADIUS = 3396.19 <km>
  B_AXIS_RADIUS = 3396.19 <km>
  C_AXIS_RADIUS = 3396.19 <km>
  CENTER_LATITUDE = 0.0
  CENTER_LONGITUDE = 229.0
  COORDINATE_SYSTEM_NAME = PLANETOGRAPHIC
  COORDINATE_SYSTEM_TYPE = "BODY-FIXED ROTATING"
  EASTERNMOST_LONGITUDE = 229.92
  FIRST_STANDARD_PARALLEL = "N/A"
  LINE_FIRST_PIXEL = 1
  LINE_LAST_PIXEL = 2102
  LINE_PROJECTION_OFFSET = 10044.0
  MAP_PROJECTION_ROTATION = 0.0
  MAP_PROJECTION_TYPE = SINUSOIDAL
  MAP_RESOLUTION = 740.9337064023611 <pixel/degree>
  MAP_SCALE = 0.08 <km/pixel>
  MAXIMUM_LATITUDE = 13.5078
  MINIMUM_LATITUDE = 10.7411
  POSITIVE_LONGITUDE_DIRECTION = EAST
  REFERENCE_LATITUDE = "N/A"
  REFERENCE_LONGITUDE = "N/A"
  SAMPLE_FIRST_PIXEL = 1
  SAMPLE_LAST_PIXEL = 1784
  SAMPLE_PROJECTION_OFFSET = 1099.0
  SECOND_STANDARD_PARALLEL = "N/A"
  WESTERNMOST_LONGITUDE = 227.51
END_OBJECT = IMAGE_MAP_PROJECTION
END
