PDS_VERSION_ID = PDS3
/* FILE DATA ELEMENTS */
RECORD_TYPE = UNDEFINED
/* POINTERS TO DATA OBJECTS */
^IMAGE = ("HD710_0025_SR4.TIF")
/* IDENTIFICATION DATA ELEMENTS */
DATA_SET_ID = "MEX-M-HRSC-4-REFDR-MAPPROJECT-EXT4-V4.0"
DATA_SET_NAME = "MARS EXPRESS HRSC MAP PROJECTED REFDR EXTENSION4 V4.0"
DETECTOR_ID = MEX_HRSC_SRC
EVENT_TYPE = "MARS-AURORA-SYSTEMTEST-Ot"
INSTRUMENT_HOST_ID = MEX
INSTRUMENT_HOST_NAME = "MARS EXPRESS"
INSTRUMENT_ID = HRSC
INSTRUMENT_NAME = "HIGH RESOLUTION STEREO CAMERA"
MISSION_NAME = "MARS EXPRESS"
MISSION_PHASE_NAME = ME_Phase_31
PROCESSING_LEVEL_ID = 4
PRODUCT_CREATION_TIME = 2023-02-01T02:09:17.000Z
PRODUCT_ID = "HD710_0025_SR4.TIF"
RELEASE_ID = 0005
REVISION_ID = 0000
/* QUALITY DATA ELEMENTS */
DATA_QUALITY_ID = 1
DATA_QUALITY_DESC = "Data calculated based on original SPICE kernels"
/* TIME DATA ELEMENTS */
SPACECRAFT_CLOCK_START_COUNT = "1/0361840257.07318"
SPACECRAFT_CLOCK_STOP_COUNT = "1/0361840386.52887"
IMAGE_TIME = 2014-10-19T23:11:16.567Z
START_TIME = 2014-10-19T23:11:16.309Z
STOP_TIME = 2014-10-19T23:11:16.825Z
/* ORBITAL DATA ELEMENTS */
ASCENDING_NODE_LONGITUDE = 316.31
MAXIMUM_RESOLUTION = 0.088998
FOOTPRINT_POINT_LATITUDE = (13.4638,13.3865,13.3224,13.2584, 13.1946,13.1309,13.0673,13.012,12.9173, 12.8542,12.7912,12.7283,12.6421,12.5795 ,12.517,12.4546,12.3924,12.301,12.239, 12.1772,12.1154,12.0538,11.9441,11.8828 ,11.8216,11.7174,11.628,11.5673,11.5067 ,11.5048,11.504,11.4553,11.3835,11.343, 11.2785,11.2143,11.1756,11.1118,11.0481 ,11.0081,10.9381,10.875,10.8121,10.7744 ,10.7118,10.704,10.6991,10.7575,10.8176 ,10.8779,10.9383,11.0423,11.103,11.1638 ,11.2247,11.2857,11.3798,11.4411, 11.5025,11.5964,11.6582,11.7166,11.7786 ,11.8406,11.9028,11.9651,12.0549, 12.1175,12.203,12.2659,12.3289,12.3923, 12.4556,12.519,12.5825,12.6461,12.6481, 12.6489,12.7361,12.7988,12.8632,12.8955 ,12.9279,12.9603,13.0078,13.0403, 13.0727,13.1054,13.1381,13.1709,13.2109 ,13.2438,13.2768,13.3098,13.3429,13.376 ,13.3877,13.4505,13.4588,13.4638)
FOOTPRINT_POINT_LONGITUDE = (228.868,228.911,228.946,228.98,229.015 ,229.05,229.084,229.114,229.165,229.199 ,229.233,229.267,229.314,229.348, 229.382,229.415,229.449,229.498,229.532 ,229.565,229.598,229.631,229.691, 229.724,229.757,229.813,229.861,229.893 ,229.926,229.927,229.926,229.848,229.73 ,229.665,229.561,229.456,229.39,229.286 ,229.182,229.116,228.998,228.894, 228.789,228.723,228.618,228.605,228.597 ,228.565,228.532,228.499,228.465, 228.408,228.375,228.341,228.307,228.274 ,228.222,228.188,228.154,228.102, 228.068,228.035,228.001,227.966,227.932 ,227.897,227.848,227.813,227.765,227.73 ,227.695,227.66,227.625,227.59,227.554, 227.519,227.518,227.519,227.665,227.772 ,227.878,227.931,227.984,228.037, 228.117,228.17,228.222,228.275,228.328, 228.381,228.448,228.5,228.553,228.606, 228.659,228.711,228.774,228.847,228.86, 228.868)
ORBIT_NUMBER = 13710
ORBITAL_ECCENTRICITY = 0.573
ORBITAL_INCLINATION = 86.9
ORBITAL_SEMIMAJOR_AXIS = 8809.63
PERIAPSIS_ALTITUDE = 371.96
PERIAPSIS_ARGUMENT_ANGLE = 135.04
PERIAPSIS_TIME = 2014-10-20T01:20:15.000Z
SPACECRAFT_ORIENTATION = (0.0,-1.0,0.0)
^MEX_ORIENTATION_DESC = "MEX_ORIENTATION_DESC.TXT"
SPACECRAFT_POINTING_MODE = INERT
^MEX_POINTING_DESC = "MEX_POINTING_DESC.TXT"
RIGHT_ASCENSION = 49.305
DECLINATION = -60.95
OFFSET_ANGLE = -1e+32
SPACECRAFT_SOLAR_DISTANCE = 2.09607e+08
TARGET_NAME = MARS
/* CAMERA DATA ELEMENTS */
BUFFER_MODE_ID = DIRECT
EXPOSURE_DURATION = 516.096
INST_CMPRS_NAME = NONE
INST_CMPRS_RATIO = 1.0
INST_CMPRS_QUALITY = -2147483648
INST_CMPRS_QUANTZ_TBL_ID = -2147483648
INSTRUMENT_TEMPERATURE = 8.69148
MISSING_FRAMES = 0
START_BIT = 0
/* RADIOMETRIC DATA ELEMENTS */
BANDWIDTH = 250.0
CENTER_FILTER_WAVELENGTH = 600.0
RADIANCE_OFFSET = -9.99e+31
RADIANCE_SCALING_FACTOR = -9.99e+31
REFLECTANCE_SCALING_FACTOR = -9.99e+31
MEX:REFLECTANCE_OFFSET = -9.99e+31
/* IMAGE OBJECT DEFINITIONS */
OBJECT = IMAGE
  INTERCHANGE_FORMAT = BINARY
  LINES = 2100
  LINE_SAMPLES = 1783
  SAMPLE_TYPE = UNSIGNED_INTEGER
  SAMPLE_BITS = 8
  BANDS = 1
  BAND_STORAGE_TYPE = BAND_SEQUENTIAL
  MAXIMUM = 244
  MEAN = 17.2493
  MINIMUM = 2
  STANDARD_DEVIATION = 4.32995
END_OBJECT = IMAGE
/* MAP OBJECT DEFINITIONS */
OBJECT = IMAGE_MAP_PROJECTION
  ^DATA_SET_MAP_PROJECTION_CATALOG= "DSMAP.CAT"
  A_AXIS_RADIUS = 3396.19
  B_AXIS_RADIUS = 3396.19
  C_AXIS_RADIUS = 3396.19
  CENTER_LATITUDE = 0.0
  CENTER_LONGITUDE = 229.0
  COORDINATE_SYSTEM_NAME = PLANETOGRAPHIC
  COORDINATE_SYSTEM_TYPE = "BODY-FIXED ROTATING"
  EASTERNMOST_LONGITUDE = 229.927
  FIRST_STANDARD_PARALLEL = "N/A"
  LINE_FIRST_PIXEL = 1
  LINE_LAST_PIXEL = 2100
  LINE_PROJECTION_OFFSET = 10011.0
  MAP_PROJECTION_ROTATION = 0.0
  MAP_PROJECTION_TYPE = SINUSOIDAL
  MAP_RESOLUTION = 740.9337064023611
  MAP_SCALE = 0.08
  MAXIMUM_LATITUDE = 13.4638
  MINIMUM_LATITUDE = 10.6991
  POSITIVE_LONGITUDE_DIRECTION = EAST
  REFERENCE_LATITUDE = "N/A"
  REFERENCE_LONGITUDE = "N/A"
  SAMPLE_FIRST_PIXEL = 1
  SAMPLE_LAST_PIXEL = 1783
  SAMPLE_PROJECTION_OFFSET = 1093.0
  SECOND_STANDARD_PARALLEL = "N/A"
  WESTERNMOST_LONGITUDE = 227.518
END_OBJECT = IMAGE_MAP_PROJECTION
END
