PDS_VERSION_ID = PDS3
/* FILE DATA ELEMENTS */
RECORD_TYPE = UNDEFINED
/* POINTERS TO DATA OBJECTS */
^IMAGE = ("HD710_0001_SR4.TIF")
/* IDENTIFICATION DATA ELEMENTS */
DATA_SET_ID = "MEX-M-HRSC-4-REFDR-MAPPROJECT-EXT4-V4.0"
DATA_SET_NAME = "MARS EXPRESS HRSC MAP PROJECTED REFDR EXTENSION4 V4.0"
DETECTOR_ID = MEX_HRSC_SRC
EVENT_TYPE = "MARS-AURORA-SYSTEMTEST-Ot"
INSTRUMENT_HOST_ID = MEX
INSTRUMENT_HOST_NAME = "MARS EXPRESS"
INSTRUMENT_ID = HRSC
INSTRUMENT_NAME = "HIGH RESOLUTION STEREO CAMERA"
MISSION_NAME = "MARS EXPRESS"
MISSION_PHASE_NAME = ME_Phase_31
PROCESSING_LEVEL_ID = 4
PRODUCT_CREATION_TIME = 2023-02-01T02:09:17.000Z
PRODUCT_ID = "HD710_0001_SR4.TIF"
RELEASE_ID = 0005
REVISION_ID = 0000
/* QUALITY DATA ELEMENTS */
DATA_QUALITY_ID = 1
DATA_QUALITY_DESC = "Data calculated based on original SPICE kernels"
/* TIME DATA ELEMENTS */
SPACECRAFT_CLOCK_START_COUNT = "1/0361840257.07318"
SPACECRAFT_CLOCK_STOP_COUNT = "1/0361840386.52887"
IMAGE_TIME = 2014-10-19T23:11:03.487Z
START_TIME = 2014-10-19T23:11:03.229Z
STOP_TIME = 2014-10-19T23:11:03.745Z
/* ORBITAL DATA ELEMENTS */
ASCENDING_NODE_LONGITUDE = 316.31
MAXIMUM_RESOLUTION = 0.088984
FOOTPRINT_POINT_LATITUDE = (13.1203,13.0664,12.9969,12.9333, 12.8699,12.8065,12.7063,12.6433,12.5804 ,12.5176,12.455,12.3925,12.3373,12.275, 12.2128,12.1507,12.0543,11.9634,11.9018 ,11.8403,11.7789,11.7177,11.6469, 11.5859,11.525,11.4403,11.3797,11.2888, 11.2285,11.1682,11.1663,11.1655,11.1251 ,11.0607,10.9734,10.9094,10.8456, 10.7673,10.704,10.641,10.5636,10.5009, 10.4385,10.3776,10.3698,10.3652,10.4249 ,10.4847,10.5447,10.6047,10.6649, 10.7493,10.8097,10.8702,10.9309,11.0416 ,11.1025,11.1636,11.2248,11.2861, 11.3607,11.4726,11.5344,11.5962,11.6582 ,11.7169,11.7792,11.8415,11.904,11.968, 12.0541,12.1169,12.1799,12.243,12.3004, 12.3023,12.3031,12.3349,12.3666,12.3988 ,12.4609,12.4929,12.5249,12.5571, 12.6201,12.6524,12.6847,12.733,12.7655, 12.8213,12.8539,12.8866,12.9194,12.9522 ,12.9851,13.0329,13.0657,13.107,13.1153 ,13.1203)
FOOTPRINT_POINT_LONGITUDE = (228.927,228.956,228.994,229.029, 229.063,229.097,229.152,229.186,229.22, 229.254,229.288,229.321,229.351,229.385 ,229.418,229.452,229.504,229.553, 229.586,229.619,229.652,229.685,229.724 ,229.757,229.789,229.835,229.867, 229.916,229.949,229.981,229.982,229.981 ,229.916,229.812,229.668,229.564, 229.459,229.328,229.224,229.119,228.988 ,228.883,228.779,228.673,228.66,228.652 ,228.619,228.586,228.553,228.52,228.487 ,228.441,228.407,228.374,228.34,228.279 ,228.245,228.212,228.178,228.144, 228.103,228.041,228.006,227.972,227.938 ,227.905,227.871,227.836,227.801, 227.766,227.718,227.683,227.648,227.613 ,227.581,227.58,227.581,227.634,227.687 ,227.74,227.847,227.9,227.953,228.006, 228.112,228.165,228.218,228.298,228.351 ,228.444,228.496,228.549,228.602, 228.655,228.708,228.787,228.84,228.906, 228.919,228.927)
ORBIT_NUMBER = 13710
ORBITAL_ECCENTRICITY = 0.573
ORBITAL_INCLINATION = 86.9
ORBITAL_SEMIMAJOR_AXIS = 8809.63
PERIAPSIS_ALTITUDE = 371.96
PERIAPSIS_ARGUMENT_ANGLE = 135.04
PERIAPSIS_TIME = 2014-10-20T01:20:15.000Z
SPACECRAFT_ORIENTATION = (0.0,-1.0,0.0)
^MEX_ORIENTATION_DESC = "MEX_ORIENTATION_DESC.TXT"
SPACECRAFT_POINTING_MODE = INERT
^MEX_POINTING_DESC = "MEX_POINTING_DESC.TXT"
RIGHT_ASCENSION = 49.305
DECLINATION = -60.95
OFFSET_ANGLE = -1e+32
SPACECRAFT_SOLAR_DISTANCE = 2.09607e+08
TARGET_NAME = MARS
/* CAMERA DATA ELEMENTS */
BUFFER_MODE_ID = DIRECT
EXPOSURE_DURATION = 516.096
INST_CMPRS_NAME = NONE
INST_CMPRS_RATIO = 1.0
INST_CMPRS_QUALITY = -2147483648
INST_CMPRS_QUANTZ_TBL_ID = -2147483648
INSTRUMENT_TEMPERATURE = 8.07214
MISSING_FRAMES = 0
START_BIT = 0
/* RADIOMETRIC DATA ELEMENTS */
BANDWIDTH = 250.0
CENTER_FILTER_WAVELENGTH = 600.0
RADIANCE_OFFSET = -9.99e+31
RADIANCE_SCALING_FACTOR = -9.99e+31
REFLECTANCE_SCALING_FACTOR = -9.99e+31
MEX:REFLECTANCE_OFFSET = -9.99e+31
/* IMAGE OBJECT DEFINITIONS */
OBJECT = IMAGE
  INTERCHANGE_FORMAT = BINARY
  LINES = 2088
  LINE_SAMPLES = 1781
  SAMPLE_TYPE = UNSIGNED_INTEGER
  SAMPLE_BITS = 8
  BANDS = 1
  BAND_STORAGE_TYPE = BAND_SEQUENTIAL
  MAXIMUM = 218
  MEAN = 17.4094
  MINIMUM = 1
  STANDARD_DEVIATION = 4.45303
END_OBJECT = IMAGE
/* MAP OBJECT DEFINITIONS */
OBJECT = IMAGE_MAP_PROJECTION
  ^DATA_SET_MAP_PROJECTION_CATALOG= "DSMAP.CAT"
  A_AXIS_RADIUS = 3396.19
  B_AXIS_RADIUS = 3396.19
  C_AXIS_RADIUS = 3396.19
  CENTER_LATITUDE = 0.0
  CENTER_LONGITUDE = 229.0
  COORDINATE_SYSTEM_NAME = PLANETOGRAPHIC
  COORDINATE_SYSTEM_TYPE = "BODY-FIXED ROTATING"
  EASTERNMOST_LONGITUDE = 229.982
  FIRST_STANDARD_PARALLEL = "N/A"
  LINE_FIRST_PIXEL = 1
  LINE_LAST_PIXEL = 2088
  LINE_PROJECTION_OFFSET = 9751.0
  MAP_PROJECTION_ROTATION = 0.0
  MAP_PROJECTION_TYPE = SINUSOIDAL
  MAP_RESOLUTION = 740.9337064023611
  MAP_SCALE = 0.08
  MAXIMUM_LATITUDE = 13.1203
  MINIMUM_LATITUDE = 10.3652
  POSITIVE_LONGITUDE_DIRECTION = EAST
  REFERENCE_LATITUDE = "N/A"
  REFERENCE_LONGITUDE = "N/A"
  SAMPLE_FIRST_PIXEL = 1
  SAMPLE_LAST_PIXEL = 1781
  SAMPLE_PROJECTION_OFFSET = 1050.0
  SECOND_STANDARD_PARALLEL = "N/A"
  WESTERNMOST_LONGITUDE = 227.58
END_OBJECT = IMAGE_MAP_PROJECTION
END
