PDS_VERSION_ID = PDS3
/* FILE DATA ELEMENTS */
RECORD_TYPE = UNDEFINED
/* POINTERS TO DATA OBJECTS */
^IMAGE = ("HD710_0000_SR4.TIF")
/* IDENTIFICATION DATA ELEMENTS */
DATA_SET_ID = "MEX-M-HRSC-4-REFDR-MAPPROJECT-EXT4-V4.0"
DATA_SET_NAME = "MARS EXPRESS HRSC MAP PROJECTED REFDR EXTENSION4 V4.0"
DETECTOR_ID = MEX_HRSC_SRC
EVENT_TYPE = "MARS-AURORA-SYSTEMTEST-Ot"
INSTRUMENT_HOST_ID = MEX
INSTRUMENT_HOST_NAME = "MARS EXPRESS"
INSTRUMENT_ID = HRSC
INSTRUMENT_NAME = "HIGH RESOLUTION STEREO CAMERA"
MISSION_NAME = "MARS EXPRESS"
MISSION_PHASE_NAME = ME_Phase_31
PROCESSING_LEVEL_ID = 4
PRODUCT_CREATION_TIME = 2023-02-01T02:09:17.000Z
PRODUCT_ID = "HD710_0000_SR4.TIF"
RELEASE_ID = 0005
REVISION_ID = 0000
/* QUALITY DATA ELEMENTS */
DATA_QUALITY_ID = 1
DATA_QUALITY_DESC = "Data calculated based on original SPICE kernels"
/* TIME DATA ELEMENTS */
SPACECRAFT_CLOCK_START_COUNT = "1/0361840257.07318"
SPACECRAFT_CLOCK_STOP_COUNT = "1/0361840386.52887"
IMAGE_TIME = 2014-10-19T23:11:02.942Z
START_TIME = 2014-10-19T23:11:02.684Z
STOP_TIME = 2014-10-19T23:11:03.200Z
/* ORBITAL DATA ELEMENTS */
ASCENDING_NODE_LONGITUDE = 316.31
MAXIMUM_RESOLUTION = 0.088983
FOOTPRINT_POINT_LATITUDE = (13.1057,13.0202,12.9566,12.893,12.8296 ,12.7292,12.6427,12.5798,12.517,12.4543 ,12.3918,12.3269,12.2646,12.2024, 12.1403,12.0864,12.0243,11.9626,11.901, 11.8395,11.7781,11.7169,11.6365,11.5755 ,11.5146,11.4395,11.3788,11.2748, 11.2144,11.1542,11.1523,11.1515,11.103, 11.0386,10.9593,10.8954,10.8317,10.7375 ,10.6744,10.6271,10.5496,10.487,10.4246 ,10.3637,10.356,10.3513,10.4577,10.5176 ,10.5776,10.6378,10.7038,10.8014, 10.8619,10.9226,10.9833,11.0428,11.1037 ,11.1648,11.226,11.2873,11.3504,11.4103 ,11.472,11.5337,11.5956,11.6576,11.7163 ,11.7786,11.8409,11.9034,11.9909, 12.0535,12.1164,12.1794,12.286,12.288, 12.2888,12.3523,12.4066,12.4385,12.4705 ,12.5025,12.5346,12.5668,12.6056, 12.6379,12.6703,12.7026,12.7348,12.7673 ,12.8068,12.8395,12.8721,12.9049, 12.9377,12.9706,13.0184,13.0925,13.1008 ,13.1057)
FOOTPRINT_POINT_LONGITUDE = (228.93,228.976,229.011,229.045,229.08, 229.134,229.181,229.215,229.249,229.283 ,229.316,229.352,229.385,229.419, 229.452,229.481,229.515,229.548,229.581 ,229.615,229.648,229.681,229.724, 229.757,229.79,229.83,229.863,229.919, 229.951,229.983,229.984,229.983,229.905 ,229.801,229.67,229.566,229.461,229.304 ,229.2,229.121,228.99,228.886,228.781, 228.675,228.662,228.654,228.596,228.563 ,228.53,228.497,228.46,228.406,228.373, 228.339,228.306,228.273,228.239,228.206 ,228.172,228.138,228.103,228.07,228.036 ,228.001,227.967,227.933,227.9,227.866, 227.831,227.796,227.748,227.713,227.678 ,227.643,227.583,227.582,227.584,227.69 ,227.783,227.836,227.889,227.942, 227.995,228.048,228.115,228.168,228.221 ,228.274,228.327,228.38,228.446,228.499 ,228.552,228.605,228.657,228.71,228.79, 228.909,228.922,228.93)
ORBIT_NUMBER = 13710
ORBITAL_ECCENTRICITY = 0.573
ORBITAL_INCLINATION = 86.9
ORBITAL_SEMIMAJOR_AXIS = 8809.63
PERIAPSIS_ALTITUDE = 371.96
PERIAPSIS_ARGUMENT_ANGLE = 135.04
PERIAPSIS_TIME = 2014-10-20T01:20:15.000Z
SPACECRAFT_ORIENTATION = (0.0,-1.0,0.0)
^MEX_ORIENTATION_DESC = "MEX_ORIENTATION_DESC.TXT"
SPACECRAFT_POINTING_MODE = INERT
^MEX_POINTING_DESC = "MEX_POINTING_DESC.TXT"
RIGHT_ASCENSION = 49.305
DECLINATION = -60.95
OFFSET_ANGLE = -1e+32
SPACECRAFT_SOLAR_DISTANCE = 2.09607e+08
TARGET_NAME = MARS
/* CAMERA DATA ELEMENTS */
BUFFER_MODE_ID = DIRECT
EXPOSURE_DURATION = 516.096
INST_CMPRS_NAME = NONE
INST_CMPRS_RATIO = 1.0
INST_CMPRS_QUALITY = -2147483648
INST_CMPRS_QUANTZ_TBL_ID = -2147483648
INSTRUMENT_TEMPERATURE = 8.04634
MISSING_FRAMES = 0
START_BIT = 0
/* RADIOMETRIC DATA ELEMENTS */
BANDWIDTH = 250.0
CENTER_FILTER_WAVELENGTH = 600.0
RADIANCE_OFFSET = -9.99e+31
RADIANCE_SCALING_FACTOR = -9.99e+31
REFLECTANCE_SCALING_FACTOR = -9.99e+31
MEX:REFLECTANCE_OFFSET = -9.99e+31
/* IMAGE OBJECT DEFINITIONS */
OBJECT = IMAGE
  INTERCHANGE_FORMAT = BINARY
  LINES = 2087
  LINE_SAMPLES = 1781
  SAMPLE_TYPE = UNSIGNED_INTEGER
  SAMPLE_BITS = 8
  BANDS = 1
  BAND_STORAGE_TYPE = BAND_SEQUENTIAL
  MAXIMUM = 228
  MEAN = 17.8598
  MINIMUM = 1
  STANDARD_DEVIATION = 4.35137
END_OBJECT = IMAGE
/* MAP OBJECT DEFINITIONS */
OBJECT = IMAGE_MAP_PROJECTION
  ^DATA_SET_MAP_PROJECTION_CATALOG= "DSMAP.CAT"
  A_AXIS_RADIUS = 3396.19
  B_AXIS_RADIUS = 3396.19
  C_AXIS_RADIUS = 3396.19
  CENTER_LATITUDE = 0.0
  CENTER_LONGITUDE = 229.0
  COORDINATE_SYSTEM_NAME = PLANETOGRAPHIC
  COORDINATE_SYSTEM_TYPE = "BODY-FIXED ROTATING"
  EASTERNMOST_LONGITUDE = 229.984
  FIRST_STANDARD_PARALLEL = "N/A"
  LINE_FIRST_PIXEL = 1
  LINE_LAST_PIXEL = 2087
  LINE_PROJECTION_OFFSET = 9740.0
  MAP_PROJECTION_ROTATION = 0.0
  MAP_PROJECTION_TYPE = SINUSOIDAL
  MAP_RESOLUTION = 740.9337064023611
  MAP_SCALE = 0.08
  MAXIMUM_LATITUDE = 13.1057
  MINIMUM_LATITUDE = 10.3513
  POSITIVE_LONGITUDE_DIRECTION = EAST
  REFERENCE_LATITUDE = "N/A"
  REFERENCE_LONGITUDE = "N/A"
  SAMPLE_FIRST_PIXEL = 1
  SAMPLE_LAST_PIXEL = 1781
  SAMPLE_PROJECTION_OFFSET = 1048.0
  SECOND_STANDARD_PARALLEL = "N/A"
  WESTERNMOST_LONGITUDE = 227.582
END_OBJECT = IMAGE_MAP_PROJECTION
END
