PDS_VERSION_ID = PDS3
/* FILE DATA ELEMENTS */
RECORD_TYPE = UNDEFINED
/* POINTERS TO DATA OBJECTS */
^IMAGE = ("HD699_0000_RE4.TIF")
/* IDENTIFICATION DATA ELEMENTS */
DATA_SET_ID = "MEX-M-HRSC-4-REFDR-MAPPROJECT-EXT4-V4.0"
DATA_SET_NAME = "MARS EXPRESS HRSC MAP PROJECTED REFDR EXTENSION4 V4.0"
DETECTOR_ID = MEX_HRSC_RED
EVENT_TYPE = "MARS-LOCAL-STEREO-Eb-La-Tc"
INSTRUMENT_HOST_ID = MEX
INSTRUMENT_HOST_NAME = "MARS EXPRESS"
INSTRUMENT_ID = HRSC
INSTRUMENT_NAME = "HIGH RESOLUTION STEREO CAMERA"
MISSION_NAME = "MARS EXPRESS"
MISSION_PHASE_NAME = ME_Phase_31
PROCESSING_LEVEL_ID = 4
PRODUCT_CREATION_TIME = 2023-02-01T02:09:17.000Z
PRODUCT_ID = "HD699_0000_RE4.TIF"
RELEASE_ID = 0005
REVISION_ID = 0000
/* QUALITY DATA ELEMENTS */
DATA_QUALITY_ID = 1
DATA_QUALITY_DESC = "Data calculated based on original SPICE kernels"
/* TIME DATA ELEMENTS */
SPACECRAFT_CLOCK_START_COUNT = "1/0361571385.07299"
SPACECRAFT_CLOCK_STOP_COUNT = "1/0361571594.22993"
START_TIME = 2014-10-16T20:31:04.370Z
STOP_TIME = 2014-10-16T20:33:08.772Z
/* ORBITAL DATA ELEMENTS */
ASCENDING_NODE_LONGITUDE = 316.52
MAXIMUM_RESOLUTION = 0.1493
FOOTPRINT_POINT_LATITUDE = (25.4808,25.4844,25.4871,25.4898, 25.4922,25.4946,25.4973,25.4974,25.5104 ,25.1142,24.8433,24.509,24.2425,24.0433 ,23.8386,23.6367,23.3634,23.158,22.9543 ,22.6857,22.5474,22.4087,22.2697,22.13, 21.9867,21.712,21.498,21.3555,21.2187, 21.0783,20.9356,20.7954,20.652,20.5112, 20.368,20.2252,20.0826,19.9387,19.7927, 19.5735,19.4285,19.283,19.1387,18.9922, 18.8458,18.6981,18.4784,18.4053,18.3543 ,18.351,18.3483,18.343,18.3387,18.3362, 18.3305,18.3303,18.3262,18.3258,18.3277 ,18.548,18.7678,18.915,19.0608,19.2069, 19.3518,19.4965,19.6416,19.7908,19.9377 ,20.0816,20.2978,20.516,20.7305,20.8736 ,21.1446,21.2838,21.4257,21.5679, 21.7096,21.8489,22.0568,22.2649,22.4037 ,22.5428,22.682,22.8188,22.9595,23.0975 ,23.2346,23.3715,23.5759,23.8468, 24.0479,24.3154,24.4521,24.6539,24.9845 ,25.3825,25.4464,25.4808)
FOOTPRINT_POINT_LONGITUDE = (75.8505,75.5313,75.2756,75.0031, 74.7461,74.4885,74.1646,74.1484,74.1323 ,74.1295,74.1313,74.1279,74.1241,74.121 ,74.1208,74.1184,74.1151,74.113,74.11, 74.1045,74.1023,74.1003,74.0985,74.097, 74.0974,74.0919,74.0897,74.0882,74.084, 74.0816,74.0803,74.0772,74.0748,74.0711 ,74.0687,74.066,74.0634,74.0608,74.0583 ,74.0547,74.0518,74.0492,74.0457, 74.0421,74.0386,74.0357,74.0305,74.0288 ,74.0276,74.2244,74.3693,74.5506, 74.8563,75.0719,75.3233,75.5925,75.9155 ,75.9334,75.9453,75.9424,75.9395, 75.9376,75.9354,75.9335,75.9317,75.9299 ,75.928,75.9273,75.9259,75.9243,75.9222 ,75.9206,75.9178,75.9161,75.9097, 75.9074,75.9059,75.9044,75.9027,75.9011 ,75.8985,75.8958,75.8939,75.8921, 75.8904,75.8887,75.8882,75.8868,75.8851 ,75.8833,75.8803,75.8768,75.874,75.87, 75.8687,75.8659,75.8608,75.8557,75.8542 ,75.8505)
ORBIT_NUMBER = 13699
ORBITAL_ECCENTRICITY = 0.574
ORBITAL_INCLINATION = 86.92
ORBITAL_SEMIMAJOR_AXIS = 8815.39
PERIAPSIS_ALTITUDE = 369.96
PERIAPSIS_ARGUMENT_ANGLE = 136.94
PERIAPSIS_TIME = 2014-10-16T20:25:55.000Z
SPACECRAFT_ORIENTATION = (0.0,-1.0,0.0)
^MEX_ORIENTATION_DESC = "MEX_ORIENTATION_DESC.TXT"
SPACECRAFT_POINTING_MODE = ACROSSTRACK
^MEX_POINTING_DESC = "MEX_POINTING_DESC.TXT"
RIGHT_ASCENSION = -1e+32
DECLINATION = -1e+32
OFFSET_ANGLE = -0.25
SPACECRAFT_SOLAR_DISTANCE = 2.09963e+08
TARGET_NAME = MARS
/* CAMERA DATA ELEMENTS */
DETECTOR_TEMPERATURE = 19.1861
FOCAL_PLANE_TEMPERATURE = 9.195
INST_CMPRS_NAME = "DISCRETE COSINE TRANSFORMATION (DCT)"
INST_CMPRS_RATIO = 15.1198
INST_CMPRS_QUALITY = 0
INST_CMPRS_QUANTZ_TBL_ID = 0
INSTRUMENT_TEMPERATURE = 12.0496
LENS_TEMPERATURE = 9.6028
MACROPIXEL_SIZE = 8
MISSING_FRAMES = 0
PIXEL_SUBSAMPLING_FLAG = N
SIGNAL_CHAIN_ID = 2
/* RADIOMETRIC DATA ELEMENTS */
BANDWIDTH = 48.0
CENTER_FILTER_WAVELENGTH = 748.0
RADIANCE_OFFSET = 0.881398
RADIANCE_SCALING_FACTOR = 0.00364229
REFLECTANCE_SCALING_FACTOR = 0.000366424
MEX:REFLECTANCE_OFFSET = 0.0886708
/* IMAGE OBJECT DEFINITIONS */
OBJECT = IMAGE
  INTERCHANGE_FORMAT = BINARY
  LINES = 4256
  LINE_SAMPLES = 1023
  SAMPLE_TYPE = UNSIGNED_INTEGER
  SAMPLE_BITS = 8
  BANDS = 1
  BAND_STORAGE_TYPE = BAND_SEQUENTIAL
  MAXIMUM = 255
  MEAN = 77.0121
  MINIMUM = 1
  STANDARD_DEVIATION = 38.7455
END_OBJECT = IMAGE
/* MAP OBJECT DEFINITIONS */
OBJECT = IMAGE_MAP_PROJECTION
  ^DATA_SET_MAP_PROJECTION_CATALOG= "DSMAP.CAT"
  A_AXIS_RADIUS = 3396.0
  B_AXIS_RADIUS = 3396.0
  C_AXIS_RADIUS = 3396.0
  CENTER_LATITUDE = 0.0
  CENTER_LONGITUDE = 75.0
  COORDINATE_SYSTEM_NAME = PLANETOGRAPHIC
  COORDINATE_SYSTEM_TYPE = "BODY-FIXED ROTATING"
  EASTERNMOST_LONGITUDE = 75.9453
  FIRST_STANDARD_PARALLEL = "N/A"
  LINE_FIRST_PIXEL = 1
  LINE_LAST_PIXEL = 4256
  LINE_PROJECTION_OFFSET = 15127.1875
  MAP_PROJECTION_ROTATION = 0.0
  MAP_PROJECTION_TYPE = SINUSOIDAL
  MAP_RESOLUTION = 592.713803866667
  MAP_SCALE = 0.1
  MAXIMUM_LATITUDE = 25.5104
  MINIMUM_LATITUDE = 18.3258
  POSITIVE_LONGITUDE_DIRECTION = EAST
  REFERENCE_LATITUDE = "N/A"
  REFERENCE_LONGITUDE = "N/A"
  SAMPLE_FIRST_PIXEL = 1
  SAMPLE_LAST_PIXEL = 1023
  SAMPLE_PROJECTION_OFFSET = 522.9375
  SECOND_STANDARD_PARALLEL = "N/A"
  WESTERNMOST_LONGITUDE = 74.02760000000001
END_OBJECT = IMAGE_MAP_PROJECTION
END
