PDS_VERSION_ID = PDS3
/* FILE DATA ELEMENTS */
RECORD_TYPE = UNDEFINED
/* POINTERS TO DATA OBJECTS */
^IMAGE = ("HD699_0000_P24.TIF")
/* IDENTIFICATION DATA ELEMENTS */
DATA_SET_ID = "MEX-M-HRSC-4-REFDR-MAPPROJECT-EXT4-V4.0"
DATA_SET_NAME = "MARS EXPRESS HRSC MAP PROJECTED REFDR EXTENSION4 V4.0"
DETECTOR_ID = MEX_HRSC_P2
EVENT_TYPE = "MARS-LOCAL-STEREO-Eb-La-Tc"
INSTRUMENT_HOST_ID = MEX
INSTRUMENT_HOST_NAME = "MARS EXPRESS"
INSTRUMENT_ID = HRSC
INSTRUMENT_NAME = "HIGH RESOLUTION STEREO CAMERA"
MISSION_NAME = "MARS EXPRESS"
MISSION_PHASE_NAME = ME_Phase_31
PROCESSING_LEVEL_ID = 4
PRODUCT_CREATION_TIME = 2023-02-01T02:09:17.000Z
PRODUCT_ID = "HD699_0000_P24.TIF"
RELEASE_ID = 0005
REVISION_ID = 0000
/* QUALITY DATA ELEMENTS */
DATA_QUALITY_ID = 1
DATA_QUALITY_DESC = "Data calculated based on original SPICE kernels"
/* TIME DATA ELEMENTS */
SPACECRAFT_CLOCK_START_COUNT = "1/0361571385.07299"
SPACECRAFT_CLOCK_STOP_COUNT = "1/0361571594.22993"
START_TIME = 2014-10-16T20:30:56.771Z
STOP_TIME = 2014-10-16T20:32:59.302Z
/* ORBITAL DATA ELEMENTS */
ASCENDING_NODE_LONGITUDE = 316.52
MAXIMUM_RESOLUTION = 0.0364
FOOTPRINT_POINT_LATITUDE = (25.4931,25.4949,25.4969,25.499,25.5008 ,25.5025,25.5039,25.5048,25.5048, 25.5169,25.11,24.9035,24.6307,24.4285, 24.2253,23.9485,23.5364,23.3291,23.12, 22.98,22.7032,22.4241,22.2842,22.1425, 21.9971,21.8516,21.5701,21.425,21.2837, 21.1413,20.9961,20.7783,20.6348,20.4923 ,20.3477,20.2005,20.0534,19.8323, 19.6844,19.538,19.3892,19.2393,19.0175, 18.7949,18.6456,18.4941,18.4186,18.3639 ,18.3606,18.3565,18.3541,18.3517, 18.3505,18.3487,18.346,18.3406,18.3392, 18.3389,18.3387,18.4901,18.6427,18.7908 ,19.0133,19.1624,19.3118,19.4612, 19.6824,19.8311,20.0533,20.1984,20.3493 ,20.4965,20.7131,20.8582,21.1401, 21.2832,21.4258,21.5689,21.7118,21.8547 ,21.9974,22.1403,22.2816,22.4214, 22.5614,22.7017,22.8437,22.9871,23.128, 23.337,23.5427,23.8186,24.0256,24.3692, 24.6409,24.8429,25.1155,25.3874,25.4536 ,25.4931)
FOOTPRINT_POINT_LONGITUDE = (75.8429,75.6455,75.3988,75.1349, 74.8703,74.6052,74.3389,74.1553,74.1386 ,74.1248,74.1224,74.123,74.1222,74.1202 ,74.1172,74.115,74.11,74.1085,74.1064, 74.1044,74.0987,74.0946,74.0928,74.0911 ,74.0907,74.0906,74.0844,74.084,74.0814 ,74.0778,74.0757,74.0725,74.0694, 74.0657,74.0633,74.0607,74.058,74.0543, 74.0523,74.0494,74.0467,74.0441,74.0384 ,74.0332,74.0303,74.0269,74.0251, 74.0239,74.2466,74.3961,74.5443,74.7841 ,74.9315,75.1344,75.3186,75.5757, 75.9074,75.9258,75.9322,75.9304,75.9289 ,75.927,75.924,75.9223,75.9205,75.9187, 75.9166,75.9156,75.9136,75.9111,75.9107 ,75.91,75.9073,75.9057,75.8995,75.8974, 75.8958,75.8944,75.8929,75.8912,75.8895 ,75.8878,75.8861,75.8843,75.8826, 75.8809,75.8798,75.879,75.8774,75.8749, 75.872,75.8686,75.8659,75.8611,75.858, 75.8549,75.8517,75.8481,75.8465, 75.8429)
ORBIT_NUMBER = 13699
ORBITAL_ECCENTRICITY = 0.574
ORBITAL_INCLINATION = 86.92
ORBITAL_SEMIMAJOR_AXIS = 8815.39
PERIAPSIS_ALTITUDE = 369.96
PERIAPSIS_ARGUMENT_ANGLE = 136.94
PERIAPSIS_TIME = 2014-10-16T20:25:55.000Z
SPACECRAFT_ORIENTATION = (0.0,-1.0,0.0)
^MEX_ORIENTATION_DESC = "MEX_ORIENTATION_DESC.TXT"
SPACECRAFT_POINTING_MODE = ACROSSTRACK
^MEX_POINTING_DESC = "MEX_POINTING_DESC.TXT"
RIGHT_ASCENSION = -1e+32
DECLINATION = -1e+32
OFFSET_ANGLE = -0.25
SPACECRAFT_SOLAR_DISTANCE = 2.09963e+08
TARGET_NAME = MARS
/* CAMERA DATA ELEMENTS */
DETECTOR_TEMPERATURE = 19.1861
FOCAL_PLANE_TEMPERATURE = 9.195
INST_CMPRS_NAME = "DISCRETE COSINE TRANSFORMATION (DCT)"
INST_CMPRS_RATIO = 7.22426
INST_CMPRS_QUALITY = 0
INST_CMPRS_QUANTZ_TBL_ID = 0
INSTRUMENT_TEMPERATURE = 12.0496
LENS_TEMPERATURE = 9.6028
MACROPIXEL_SIZE = 2
MISSING_FRAMES = 0
PIXEL_SUBSAMPLING_FLAG = N
SIGNAL_CHAIN_ID = 3
/* RADIOMETRIC DATA ELEMENTS */
BANDWIDTH = 177.0
CENTER_FILTER_WAVELENGTH = 676.5
RADIANCE_OFFSET = 3.30977
RADIANCE_SCALING_FACTOR = 0.0121142
REFLECTANCE_SCALING_FACTOR = 0.000283161
MEX:REFLECTANCE_OFFSET = 0.0773635
/* IMAGE OBJECT DEFINITIONS */
OBJECT = IMAGE
  INTERCHANGE_FORMAT = BINARY
  LINES = 17022
  LINE_SAMPLES = 4092
  SAMPLE_TYPE = UNSIGNED_INTEGER
  SAMPLE_BITS = 8
  BANDS = 1
  BAND_STORAGE_TYPE = BAND_SEQUENTIAL
  MAXIMUM = 255
  MEAN = 81.0384
  MINIMUM = 1
  STANDARD_DEVIATION = 36.4997
END_OBJECT = IMAGE
/* MAP OBJECT DEFINITIONS */
OBJECT = IMAGE_MAP_PROJECTION
  ^DATA_SET_MAP_PROJECTION_CATALOG= "DSMAP.CAT"
  A_AXIS_RADIUS = 3396.0
  B_AXIS_RADIUS = 3396.0
  C_AXIS_RADIUS = 3396.0
  CENTER_LATITUDE = 0.0
  CENTER_LONGITUDE = 75.0
  COORDINATE_SYSTEM_NAME = PLANETOGRAPHIC
  COORDINATE_SYSTEM_TYPE = "BODY-FIXED ROTATING"
  EASTERNMOST_LONGITUDE = 75.93219999999999
  FIRST_STANDARD_PARALLEL = "N/A"
  LINE_FIRST_PIXEL = 1
  LINE_LAST_PIXEL = 17022
  LINE_PROJECTION_OFFSET = 60510.25
  MAP_PROJECTION_ROTATION = 0.0
  MAP_PROJECTION_TYPE = SINUSOIDAL
  MAP_RESOLUTION = 2370.85521546667
  MAP_SCALE = 0.025
  MAXIMUM_LATITUDE = 25.5169
  MINIMUM_LATITUDE = 18.3387
  POSITIVE_LONGITUDE_DIRECTION = EAST
  REFERENCE_LATITUDE = "N/A"
  REFERENCE_LONGITUDE = "N/A"
  SAMPLE_FIRST_PIXEL = 1
  SAMPLE_LAST_PIXEL = 4092
  SAMPLE_PROJECTION_OFFSET = 2093.25
  SECOND_STANDARD_PARALLEL = "N/A"
  WESTERNMOST_LONGITUDE = 74.0239
END_OBJECT = IMAGE_MAP_PROJECTION
END
