PDS_VERSION_ID = PDS3
/* FILE DATA ELEMENTS */
RECORD_TYPE = UNDEFINED
/* POINTERS TO DATA OBJECTS */
^IMAGE = ("HD697_0009_S14.TIF")
/* IDENTIFICATION DATA ELEMENTS */
DATA_SET_ID = "MEX-M-HRSC-4-REFDR-MAPPROJECT-EXT4-V4.0"
DATA_SET_NAME = "MARS EXPRESS HRSC MAP PROJECTED REFDR EXTENSION4 V4.0"
DETECTOR_ID = MEX_HRSC_S1
EVENT_TYPE = "MARS-REGIONAL-STEREO-Te"
INSTRUMENT_HOST_ID = MEX
INSTRUMENT_HOST_NAME = "MARS EXPRESS"
INSTRUMENT_ID = HRSC
INSTRUMENT_NAME = "HIGH RESOLUTION STEREO CAMERA"
MISSION_NAME = "MARS EXPRESS"
MISSION_PHASE_NAME = ME_Phase_31
PROCESSING_LEVEL_ID = 4
PRODUCT_CREATION_TIME = 2023-02-01T02:09:17.000Z
PRODUCT_ID = "HD697_0009_S14.TIF"
RELEASE_ID = 0005
REVISION_ID = 0000
/* QUALITY DATA ELEMENTS */
DATA_QUALITY_ID = 1
DATA_QUALITY_DESC = "Data calculated based on original SPICE kernels"
/* TIME DATA ELEMENTS */
SPACECRAFT_CLOCK_START_COUNT = "1/0361520832.08249"
SPACECRAFT_CLOCK_STOP_COUNT = "1/0361521053.01848"
START_TIME = 2014-10-16T06:27:17.914Z
STOP_TIME = 2014-10-16T06:29:42.657Z
/* ORBITAL DATA ELEMENTS */
ASCENDING_NODE_LONGITUDE = 316.56
MAXIMUM_RESOLUTION = 0.0157
FOOTPRINT_POINT_LATITUDE = (39.3932,39.3895,39.386,39.3806,39.37, 39.3631,39.3626,39.3221,38.8329,38.4231 ,38.2588,38.0939,37.7657,37.4373, 37.1104,36.9218,36.7263,36.5314,36.3363 ,36.1397,35.9445,35.7534,35.5551, 35.3602,35.1647,34.9682,34.7725,34.4785 ,34.2818,34.0859,33.8894,33.5951, 33.3985,33.1024,32.906,32.6114,32.4145, 32.2178,32.0223,31.8255,31.5305,31.2354 ,31.0384,30.8415,30.6436,30.4469, 30.2491,30.0519,29.9535,29.9346,29.9386 ,29.9419,29.9445,29.9483,29.9463, 29.9464,29.9467,30.1441,30.4402,30.6365 ,30.8336,31.1293,31.3266,31.524,31.7208 ,31.9178,32.115,32.3114,32.5077,32.7045 ,32.9025,33.1982,33.3951,33.6908, 33.8874,34.0835,34.2813,34.4773,34.6741 ,34.9693,35.2644,35.46,35.7546,35.9507, 36.2457,36.5399,36.7362,36.934,37.1256, 37.4536,37.6182,37.9459,38.2701,38.4345 ,38.6813,38.9269,39.0912,39.2556, 39.3378,39.3932)
FOOTPRINT_POINT_LONGITUDE = (280.389,280.048,279.805,279.498, 279.028,278.769,278.753,278.731,278.75, 278.765,278.77,278.775,278.786,278.796, 278.807,278.813,278.819,278.825,278.831 ,278.836,278.841,278.848,278.852, 278.857,278.862,278.867,278.871,278.878 ,278.882,278.886,278.89,278.896,278.9, 278.904,278.908,278.913,278.915,278.918 ,278.922,278.924,278.928,278.932, 278.934,278.936,278.938,278.94,278.941, 278.943,278.944,278.944,279.207,279.424 ,279.657,280.168,280.494,280.51,280.518 ,280.516,280.513,280.512,280.51,280.507 ,280.505,280.503,280.502,280.5,280.498, 280.496,280.494,280.493,280.49,280.487, 280.485,280.481,280.479,280.477,280.475 ,280.473,280.47,280.467,280.463,280.461 ,280.457,280.455,280.451,280.447, 280.444,280.441,280.439,280.434,280.432 ,280.427,280.424,280.421,280.417, 280.413,280.41,280.407,280.406,280.389)
ORBIT_NUMBER = 13697
ORBITAL_ECCENTRICITY = 0.574
ORBITAL_INCLINATION = 86.9
ORBITAL_SEMIMAJOR_AXIS = 8815.49
PERIAPSIS_ALTITUDE = 370.38
PERIAPSIS_ARGUMENT_ANGLE = 137.3
PERIAPSIS_TIME = 2014-10-16T06:27:00.000Z
SPACECRAFT_ORIENTATION = (0.0,-1.0,0.0)
^MEX_ORIENTATION_DESC = "MEX_ORIENTATION_DESC.TXT"
SPACECRAFT_POINTING_MODE = NADIR
^MEX_POINTING_DESC = "MEX_POINTING_DESC.TXT"
RIGHT_ASCENSION = -1e+32
DECLINATION = -1e+32
OFFSET_ANGLE = -1e+32
SPACECRAFT_SOLAR_DISTANCE = 2.10029e+08
TARGET_NAME = MARS
/* CAMERA DATA ELEMENTS */
DETECTOR_TEMPERATURE = 18.3705
FOCAL_PLANE_TEMPERATURE = 10.4184
INST_CMPRS_NAME = "DISCRETE COSINE TRANSFORMATION (DCT)"
INST_CMPRS_RATIO = 4.71086
INST_CMPRS_QUALITY = 0
INST_CMPRS_QUANTZ_TBL_ID = 0
INSTRUMENT_TEMPERATURE = 12.8652
LENS_TEMPERATURE = 10.6223
MACROPIXEL_SIZE = 1
MISSING_FRAMES = 0
PIXEL_SUBSAMPLING_FLAG = N
SIGNAL_CHAIN_ID = 2
/* RADIOMETRIC DATA ELEMENTS */
BANDWIDTH = 180.0
CENTER_FILTER_WAVELENGTH = 677.0
RADIANCE_OFFSET = 2.63677
RADIANCE_SCALING_FACTOR = 0.0157663
REFLECTANCE_SCALING_FACTOR = 0.000362854
MEX:REFLECTANCE_OFFSET = 0.0606838
/* IMAGE OBJECT DEFINITIONS */
OBJECT = IMAGE
  INTERCHANGE_FORMAT = BINARY
  LINES = 44643
  LINE_SAMPLES = 6852
  SAMPLE_TYPE = UNSIGNED_INTEGER
  SAMPLE_BITS = 8
  BANDS = 1
  BAND_STORAGE_TYPE = BAND_SEQUENTIAL
  MAXIMUM = 255
  MEAN = 123.151
  MINIMUM = 1
  STANDARD_DEVIATION = 36.1199
END_OBJECT = IMAGE
/* MAP OBJECT DEFINITIONS */
OBJECT = IMAGE_MAP_PROJECTION
  ^DATA_SET_MAP_PROJECTION_CATALOG= "DSMAP.CAT"
  A_AXIS_RADIUS = 3396.0
  B_AXIS_RADIUS = 3396.0
  C_AXIS_RADIUS = 3396.0
  CENTER_LATITUDE = 0.0
  CENTER_LONGITUDE = 280.0
  COORDINATE_SYSTEM_NAME = PLANETOGRAPHIC
  COORDINATE_SYSTEM_TYPE = "BODY-FIXED ROTATING"
  EASTERNMOST_LONGITUDE = 280.518
  FIRST_STANDARD_PARALLEL = "N/A"
  LINE_FIRST_PIXEL = 1
  LINE_LAST_PIXEL = 44643
  LINE_PROJECTION_OFFSET = 186540.0
  MAP_PROJECTION_ROTATION = 0.0
  MAP_PROJECTION_TYPE = SINUSOIDAL
  MAP_RESOLUTION = 4741.71043093333
  MAP_SCALE = 0.0125
  MAXIMUM_LATITUDE = 39.3932
  MINIMUM_LATITUDE = 29.9346
  POSITIVE_LONGITUDE_DIRECTION = EAST
  REFERENCE_LATITUDE = "N/A"
  REFERENCE_LONGITUDE = "N/A"
  SAMPLE_FIRST_PIXEL = 1
  SAMPLE_LAST_PIXEL = 6852
  SAMPLE_PROJECTION_OFFSET = 4666.0
  SECOND_STANDARD_PARALLEL = "N/A"
  WESTERNMOST_LONGITUDE = 278.731
END_OBJECT = IMAGE_MAP_PROJECTION
END
