PDS_VERSION_ID = PDS3
/* FILE DATA ELEMENTS */
RECORD_TYPE = UNDEFINED
/* POINTERS TO DATA OBJECTS */
^IMAGE = ("HD684_0000_S14.TIF")
/* IDENTIFICATION DATA ELEMENTS */
DATA_SET_ID = "MEX-M-HRSC-4-REFDR-MAPPROJECT-EXT4-V4.0"
DATA_SET_NAME = "MARS EXPRESS HRSC MAP PROJECTED REFDR EXTENSION4 V4.0"
DETECTOR_ID = MEX_HRSC_S1
EVENT_TYPE = "MARS-REGIONAL-MAPPING-Vo-Im"
INSTRUMENT_HOST_ID = MEX
INSTRUMENT_HOST_NAME = "MARS EXPRESS"
INSTRUMENT_ID = HRSC
INSTRUMENT_NAME = "HIGH RESOLUTION STEREO CAMERA"
MISSION_NAME = "MARS EXPRESS"
MISSION_PHASE_NAME = ME_Phase_31
PROCESSING_LEVEL_ID = 4
PRODUCT_CREATION_TIME = 2023-02-01T02:09:17.000Z
PRODUCT_ID = "HD684_0000_S14.TIF"
RELEASE_ID = 0005
REVISION_ID = 0000
/* QUALITY DATA ELEMENTS */
DATA_QUALITY_ID = 1
DATA_QUALITY_DESC = "Data calculated based on original SPICE kernels"
/* TIME DATA ELEMENTS */
SPACECRAFT_CLOCK_START_COUNT = "1/0361193746.09043"
SPACECRAFT_CLOCK_STOP_COUNT = "1/0361194076.49249"
START_TIME = 2014-10-12T11:35:51.932Z
STOP_TIME = 2014-10-12T11:39:39.681Z
/* ORBITAL DATA ELEMENTS */
ASCENDING_NODE_LONGITUDE = 316.8
MAXIMUM_RESOLUTION = 0.0328
FOOTPRINT_POINT_LATITUDE = (29.2925,29.2748,29.2542,29.2258,29.225 ,29.171,28.6129,28.1943,27.915,27.636, 27.3565,26.9379,26.6587,26.3791,26.0996 ,25.8203,25.1237,24.7045,24.4251,24.146 ,23.5877,23.3039,23.0185,22.7314, 22.4461,22.0194,21.7291,21.4333,21.14, 20.7005,20.4069,19.9579,19.6574,19.2071 ,18.7511,18.4437,18.1364,17.8291, 17.5178,17.2034,16.8892,16.5753,16.0951 ,15.7742,15.4535,14.9629,14.6353, 14.4718,14.42,14.4306,14.4425,14.4518, 14.4614,14.4617,14.4624,14.9544,15.2842 ,15.6115,15.9362,16.4157,16.8876, 17.2009,17.5164,17.8293,18.1369,18.445, 18.7529,19.2107,19.5115,19.8123,20.1135 ,20.5602,20.8538,21.1478,21.4416, 21.8822,22.169,22.4558,22.7427,23.0292, 23.3161,23.6014,23.8807,24.3008,24.5805 ,24.8599,25.1393,25.4196,25.6995, 26.1191,26.5388,26.8184,27.2377,27.6577 ,27.938,28.2176,28.6371,29.0562,29.1962 ,29.2925)
FOOTPRINT_POINT_LONGITUDE = (169.06,168.592,168.118,167.545,167.53, 167.491,167.5,167.506,167.509,167.513, 167.516,167.52,167.523,167.525,167.527, 167.529,167.534,167.535,167.536,167.537 ,167.538,167.538,167.538,167.537, 167.538,167.538,167.536,167.533,167.532 ,167.53,167.528,167.524,167.522,167.518 ,167.513,167.509,167.506,167.502, 167.498,167.493,167.489,167.484,167.476 ,167.471,167.465,167.456,167.449, 167.446,167.445,167.773,168.201,168.625 ,169.18,169.196,169.202,169.199,169.197 ,169.195,169.192,169.189,169.186, 169.184,169.182,169.18,169.178,169.175, 169.173,169.169,169.167,169.165,169.162 ,169.158,169.156,169.153,169.151, 169.147,169.144,169.141,169.139,169.136 ,169.133,169.13,169.127,169.123,169.12, 169.117,169.114,169.111,169.107,169.103 ,169.098,169.094,169.089,169.084,169.08 ,169.076,169.07,169.065,169.063,169.06)
ORBIT_NUMBER = 13684
ORBITAL_ECCENTRICITY = 0.574
ORBITAL_INCLINATION = 86.91
ORBITAL_SEMIMAJOR_AXIS = 8811.15
PERIAPSIS_ALTITUDE = 369.66
PERIAPSIS_ARGUMENT_ANGLE = 139.55
PERIAPSIS_TIME = 2014-10-12T11:33:32.000Z
SPACECRAFT_ORIENTATION = (0.0,-1.0,0.0)
^MEX_ORIENTATION_DESC = "MEX_ORIENTATION_DESC.TXT"
SPACECRAFT_POINTING_MODE = ACROSSTRACK
^MEX_POINTING_DESC = "MEX_POINTING_DESC.TXT"
RIGHT_ASCENSION = -1e+32
DECLINATION = -1e+32
OFFSET_ANGLE = -0.6
SPACECRAFT_SOLAR_DISTANCE = 2.10476e+08
TARGET_NAME = MARS
/* CAMERA DATA ELEMENTS */
DETECTOR_TEMPERATURE = 17.9627
FOCAL_PLANE_TEMPERATURE = 8.9911
INST_CMPRS_NAME = "DISCRETE COSINE TRANSFORMATION (DCT)"
INST_CMPRS_RATIO = 9.17188
INST_CMPRS_QUALITY = 0
INST_CMPRS_QUANTZ_TBL_ID = 0
INSTRUMENT_TEMPERATURE = 11.6418
LENS_TEMPERATURE = 9.3989
MACROPIXEL_SIZE = 2
MISSING_FRAMES = 0
PIXEL_SUBSAMPLING_FLAG = N
SIGNAL_CHAIN_ID = 1
/* RADIOMETRIC DATA ELEMENTS */
BANDWIDTH = 180.0
CENTER_FILTER_WAVELENGTH = 677.0
RADIANCE_OFFSET = 4.44908
RADIANCE_SCALING_FACTOR = 0.0124996
REFLECTANCE_SCALING_FACTOR = 0.000288895
MEX:REFLECTANCE_OFFSET = 0.102829
/* IMAGE OBJECT DEFINITIONS */
OBJECT = IMAGE
  INTERCHANGE_FORMAT = BINARY
  LINES = 35051
  LINE_SAMPLES = 4263
  SAMPLE_TYPE = UNSIGNED_INTEGER
  SAMPLE_BITS = 8
  BANDS = 1
  BAND_STORAGE_TYPE = BAND_SEQUENTIAL
  MAXIMUM = 255
  MEAN = 106.647
  MINIMUM = 1
  STANDARD_DEVIATION = 34.862
END_OBJECT = IMAGE
/* MAP OBJECT DEFINITIONS */
OBJECT = IMAGE_MAP_PROJECTION
  ^DATA_SET_MAP_PROJECTION_CATALOG= "DSMAP.CAT"
  A_AXIS_RADIUS = 3396.0
  B_AXIS_RADIUS = 3396.0
  C_AXIS_RADIUS = 3396.0
  CENTER_LATITUDE = 0.0
  CENTER_LONGITUDE = 168.0
  COORDINATE_SYSTEM_NAME = PLANETOGRAPHIC
  COORDINATE_SYSTEM_TYPE = "BODY-FIXED ROTATING"
  EASTERNMOST_LONGITUDE = 169.202
  FIRST_STANDARD_PARALLEL = "N/A"
  LINE_FIRST_PIXEL = 1
  LINE_LAST_PIXEL = 35051
  LINE_PROJECTION_OFFSET = 69313.25
  MAP_PROJECTION_ROTATION = 0.0
  MAP_PROJECTION_TYPE = SINUSOIDAL
  MAP_RESOLUTION = 2370.85521546667
  MAP_SCALE = 0.025
  MAXIMUM_LATITUDE = 29.2925
  MINIMUM_LATITUDE = 14.42
  POSITIVE_LONGITUDE_DIRECTION = EAST
  REFERENCE_LATITUDE = "N/A"
  REFERENCE_LONGITUDE = "N/A"
  SAMPLE_FIRST_PIXEL = 1
  SAMPLE_LAST_PIXEL = 4263
  SAMPLE_PROJECTION_OFFSET = 1386.25
  SECOND_STANDARD_PARALLEL = "N/A"
  WESTERNMOST_LONGITUDE = 167.445
END_OBJECT = IMAGE_MAP_PROJECTION
END
