PDS_VERSION_ID = PDS3
/* FILE DATA ELEMENTS */
RECORD_TYPE = UNDEFINED
/* POINTERS TO DATA OBJECTS */
^IMAGE = ("HD683_0009_P14.TIF")
/* IDENTIFICATION DATA ELEMENTS */
DATA_SET_ID = "MEX-M-HRSC-4-REFDR-MAPPROJECT-EXT4-V4.0"
DATA_SET_NAME = "MARS EXPRESS HRSC MAP PROJECTED REFDR EXTENSION4 V4.0"
DETECTOR_ID = MEX_HRSC_P1
EVENT_TYPE = "MARS-REGIONAL-MAPPING-Vo"
INSTRUMENT_HOST_ID = MEX
INSTRUMENT_HOST_NAME = "MARS EXPRESS"
INSTRUMENT_ID = HRSC
INSTRUMENT_NAME = "HIGH RESOLUTION STEREO CAMERA"
MISSION_NAME = "MARS EXPRESS"
MISSION_PHASE_NAME = ME_Phase_31
PROCESSING_LEVEL_ID = 4
PRODUCT_CREATION_TIME = 2023-02-01T02:09:17.000Z
PRODUCT_ID = "HD683_0009_P14.TIF"
RELEASE_ID = 0005
REVISION_ID = 0000
/* QUALITY DATA ELEMENTS */
DATA_QUALITY_ID = 1
DATA_QUALITY_DESC = "Data calculated based on original SPICE kernels"
/* TIME DATA ELEMENTS */
SPACECRAFT_CLOCK_START_COUNT = "1/0361168533.07292"
SPACECRAFT_CLOCK_STOP_COUNT = "1/0361168694.12897"
START_TIME = 2014-10-12T04:35:50.378Z
STOP_TIME = 2014-10-12T04:37:14.864Z
/* ORBITAL DATA ELEMENTS */
ASCENDING_NODE_LONGITUDE = 316.83
MAXIMUM_RESOLUTION = 0.0307
FOOTPRINT_POINT_LATITUDE = (32.0322,32.0304,32.0271,32.0231, 32.0187,32.0162,32.0136,32.0109,32.008, 32.0041,32.0037,31.988,31.8242,31.6603, 31.4965,31.3327,31.2235,31.0595,30.8409 ,30.7317,30.5678,30.404,30.2403,30.0764 ,29.9125,29.7488,29.6397,29.5305, 29.3667,29.203,28.9846,28.8209,28.6572, 28.4935,28.3844,28.2207,28.1116,27.9479 ,27.7844,27.6209,27.512,27.403,27.2395, 27.1303,26.9665,26.8574,26.7483,26.5849 ,26.5305,26.5294,26.5333,26.5352, 26.5374,26.5389,26.5406,26.542,26.5435, 26.5445,26.5453,26.5467,26.5467,26.5473 ,26.7111,26.875,26.9843,27.1482,27.3121 ,27.476,27.64,27.7493,27.9132,28.0772, 28.2411,28.405,28.569,28.733,28.8424, 29.0065,29.1705,29.3346,29.4987,29.6629 ,29.7723,29.9364,30.1005,30.2646, 30.4288,30.5931,30.7026,30.8651,31.027, 31.1389,31.2501,31.4139,31.5781,31.7423 ,31.8519,31.9614,32.0162,32.0322)
FOOTPRINT_POINT_LONGITUDE = (271.736,271.574,271.338,271.087, 270.851,270.732,270.613,270.495,270.375 ,270.226,270.212,270.196,270.199, 270.202,270.205,270.208,270.21,270.212, 270.215,270.217,270.219,270.222,270.224 ,270.226,270.228,270.23,270.231,270.233 ,270.235,270.236,270.238,270.24,270.242 ,270.243,270.244,270.245,270.246, 270.247,270.248,270.25,270.25,270.251, 270.252,270.252,270.253,270.253,270.254 ,270.254,270.255,270.255,270.464, 270.584,270.749,270.868,271.018,271.137 ,271.316,271.435,271.554,271.777, 271.792,271.797,271.796,271.794,271.793 ,271.792,271.79,271.789,271.787,271.786 ,271.785,271.783,271.782,271.78,271.779 ,271.777,271.776,271.774,271.773, 271.771,271.769,271.768,271.767,271.765 ,271.763,271.761,271.76,271.758,271.757 ,271.755,271.754,271.752,271.75,271.749 ,271.747,271.745,271.743,271.742, 271.741,271.736)
ORBIT_NUMBER = 13683
ORBITAL_ECCENTRICITY = 0.574
ORBITAL_INCLINATION = 86.9
ORBITAL_SEMIMAJOR_AXIS = 8821.7
PERIAPSIS_ALTITUDE = 368.78
PERIAPSIS_ARGUMENT_ANGLE = 139.71
PERIAPSIS_TIME = 2014-10-12T04:34:04.000Z
SPACECRAFT_ORIENTATION = (0.0,-1.0,0.0)
^MEX_ORIENTATION_DESC = "MEX_ORIENTATION_DESC.TXT"
SPACECRAFT_POINTING_MODE = ACROSSTRACK
^MEX_POINTING_DESC = "MEX_POINTING_DESC.TXT"
RIGHT_ASCENSION = -1e+32
DECLINATION = -1e+32
OFFSET_ANGLE = -0.2
SPACECRAFT_SOLAR_DISTANCE = 2.10511e+08
TARGET_NAME = MARS
/* CAMERA DATA ELEMENTS */
DETECTOR_TEMPERATURE = 17.5549
FOCAL_PLANE_TEMPERATURE = 9.3989
INST_CMPRS_NAME = "DISCRETE COSINE TRANSFORMATION (DCT)"
INST_CMPRS_RATIO = 6.12173
INST_CMPRS_QUALITY = 0
INST_CMPRS_QUANTZ_TBL_ID = 0
INSTRUMENT_TEMPERATURE = 12.4574
LENS_TEMPERATURE = 9.6028
MACROPIXEL_SIZE = 2
MISSING_FRAMES = 0
PIXEL_SUBSAMPLING_FLAG = N
SIGNAL_CHAIN_ID = 3
/* RADIOMETRIC DATA ELEMENTS */
BANDWIDTH = 174.0
CENTER_FILTER_WAVELENGTH = 675.0
RADIANCE_OFFSET = 2.9747
RADIANCE_SCALING_FACTOR = 0.0174312
REFLECTANCE_SCALING_FACTOR = 0.000415491
MEX:REFLECTANCE_OFFSET = 0.0709051
/* IMAGE OBJECT DEFINITIONS */
OBJECT = IMAGE
  INTERCHANGE_FORMAT = BINARY
  LINES = 12984
  LINE_SAMPLES = 3359
  SAMPLE_TYPE = UNSIGNED_INTEGER
  SAMPLE_BITS = 8
  BANDS = 1
  BAND_STORAGE_TYPE = BAND_SEQUENTIAL
  MAXIMUM = 255
  MEAN = 92.79
  MINIMUM = 1
  STANDARD_DEVIATION = 18.7222
END_OBJECT = IMAGE
/* MAP OBJECT DEFINITIONS */
OBJECT = IMAGE_MAP_PROJECTION
  ^DATA_SET_MAP_PROJECTION_CATALOG= "DSMAP.CAT"
  A_AXIS_RADIUS = 3396.0
  B_AXIS_RADIUS = 3396.0
  C_AXIS_RADIUS = 3396.0
  CENTER_LATITUDE = 0.0
  CENTER_LONGITUDE = 271.0
  COORDINATE_SYSTEM_NAME = PLANETOGRAPHIC
  COORDINATE_SYSTEM_TYPE = "BODY-FIXED ROTATING"
  EASTERNMOST_LONGITUDE = 271.797
  FIRST_STANDARD_PARALLEL = "N/A"
  LINE_FIRST_PIXEL = 1
  LINE_LAST_PIXEL = 12984
  LINE_PROJECTION_OFFSET = 75871.75
  MAP_PROJECTION_ROTATION = 0.0
  MAP_PROJECTION_TYPE = SINUSOIDAL
  MAP_RESOLUTION = 2370.85521546667
  MAP_SCALE = 0.025
  MAXIMUM_LATITUDE = 32.0322
  MINIMUM_LATITUDE = 26.5294
  POSITIVE_LONGITUDE_DIRECTION = EAST
  REFERENCE_LATITUDE = "N/A"
  REFERENCE_LONGITUDE = "N/A"
  SAMPLE_FIRST_PIXEL = 1
  SAMPLE_LAST_PIXEL = 3359
  SAMPLE_PROJECTION_OFFSET = 1637.75
  SECOND_STANDARD_PARALLEL = "N/A"
  WESTERNMOST_LONGITUDE = 270.196
END_OBJECT = IMAGE_MAP_PROJECTION
END
