PDS_VERSION_ID = PDS3
/* FILE DATA ELEMENTS */
RECORD_TYPE = UNDEFINED
/* POINTERS TO DATA OBJECTS */
^IMAGE = ("HD681_0000_S14.TIF")
/* IDENTIFICATION DATA ELEMENTS */
DATA_SET_ID = "MEX-M-HRSC-4-REFDR-MAPPROJECT-EXT4-V4.0"
DATA_SET_NAME = "MARS EXPRESS HRSC MAP PROJECTED REFDR EXTENSION4 V4.0"
DETECTOR_ID = MEX_HRSC_S1
EVENT_TYPE = "MARS-REGIONAL-MAPPING-Vo-Lc-Mw"
INSTRUMENT_HOST_ID = MEX
INSTRUMENT_HOST_NAME = "MARS EXPRESS"
INSTRUMENT_ID = HRSC
INSTRUMENT_NAME = "HIGH RESOLUTION STEREO CAMERA"
MISSION_NAME = "MARS EXPRESS"
MISSION_PHASE_NAME = ME_Phase_31
PROCESSING_LEVEL_ID = 4
PRODUCT_CREATION_TIME = 2023-02-01T02:09:17.000Z
PRODUCT_ID = "HD681_0000_S14.TIF"
RELEASE_ID = 0005
REVISION_ID = 0000
/* QUALITY DATA ELEMENTS */
DATA_QUALITY_ID = 1
DATA_QUALITY_DESC = "Data calculated based on original SPICE kernels"
/* TIME DATA ELEMENTS */
SPACECRAFT_CLOCK_START_COUNT = "1/0361118210.09052"
SPACECRAFT_CLOCK_STOP_COUNT = "1/0361118455.46404"
START_TIME = 2014-10-11T14:36:55.891Z
STOP_TIME = 2014-10-11T14:39:34.016Z
/* ORBITAL DATA ELEMENTS */
ASCENDING_NODE_LONGITUDE = 316.86
MAXIMUM_RESOLUTION = 0.0324
FOOTPRINT_POINT_LATITUDE = (30.34,30.3301,30.3176,30.2992,30.2987, 30.241,29.8345,29.5296,29.1229,28.9194, 28.6142,28.4104,28.105,27.9014,27.5961, 27.3926,27.1892,26.9854,26.7817,26.5783 ,26.3748,26.1713,25.8658,25.662,25.3566 ,24.9496,24.7462,24.5425,24.2375, 23.8309,23.526,23.0182,22.8145,22.6111, 22.2985,22.09,21.7769,21.5682,21.3598, 21.1469,20.8307,20.6171,20.4031,20.0824 ,19.9754,19.955,19.9608,19.9681,19.9718 ,19.9756,19.9785,19.9802,19.9803, 19.9808,20.1949,20.4089,20.6232,20.8372 ,21.0503,21.3676,21.5765,21.7855, 22.0988,22.3079,22.5166,22.7231,23.0284 ,23.2321,23.4356,23.6393,23.9448, 24.1487,24.3526,24.5563,24.7605,24.9644 ,25.1683,25.3718,25.5757,25.8815, 26.0854,26.3914,26.5954,26.9011,27.1051 ,27.4111,27.7173,28.023,28.2269,28.4306 ,28.6344,28.9401,29.144,29.3477,29.5515 ,29.7551,29.9589,30.1627,30.2645,30.34)
FOOTPRINT_POINT_LONGITUDE = (116.153,115.688,115.22,114.659,114.644 ,114.611,114.617,114.622,114.627, 114.629,114.633,114.635,114.638,114.64, 114.643,114.644,114.646,114.647,114.648 ,114.65,114.651,114.652,114.653,114.654 ,114.655,114.655,114.656,114.656, 114.656,114.656,114.656,114.655,114.654 ,114.653,114.652,114.651,114.649, 114.648,114.647,114.645,114.643,114.641 ,114.639,114.636,114.635,114.635, 114.887,115.263,115.482,115.747,115.995 ,116.227,116.242,116.248,116.247, 116.245,116.244,116.243,116.242,116.24, 116.238,116.237,116.235,116.233,116.232 ,116.231,116.229,116.227,116.226, 116.224,116.222,116.22,116.219,116.217, 116.216,116.214,116.212,116.211,116.209 ,116.207,116.205,116.202,116.201, 116.198,116.196,116.193,116.19,116.187, 116.186,116.184,116.182,116.178,116.176 ,116.174,116.172,116.17,116.168,116.166 ,116.164,116.153)
ORBIT_NUMBER = 13681
ORBITAL_ECCENTRICITY = 0.574
ORBITAL_INCLINATION = 86.9
ORBITAL_SEMIMAJOR_AXIS = 8821.36
PERIAPSIS_ALTITUDE = 368.46
PERIAPSIS_ARGUMENT_ANGLE = 140.05
PERIAPSIS_TIME = 2014-10-11T14:35:00.000Z
SPACECRAFT_ORIENTATION = (0.0,-1.0,0.0)
^MEX_ORIENTATION_DESC = "MEX_ORIENTATION_DESC.TXT"
SPACECRAFT_POINTING_MODE = ACROSSTRACK
^MEX_POINTING_DESC = "MEX_POINTING_DESC.TXT"
RIGHT_ASCENSION = -1e+32
DECLINATION = -1e+32
OFFSET_ANGLE = -0.3
SPACECRAFT_SOLAR_DISTANCE = 2.10582e+08
TARGET_NAME = MARS
/* CAMERA DATA ELEMENTS */
DETECTOR_TEMPERATURE = 17.7588
FOCAL_PLANE_TEMPERATURE = 8.7872
INST_CMPRS_NAME = "DISCRETE COSINE TRANSFORMATION (DCT)"
INST_CMPRS_RATIO = 10.8688
INST_CMPRS_QUALITY = 0
INST_CMPRS_QUANTZ_TBL_ID = 0
INSTRUMENT_TEMPERATURE = 11.6418
LENS_TEMPERATURE = 7.9716
MACROPIXEL_SIZE = 2
MISSING_FRAMES = 1
PIXEL_SUBSAMPLING_FLAG = N
SIGNAL_CHAIN_ID = 1
/* RADIOMETRIC DATA ELEMENTS */
BANDWIDTH = 180.0
CENTER_FILTER_WAVELENGTH = 677.0
RADIANCE_OFFSET = 4.495
RADIANCE_SCALING_FACTOR = 0.00954819
REFLECTANCE_SCALING_FACTOR = 0.000220905
MEX:REFLECTANCE_OFFSET = 0.103995
/* IMAGE OBJECT DEFINITIONS */
OBJECT = IMAGE
  INTERCHANGE_FORMAT = BINARY
  LINES = 24449
  LINE_SAMPLES = 3747
  SAMPLE_TYPE = UNSIGNED_INTEGER
  SAMPLE_BITS = 8
  BANDS = 1
  BAND_STORAGE_TYPE = BAND_SEQUENTIAL
  MAXIMUM = 255
  MEAN = 109.929
  MINIMUM = 1
  STANDARD_DEVIATION = 36.9712
END_OBJECT = IMAGE
/* MAP OBJECT DEFINITIONS */
OBJECT = IMAGE_MAP_PROJECTION
  ^DATA_SET_MAP_PROJECTION_CATALOG= "DSMAP.CAT"
  A_AXIS_RADIUS = 3396.0
  B_AXIS_RADIUS = 3396.0
  C_AXIS_RADIUS = 3396.0
  CENTER_LATITUDE = 0.0
  CENTER_LONGITUDE = 115.0
  COORDINATE_SYSTEM_NAME = PLANETOGRAPHIC
  COORDINATE_SYSTEM_TYPE = "BODY-FIXED ROTATING"
  EASTERNMOST_LONGITUDE = 116.248
  FIRST_STANDARD_PARALLEL = "N/A"
  LINE_FIRST_PIXEL = 1
  LINE_LAST_PIXEL = 24449
  LINE_PROJECTION_OFFSET = 71826.25
  MAP_PROJECTION_ROTATION = 0.0
  MAP_PROJECTION_TYPE = SINUSOIDAL
  MAP_RESOLUTION = 2370.85521546667
  MAP_SCALE = 0.025
  MAXIMUM_LATITUDE = 30.34
  MINIMUM_LATITUDE = 19.955
  POSITIVE_LONGITUDE_DIRECTION = EAST
  REFERENCE_LATITUDE = "N/A"
  REFERENCE_LONGITUDE = "N/A"
  SAMPLE_FIRST_PIXEL = 1
  SAMPLE_LAST_PIXEL = 3747
  SAMPLE_PROJECTION_OFFSET = 892.75
  SECOND_STANDARD_PARALLEL = "N/A"
  WESTERNMOST_LONGITUDE = 114.611
END_OBJECT = IMAGE_MAP_PROJECTION
END
