PDS_VERSION_ID = PDS3
/* FILE DATA ELEMENTS */
RECORD_TYPE = UNDEFINED
/* POINTERS TO DATA OBJECTS */
^IMAGE = ("HD681_0000_P14.TIF")
/* IDENTIFICATION DATA ELEMENTS */
DATA_SET_ID = "MEX-M-HRSC-4-REFDR-MAPPROJECT-EXT4-V4.0"
DATA_SET_NAME = "MARS EXPRESS HRSC MAP PROJECTED REFDR EXTENSION4 V4.0"
DETECTOR_ID = MEX_HRSC_P1
EVENT_TYPE = "MARS-REGIONAL-MAPPING-Vo-Lc-Mw"
INSTRUMENT_HOST_ID = MEX
INSTRUMENT_HOST_NAME = "MARS EXPRESS"
INSTRUMENT_ID = HRSC
INSTRUMENT_NAME = "HIGH RESOLUTION STEREO CAMERA"
MISSION_NAME = "MARS EXPRESS"
MISSION_PHASE_NAME = ME_Phase_31
PROCESSING_LEVEL_ID = 4
PRODUCT_CREATION_TIME = 2023-02-01T02:09:17.000Z
PRODUCT_ID = "HD681_0000_P14.TIF"
RELEASE_ID = 0005
REVISION_ID = 0000
/* QUALITY DATA ELEMENTS */
DATA_QUALITY_ID = 1
DATA_QUALITY_DESC = "Data calculated based on original SPICE kernels"
/* TIME DATA ELEMENTS */
SPACECRAFT_CLOCK_START_COUNT = "1/0361118210.09052"
SPACECRAFT_CLOCK_STOP_COUNT = "1/0361118455.46404"
START_TIME = 2014-10-11T14:37:07.573Z
STOP_TIME = 2014-10-11T14:39:47.567Z
/* ORBITAL DATA ELEMENTS */
ASCENDING_NODE_LONGITUDE = 316.86
MAXIMUM_RESOLUTION = 0.0315
FOOTPRINT_POINT_LATITUDE = (30.3193,30.3084,30.3034,30.2977, 30.2877,30.2873,30.2496,30.0465,29.8434 ,29.6402,29.4372,29.2341,28.9296, 28.7265,28.4218,28.2187,27.9142,27.7112 ,27.407,27.2041,27.0012,26.7984,26.5956 ,26.3931,26.1905,25.8865,25.6838,25.38, 25.0764,24.5706,24.1663,23.7625,23.4598 ,23.1475,22.839,22.5284,22.3214,22.1145 ,21.8039,21.5917,21.3796,21.1677, 20.9558,20.7441,20.5283,20.3147,20.0978 ,19.9893,19.9533,19.959,19.9624,19.965, 19.967,19.9687,19.9688,19.9693,20.2951, 20.6159,20.9382,21.1504,21.3627,21.575, 21.8924,22.0996,22.4103,22.6177,22.825, 23.0326,23.3439,23.7509,24.0545,24.4595 ,24.6621,24.8649,25.0676,25.2701, 25.4729,25.6758,25.8786,26.0816,26.3861 ,26.5892,26.7921,26.9953,27.1985, 27.4018,27.6051,27.8083,28.0117,28.3166 ,28.52,28.7233,29.0285,29.3336,29.5371, 29.7405,29.9441,30.1476,30.2494, 30.3193)
FOOTPRINT_POINT_LONGITUDE = (116.156,115.498,115.263,115.027, 114.656,114.641,114.608,114.611,114.613 ,114.616,114.619,114.621,114.625, 114.627,114.63,114.632,114.635,114.637, 114.639,114.64,114.642,114.643,114.644, 114.645,114.646,114.647,114.648,114.648 ,114.649,114.649,114.649,114.649, 114.648,114.646,114.646,114.645,114.644 ,114.643,114.641,114.639,114.638, 114.636,114.635,114.633,114.631,114.629 ,114.627,114.626,114.625,115.007, 115.292,115.545,115.813,116.236,116.252 ,116.258,116.255,116.253,116.251,116.25 ,116.248,116.247,116.244,116.243, 116.241,116.239,116.238,116.236,116.234 ,116.23,116.228,116.225,116.223,116.221 ,116.219,116.218,116.216,116.214, 116.212,116.211,116.208,116.206,116.204 ,116.202,116.2,116.198,116.196,116.194, 116.192,116.189,116.187,116.185,116.181 ,116.178,116.176,116.173,116.171, 116.169,116.168,116.156)
ORBIT_NUMBER = 13681
ORBITAL_ECCENTRICITY = 0.574
ORBITAL_INCLINATION = 86.9
ORBITAL_SEMIMAJOR_AXIS = 8821.36
PERIAPSIS_ALTITUDE = 368.46
PERIAPSIS_ARGUMENT_ANGLE = 140.05
PERIAPSIS_TIME = 2014-10-11T14:35:00.000Z
SPACECRAFT_ORIENTATION = (0.0,-1.0,0.0)
^MEX_ORIENTATION_DESC = "MEX_ORIENTATION_DESC.TXT"
SPACECRAFT_POINTING_MODE = ACROSSTRACK
^MEX_POINTING_DESC = "MEX_POINTING_DESC.TXT"
RIGHT_ASCENSION = -1e+32
DECLINATION = -1e+32
OFFSET_ANGLE = -0.3
SPACECRAFT_SOLAR_DISTANCE = 2.10582e+08
TARGET_NAME = MARS
/* CAMERA DATA ELEMENTS */
DETECTOR_TEMPERATURE = 17.7588
FOCAL_PLANE_TEMPERATURE = 8.7872
INST_CMPRS_NAME = "DISCRETE COSINE TRANSFORMATION (DCT)"
INST_CMPRS_RATIO = 11.1894
INST_CMPRS_QUALITY = 0
INST_CMPRS_QUANTZ_TBL_ID = 0
INSTRUMENT_TEMPERATURE = 11.6418
LENS_TEMPERATURE = 7.9716
MACROPIXEL_SIZE = 2
MISSING_FRAMES = 1
PIXEL_SUBSAMPLING_FLAG = N
SIGNAL_CHAIN_ID = 3
/* RADIOMETRIC DATA ELEMENTS */
BANDWIDTH = 174.0
CENTER_FILTER_WAVELENGTH = 675.0
RADIANCE_OFFSET = 4.11163
RADIANCE_SCALING_FACTOR = 0.0088062
REFLECTANCE_SCALING_FACTOR = 0.000210046
MEX:REFLECTANCE_OFFSET = 0.098071
/* IMAGE OBJECT DEFINITIONS */
OBJECT = IMAGE
  INTERCHANGE_FORMAT = BINARY
  LINES = 24449
  LINE_SAMPLES = 3747
  SAMPLE_TYPE = UNSIGNED_INTEGER
  SAMPLE_BITS = 8
  BANDS = 1
  BAND_STORAGE_TYPE = BAND_SEQUENTIAL
  MAXIMUM = 255
  MEAN = 108.207
  MINIMUM = 1
  STANDARD_DEVIATION = 36.3045
END_OBJECT = IMAGE
/* MAP OBJECT DEFINITIONS */
OBJECT = IMAGE_MAP_PROJECTION
  ^DATA_SET_MAP_PROJECTION_CATALOG= "DSMAP.CAT"
  A_AXIS_RADIUS = 3396.0
  B_AXIS_RADIUS = 3396.0
  C_AXIS_RADIUS = 3396.0
  CENTER_LATITUDE = 0.0
  CENTER_LONGITUDE = 115.0
  COORDINATE_SYSTEM_NAME = PLANETOGRAPHIC
  COORDINATE_SYSTEM_TYPE = "BODY-FIXED ROTATING"
  EASTERNMOST_LONGITUDE = 116.258
  FIRST_STANDARD_PARALLEL = "N/A"
  LINE_FIRST_PIXEL = 1
  LINE_LAST_PIXEL = 24449
  LINE_PROJECTION_OFFSET = 71826.25
  MAP_PROJECTION_ROTATION = 0.0
  MAP_PROJECTION_TYPE = SINUSOIDAL
  MAP_RESOLUTION = 2370.85521546667
  MAP_SCALE = 0.025
  MAXIMUM_LATITUDE = 30.3193
  MINIMUM_LATITUDE = 19.9533
  POSITIVE_LONGITUDE_DIRECTION = EAST
  REFERENCE_LATITUDE = "N/A"
  REFERENCE_LONGITUDE = "N/A"
  SAMPLE_FIRST_PIXEL = 1
  SAMPLE_LAST_PIXEL = 3747
  SAMPLE_PROJECTION_OFFSET = 892.75
  SECOND_STANDARD_PARALLEL = "N/A"
  WESTERNMOST_LONGITUDE = 114.608
END_OBJECT = IMAGE_MAP_PROJECTION
END
